{"text_format":"1","workbook":"xlsx","n_sheets":13,"sheets":["Дашборд","KPI","Сегодня","Шаблон","База заказов","Добавить заказ","Добавить сотрудника","Сотрудники","План KPI","data","today","pivot table","Расчеты"],"not_rendered":{"charts":10,"images":20,"macros":1,"external_links":0,"defined_names":9,"comments":1,"pivot_tables":16},"unopened":[],"bounds":{"document_bytes":16777216,"sheet_cells":100000,"rows_first":2000,"rows_last":500,"rows_between":2000,"halvings":0,"cell_chars":16384,"cell_head_chars":4096},"cells_cut":0,"cells_raw":0,"read":"whole","date_system":"1900"}

{"sheet":"Дашборд","index":0,"n_rows":0,"n_cols":0,"rows_kept":0,"cut":false,"hidden":false,"merged":[]}

{"sheet":"KPI","index":1,"n_rows":26,"n_cols":24,"rows_kept":26,"cut":false,"hidden":false,"merged":[]}
[]
[]
[]
[]
[]
[]
[null,null,null,null,null,null,null,null,{"$f":"IFERROR(INDEX(Сотрудники!$A$3:$A$40,SMALL(IF((Сотрудники!$H$3:$H$40=TRUE)*(Сотрудники!$D$3:$D$40=\"Мастер\"),ROW($E$1:$E$26)),ROW(E1))),\"\")","v":"Белозеров В."},null,null,{"$f":"IFERROR(INDEX(Таблица57[[2019]:[2021]],MATCH(I7,Таблица57[ФИО],0),MATCH(TEXT(Расчеты!$D$2,\"ГГГГ\"),Таблица57[[#Headers],[2019]:[2021]],0)),\"\")","v":15000},null,{"$f":"Расчеты!I3","v":6},null,{"$f":"IFERROR(VLOOKUP(I7,'pivot table'!AH:AI,2,FALSE),\"\")","v":5},null,{"$f":"IFERROR(P7/$N$7,\"\")","v":0.83333333333333337},null,{"$f":"IFERROR(VLOOKUP(I7,Расчеты!S:T,2,FALSE),\"\")","v":15000}]
[null,null,null,null,null,null,null,null,{"$f":"IFERROR(INDEX(Сотрудники!$A$3:$A$40,SMALL(IF((Сотрудники!$H$3:$H$40=TRUE)*(Сотрудники!$D$3:$D$40=\"Мастер\"),ROW($E$1:$E$26)),ROW(E2))),\"\")","v":"Белоусов В."},null,null,{"$f":"IFERROR(INDEX(Таблица57[[2019]:[2021]],MATCH(I8,Таблица57[ФИО],0),MATCH(TEXT(Расчеты!$D$2,\"ГГГГ\"),Таблица57[[#Headers],[2019]:[2021]],0)),\"\")","v":15000},null,null,null,{"$f":"IFERROR(VLOOKUP(I8,'pivot table'!AH:AI,2,FALSE),\"\")","v":3},null,{"$f":"IFERROR(P8/$N$7,\"\")","v":0.5},null,{"$f":"IFERROR(VLOOKUP(I8,Расчеты!S:T,2,FALSE),\"\")","v":15000}]
[null,null,null,null,null,null,null,null,{"$f":"IFERROR(INDEX(Сотрудники!$A$3:$A$40,SMALL(IF((Сотрудники!$H$3:$H$40=TRUE)*(Сотрудники!$D$3:$D$40=\"Мастер\"),ROW($E$1:$E$26)),ROW(E3))),\"\")","v":"Беспалов Г."},null,null,{"$f":"IFERROR(INDEX(Таблица57[[2019]:[2021]],MATCH(I9,Таблица57[ФИО],0),MATCH(TEXT(Расчеты!$D$2,\"ГГГГ\"),Таблица57[[#Headers],[2019]:[2021]],0)),\"\")","v":15000},null,null,null,{"$f":"IFERROR(VLOOKUP(I9,'pivot table'!AH:AI,2,FALSE),\"\")","v":2},null,0.33333333333333331,null,{"$f":"IFERROR(VLOOKUP(I9,Расчеты!S:T,2,FALSE),\"\")","v":15000}]
[null,null,null,null,null,null,null,null,{"$f":"IFERROR(INDEX(Сотрудники!$A$3:$A$40,SMALL(IF((Сотрудники!$H$3:$H$40=TRUE)*(Сотрудники!$D$3:$D$40=\"Мастер\"),ROW($E$1:$E$26)),ROW(E4))),\"\")","v":"Минин В."},null,null,{"$f":"IFERROR(INDEX(Таблица57[[2019]:[2021]],MATCH(I10,Таблица57[ФИО],0),MATCH(TEXT(Расчеты!$D$2,\"ГГГГ\"),Таблица57[[#Headers],[2019]:[2021]],0)),\"\")","v":15000},null,null,null,{"$f":"IFERROR(VLOOKUP(I10,'pivot table'!AH:AI,2,FALSE),\"\")","v":4},null,0.66666666666666663,null,{"$f":"IFERROR(VLOOKUP(I10,Расчеты!S:T,2,FALSE),\"\")","v":15000}]
[null,null,null,null,null,null,null,null,{"$f":"IFERROR(INDEX(Сотрудники!$A$3:$A$40,SMALL(IF((Сотрудники!$H$3:$H$40=TRUE)*(Сотрудники!$D$3:$D$40=\"Мастер\"),ROW($E$1:$E$26)),ROW(E5))),\"\")","v":"Субботин С."},null,null,{"$f":"IFERROR(INDEX(Таблица57[[2019]:[2021]],MATCH(I11,Таблица57[ФИО],0),MATCH(TEXT(Расчеты!$D$2,\"ГГГГ\"),Таблица57[[#Headers],[2019]:[2021]],0)),\"\")","v":15000},null,null,null,{"$f":"IFERROR(VLOOKUP(I11,'pivot table'!AH:AI,2,FALSE),\"\")","v":3},null,0.5,null,{"$f":"IFERROR(VLOOKUP(I11,Расчеты!S:T,2,FALSE),\"\")","v":15000}]
[null,null,null,null,null,null,null,null,{"$f":"IFERROR(INDEX(Сотрудники!$A$3:$A$40,SMALL(IF((Сотрудники!$H$3:$H$40=TRUE)*(Сотрудники!$D$3:$D$40=\"Мастер\"),ROW($E$1:$E$26)),ROW(E6))),\"\")","v":"Устинов С."},null,null,{"$f":"IFERROR(INDEX(Таблица57[[2019]:[2021]],MATCH(I12,Таблица57[ФИО],0),MATCH(TEXT(Расчеты!$D$2,\"ГГГГ\"),Таблица57[[#Headers],[2019]:[2021]],0)),\"\")","v":12000},null,null,null,{"$f":"IFERROR(VLOOKUP(I12,'pivot table'!AH:AI,2,FALSE),\"\")","v":4},null,0.66666666666666663,null,{"$f":"IFERROR(VLOOKUP(I12,Расчеты!S:T,2,FALSE),\"\")","v":12000}]
[null,null,null,null,null,null,null,null,{"$f":"IFERROR(INDEX(Сотрудники!$A$3:$A$40,SMALL(IF((Сотрудники!$H$3:$H$40=TRUE)*(Сотрудники!$D$3:$D$40=\"Мастер\"),ROW($E$1:$E$26)),ROW(E7))),\"\")","v":"Шарапов В."},null,null,{"$f":"IFERROR(INDEX(Таблица57[[2019]:[2021]],MATCH(I13,Таблица57[ФИО],0),MATCH(TEXT(Расчеты!$D$2,\"ГГГГ\"),Таблица57[[#Headers],[2019]:[2021]],0)),\"\")","v":18000},null,null,null,{"$f":"IFERROR(VLOOKUP(I13,'pivot table'!AH:AI,2,FALSE),\"\")","v":6},null,1,null,{"$f":"IFERROR(VLOOKUP(I13,Расчеты!S:T,2,FALSE),\"\")","v":23000}]
[null,null,null,null,null,null,null,null,{"$f":"IFERROR(INDEX(Сотрудники!$A$3:$A$40,SMALL(IF((Сотрудники!$H$3:$H$40=TRUE)*(Сотрудники!$D$3:$D$40=\"Мастер\"),ROW($E$1:$E$26)),ROW(E8))),\"\")","v":""},null,null,{"$f":"IFERROR(INDEX(Таблица57[[2019]:[2021]],MATCH(I14,Таблица57[ФИО],0),MATCH(TEXT(Расчеты!$D$2,\"ГГГГ\"),Таблица57[[#Headers],[2019]:[2021]],0)),\"\")","v":""},null,null,null,{"$f":"IFERROR(VLOOKUP(I14,'pivot table'!AH:AI,2,FALSE),\"\")","v":""},null,"",null,{"$f":"IFERROR(VLOOKUP(I14,Расчеты!S:T,2,FALSE),\"\")","v":""}]
[null,null,null,null,null,null,null,null,{"$f":"IFERROR(INDEX(Сотрудники!$A$3:$A$40,SMALL(IF((Сотрудники!$H$3:$H$40=TRUE)*(Сотрудники!$D$3:$D$40=\"Мастер\"),ROW($E$1:$E$26)),ROW(E9))),\"\")","v":""},null,null,{"$f":"IFERROR(INDEX(Таблица57[[2019]:[2021]],MATCH(I15,Таблица57[ФИО],0),MATCH(TEXT(Расчеты!$D$2,\"ГГГГ\"),Таблица57[[#Headers],[2019]:[2021]],0)),\"\")","v":""},null,null,null,{"$f":"IFERROR(VLOOKUP(I15,'pivot table'!AH:AI,2,FALSE),\"\")","v":""},null,"",null,{"$f":"IFERROR(VLOOKUP(I15,Расчеты!S:T,2,FALSE),\"\")","v":""}]
[null,null,null,null,null,null,null,null,{"$f":"IFERROR(INDEX(Сотрудники!$A$3:$A$40,SMALL(IF((Сотрудники!$H$3:$H$40=TRUE)*(Сотрудники!$D$3:$D$40=\"Мастер\"),ROW($E$1:$E$26)),ROW(E10))),\"\")","v":""},null,null,{"$f":"IFERROR(INDEX(Таблица57[[2019]:[2021]],MATCH(I16,Таблица57[ФИО],0),MATCH(TEXT(Расчеты!$D$2,\"ГГГГ\"),Таблица57[[#Headers],[2019]:[2021]],0)),\"\")","v":""},null,null,null,{"$f":"IFERROR(VLOOKUP(I16,'pivot table'!AH:AI,2,FALSE),\"\")","v":""},null,{"$f":"IFERROR(P16/$N$7,\"\")","v":""},null,{"$f":"IFERROR(VLOOKUP(I16,Расчеты!S:T,2,FALSE),\"\")","v":""}]
[null,null,null,null,null,null,null,null,{"$f":"IFERROR(INDEX(Сотрудники!$A$3:$A$40,SMALL(IF((Сотрудники!$H$3:$H$40=TRUE)*(Сотрудники!$D$3:$D$40=\"Мастер\"),ROW($E$1:$E$26)),ROW(E11))),\"\")","v":""}]
[]
[null,null,null,null,null,null,null,null,{"$f":"IFERROR(INDEX(Сотрудники!$A$3:$A$40,SMALL(IF((Сотрудники!$H$3:$H$40=TRUE)*(Сотрудники!$D$3:$D$40=\"Менеджер\"),ROW($E$1:$E$26)),ROW(E1))),\"\")","v":"Гончарова Н."},null,null,{"$f":"IFERROR(INDEX(Таблица57[[2019]:[2021]],MATCH(I19,Таблица57[ФИО],0),MATCH(TEXT(Расчеты!$D$2,\"ГГГГ\"),Таблица57[[#Headers],[2019]:[2021]],0)),\"\")","v":18000},null,{"$f":"Расчеты!I2","v":230000},null,{"$f":"IFERROR(VLOOKUP(I19,'pivot table'!AH:AI,2,FALSE),\"\")","v":100200},null,{"$f":"IFERROR(P19/$N$19,\"\")","v":0.43565217391304351},null,{"$f":"IFERROR(VLOOKUP(I19,Расчеты!S:T,2,FALSE),\"\")","v":18000}]
[null,null,null,null,null,null,null,null,{"$f":"IFERROR(INDEX(Сотрудники!$A$3:$A$40,SMALL(IF((Сотрудники!$H$3:$H$40=TRUE)*(Сотрудники!$D$3:$D$40=\"Менеджер\"),ROW($E$1:$E$26)),ROW(E2))),\"\")","v":"Иванов И."},null,null,{"$f":"IFERROR(INDEX(Таблица57[[2019]:[2021]],MATCH(I20,Таблица57[ФИО],0),MATCH(TEXT(Расчеты!$D$2,\"ГГГГ\"),Таблица57[[#Headers],[2019]:[2021]],0)),\"\")","v":18000},null,null,null,{"$f":"IFERROR(VLOOKUP(I20,'pivot table'!AH:AI,2,FALSE),\"\")","v":88500},null,{"$f":"IFERROR(P20/$N$19,\"\")","v":0.38478260869565217},null,{"$f":"IFERROR(VLOOKUP(I20,Расчеты!S:T,2,FALSE),\"\")","v":18000}]
[null,null,null,null,null,null,null,null,{"$f":"IFERROR(INDEX(Сотрудники!$A$3:$A$40,SMALL(IF((Сотрудники!$H$3:$H$40=TRUE)*(Сотрудники!$D$3:$D$40=\"Менеджер\"),ROW($E$1:$E$26)),ROW(E3))),\"\")","v":"Мишин М."},null,null,{"$f":"IFERROR(INDEX(Таблица57[[2019]:[2021]],MATCH(I21,Таблица57[ФИО],0),MATCH(TEXT(Расчеты!$D$2,\"ГГГГ\"),Таблица57[[#Headers],[2019]:[2021]],0)),\"\")","v":18000},null,null,null,{"$f":"IFERROR(VLOOKUP(I21,'pivot table'!AH:AI,2,FALSE),\"\")","v":182685},null,0.79428260869565215,null,{"$f":"IFERROR(VLOOKUP(I21,Расчеты!S:T,2,FALSE),\"\")","v":18000},null,null,{"$f":"Расчеты!B3","v":"18 ноя"},{"$f":"Расчеты!A3","v":"Субботин С."}]
[null,null,null,null,null,null,null,null,{"$f":"IFERROR(INDEX(Сотрудники!$A$3:$A$40,SMALL(IF((Сотрудники!$H$3:$H$40=TRUE)*(Сотрудники!$D$3:$D$40=\"Менеджер\"),ROW($E$1:$E$26)),ROW(E4))),\"\")","v":"Петров В."},null,null,{"$f":"IFERROR(INDEX(Таблица57[[2019]:[2021]],MATCH(I22,Таблица57[ФИО],0),MATCH(TEXT(Расчеты!$D$2,\"ГГГГ\"),Таблица57[[#Headers],[2019]:[2021]],0)),\"\")","v":18000},null,null,null,{"$f":"IFERROR(VLOOKUP(I22,'pivot table'!AH:AI,2,FALSE),\"\")","v":202250},null,0.8793478260869565,null,{"$f":"IFERROR(VLOOKUP(I22,Расчеты!S:T,2,FALSE),\"\")","v":18000},null,null,{"$f":"Расчеты!B4","v":""},{"$f":"Расчеты!A4","v":""}]
[null,null,null,null,null,null,null,null,{"$f":"IFERROR(INDEX(Сотрудники!$A$3:$A$40,SMALL(IF((Сотрудники!$H$3:$H$40=TRUE)*(Сотрудники!$D$3:$D$40=\"Менеджер\"),ROW($E$1:$E$26)),ROW(E5))),\"\")","v":""},null,null,{"$f":"IFERROR(INDEX(Таблица57[[2019]:[2021]],MATCH(I23,Таблица57[ФИО],0),MATCH(TEXT(Расчеты!$D$2,\"ГГГГ\"),Таблица57[[#Headers],[2019]:[2021]],0)),\"\")","v":""},null,null,null,{"$f":"IFERROR(VLOOKUP(I23,'pivot table'!AH:AI,2,FALSE),\"\")","v":""},null,"",null,{"$f":"IFERROR(VLOOKUP(I23,Расчеты!S:T,2,FALSE),\"\")","v":""},null,null,{"$f":"Расчеты!B5","v":""},{"$f":"Расчеты!A5","v":""}]
[null,null,null,null,null,null,null,null,{"$f":"IFERROR(INDEX(Сотрудники!$A$3:$A$40,SMALL(IF((Сотрудники!$H$3:$H$40=TRUE)*(Сотрудники!$D$3:$D$40=\"Менеджер\"),ROW($E$1:$E$26)),ROW(E6))),\"\")","v":""},null,null,{"$f":"IFERROR(INDEX(Таблица57[[2019]:[2021]],MATCH(I24,Таблица57[ФИО],0),MATCH(TEXT(Расчеты!$D$2,\"ГГГГ\"),Таблица57[[#Headers],[2019]:[2021]],0)),\"\")","v":""},null,null,null,{"$f":"IFERROR(VLOOKUP(I24,'pivot table'!AH:AI,2,FALSE),\"\")","v":""},null,"",null,{"$f":"IFERROR(VLOOKUP(I24,Расчеты!S:T,2,FALSE),\"\")","v":""},null,null,{"$f":"Расчеты!B6","v":""},{"$f":"Расчеты!A6","v":""}]
[null,null,null,null,null,null,null,null,{"$f":"IFERROR(INDEX(Сотрудники!$A$3:$A$40,SMALL(IF((Сотрудники!$H$3:$H$40=TRUE)*(Сотрудники!$D$3:$D$40=\"Менеджер\"),ROW($E$1:$E$26)),ROW(E7))),\"\")","v":""},null,null,{"$f":"IFERROR(INDEX(Таблица57[[2019]:[2021]],MATCH(I25,Таблица57[ФИО],0),MATCH(TEXT(Расчеты!$D$2,\"ГГГГ\"),Таблица57[[#Headers],[2019]:[2021]],0)),\"\")","v":""},null,null,null,{"$f":"IFERROR(VLOOKUP(I25,'pivot table'!AH:AI,2,FALSE),\"\")","v":""},null,"",null,{"$f":"IFERROR(VLOOKUP(I25,Расчеты!S:T,2,FALSE),\"\")","v":""},null,null,{"$f":"Расчеты!B7","v":""},{"$f":"Расчеты!A7","v":""}]
[null,null,null,null,null,null,null,null,{"$f":"IFERROR(INDEX(Сотрудники!$A$3:$A$40,SMALL(IF((Сотрудники!$H$3:$H$40=TRUE)*(Сотрудники!$D$3:$D$40=\"Менеджер\"),ROW($E$1:$E$26)),ROW(E8))),\"\")","v":""},null,null,{"$f":"IFERROR(INDEX(Таблица57[[2019]:[2021]],MATCH(I26,Таблица57[ФИО],0),MATCH(TEXT(Расчеты!$D$2,\"ГГГГ\"),Таблица57[[#Headers],[2019]:[2021]],0)),\"\")","v":""},null,null,null,{"$f":"IFERROR(VLOOKUP(I26,'pivot table'!AH:AI,2,FALSE),\"\")","v":""},null,"",null,{"$f":"IFERROR(VLOOKUP(I26,Расчеты!S:T,2,FALSE),\"\")","v":""},null,null,{"$f":"Расчеты!B8","v":""},{"$f":"Расчеты!A8","v":""}]

{"sheet":"Сегодня","index":2,"n_rows":0,"n_cols":0,"rows_kept":0,"cut":false,"hidden":false,"merged":[]}

{"sheet":"Шаблон","index":3,"n_rows":10,"n_cols":5,"rows_kept":10,"cut":false,"hidden":false,"merged":[[9,4,18,9]]}
[]
[]
[]
[]
[]
[]
[]
[]
[]
[null,null,null,null,{"$f":"CONCATENATE(\"Здравствуйте! Сегодня \",TEXT(TODAY(),\"ДД.ММ.ГГГГ\"),\" в \",TEXT(INDIRECT(\"today!L\"&today!M1),\"ч:мм\"),\" ожидайте мастера - \",INDIRECT(\"today!K\"&today!M1),\"                                                   \", \"                                                         \", \"Ваш заказ: \",INDIRECT(\"today!J\"&today!M1),\"                                                                             \",\"Хорошего дня!\")","v":"Здравствуйте! Сегодня 11.12.2021 в 10:00 ожидайте мастера - Беспалов Г.                                                                                                            Ваш заказ: Выкройка и монтаж дополнительных углов                                                                             Хорошего дня!"}]

{"sheet":"База заказов","index":4,"n_rows":766,"n_cols":25,"rows_kept":766,"cut":false,"hidden":false,"merged":[]}
["Дата заявки","День","Месяц","Год","Менеджер","Услуга","Наличн","Безнал","Скидка","Итого","Дата визита","День визита","Месяц визита","Год визита","Неделя визита","Время визита","Адрес","Мастер","Клиент","E-mail","Телефон","Трафик","Статус","Уведомление","Оценка клиента"]
[43466,{"$f":"DAY('База заказов'!$A2)","v":1},{"$f":"'База заказов'!$A2","v":"2019-01-01"},{"$f":"YEAR('База заказов'!$A2)","v":2019},"Иванов И.","Демонтаж балконного блока",20000,null,null,{"$f":"SUM(Table[[#This Row],[Наличн]:[Безнал]])-SUM(Table[[#This Row],[Наличн]:[Безнал]])*Table[[#This Row],[Скидка]]","v":20000},43467,null,null,null,null,"10:30:00","Ростов-на-Дону, Горького 151","Белоусов В.","Клиент 1","mail@birdyx.ru","79008889900","Авито","Завершено","да",5]
[43467,{"$f":"DAY('База заказов'!$A3)","v":2},{"$f":"'База заказов'!$A3","v":"2019-01-02"},{"$f":"YEAR('База заказов'!$A3)","v":2019},"Гончарова Н.","Укладка паркетной доски на клей",120000,null,null,{"$f":"SUM(Table[[#This Row],[Наличн]:[Безнал]])-SUM(Table[[#This Row],[Наличн]:[Безнал]])*Table[[#This Row],[Скидка]]","v":120000},43468,null,null,null,null,"10:00:00","Ростов-на-Дону, Стартовая 18","Субботин С.","Клиент 2","mail@birdyx.ru","79008889900","Авито","Завершено","да",4]
[43468,{"$f":"DAY('База заказов'!$A4)","v":3},{"$f":"'База заказов'!$A4","v":"2019-01-03"},{"$f":"YEAR('База заказов'!$A4)","v":2019},"Мишин М.","Укладка кварцвиниловой плитки на подложку",34500,null,null,{"$f":"SUM(Table[[#This Row],[Наличн]:[Безнал]])-SUM(Table[[#This Row],[Наличн]:[Безнал]])*Table[[#This Row],[Скидка]]","v":34500},43469,null,null,null,null,"12:00:00","Ростов-на-Дону, Жданова 15","Белозеров В.","Клиент 3","mail@birdyx.ru","79008889900","Яндекс","Завершено","да",4]
[43469,{"$f":"DAY('База заказов'!$A5)","v":4},{"$f":"'База заказов'!$A5","v":"2019-01-04"},{"$f":"YEAR('База заказов'!$A5)","v":2019},"Иванов И.","Укладка паркетной доски на подложку",12000,null,null,{"$f":"SUM(Table[[#This Row],[Наличн]:[Безнал]])-SUM(Table[[#This Row],[Наличн]:[Безнал]])*Table[[#This Row],[Скидка]]","v":12000},43470,null,null,null,null,"16:00:00","Ростов-на-Дону, ул. Пацаева, д. 2","Устинов С.","Клиент 4","mail@birdyx.ru","79008889900","Авито","Завершено","да",4]
[43470,{"$f":"DAY('База заказов'!$A6)","v":5},{"$f":"'База заказов'!$A6","v":"2019-01-05"},{"$f":"YEAR('База заказов'!$A6)","v":2019},"Петров В.","Укладка массивной доски",20000,null,null,{"$f":"SUM(Table[[#This Row],[Наличн]:[Безнал]])-SUM(Table[[#This Row],[Наличн]:[Безнал]])*Table[[#This Row],[Скидка]]","v":20000},43471,null,null,null,null,"10:30:00","Ростов-на-Дону, Горького 151","Белозеров В.","Клиент 5","mail@birdyx.ru","79008889900","Авито","Завершено","да",4]
[43497,{"$f":"DAY('База заказов'!$A7)","v":1},{"$f":"'База заказов'!$A7","v":"2019-02-01"},{"$f":"YEAR('База заказов'!$A7)","v":2019},"Гончарова Н.","Монтаж потолочного плинтуса",6000,null,null,{"$f":"SUM(Table[[#This Row],[Наличн]:[Безнал]])-SUM(Table[[#This Row],[Наличн]:[Безнал]])*Table[[#This Row],[Скидка]]","v":6000},43499,null,null,null,null,"10:30:00","Ростов-на-Дону, Комарова, 24","Беспалов Г.","Клиент 6","mail@birdyx.ru","79008889900","Авито","Завершено","да",4]
[43498,{"$f":"DAY('База заказов'!$A8)","v":2},{"$f":"'База заказов'!$A8","v":"2019-02-02"},{"$f":"YEAR('База заказов'!$A8)","v":2019},"Гончарова Н.","Укладка массивной доски",340000,null,null,{"$f":"SUM(Table[[#This Row],[Наличн]:[Безнал]])-SUM(Table[[#This Row],[Наличн]:[Безнал]])*Table[[#This Row],[Скидка]]","v":340000},43500,null,null,null,null,"10:00:00","Ростов-На-Дону, ул. Извилистая, д. 13/2","Устинов С.","Клиент 7","mail@birdyx.ru","79008889900","Яндекс","Завершено","да",4]
[43499,{"$f":"DAY('База заказов'!$A9)","v":3},{"$f":"'База заказов'!$A9","v":"2019-02-03"},{"$f":"YEAR('База заказов'!$A9)","v":2019},"Мишин М.","Монтаж потолочного плинтуса",23000,null,null,{"$f":"SUM(Table[[#This Row],[Наличн]:[Безнал]])-SUM(Table[[#This Row],[Наличн]:[Безнал]])*Table[[#This Row],[Скидка]]","v":23000},43501,null,null,null,null,"12:00:00","Ростов-на-Дону, пер. Братский, д. 36","Белоусов В.","Клиент 8","mail@birdyx.ru","79008889900","Авито","Завершено","да",4]
[43525,{"$f":"DAY('База заказов'!$A10)","v":1},{"$f":"'База заказов'!$A10","v":"2019-03-01"},{"$f":"YEAR('База заказов'!$A10)","v":2019},"Иванов И.","Выкройка и монтаж дополнительных углов",230000,null,null,{"$f":"SUM(Table[[#This Row],[Наличн]:[Безнал]])-SUM(Table[[#This Row],[Наличн]:[Безнал]])*Table[[#This Row],[Скидка]]","v":230000},43528,null,null,null,null,"16:00:00","Ростов-На-Дону, ул. Андрея Сладкова, д. 87","Устинов С.","Клиент 9","mail@birdyx.ru","79008889900","Авито","Завершено","да",4]
[43526,{"$f":"DAY('База заказов'!$A11)","v":2},{"$f":"'База заказов'!$A11","v":"2019-03-02"},{"$f":"YEAR('База заказов'!$A11)","v":2019},"Петров В.","Укладка паркетной доски на подложку",100000,null,null,{"$f":"SUM(Table[[#This Row],[Наличн]:[Безнал]])-SUM(Table[[#This Row],[Наличн]:[Безнал]])*Table[[#This Row],[Скидка]]","v":100000},43529,null,null,null,null,"10:30:00","Ростов-на-Дону, ул. 339-й Стрелковой Дивизии, д. 33","Белозеров В.","Клиент 10","mail@birdyx.ru","79008889900","Авито","Завершено","да",4]
[43527,{"$f":"DAY('База заказов'!$A12)","v":3},{"$f":"'База заказов'!$A12","v":"2019-03-03"},{"$f":"YEAR('База заказов'!$A12)","v":2019},"Иванов И.","Демонтаж балконного блока",4500,null,null,{"$f":"SUM(Table[[#This Row],[Наличн]:[Безнал]])-SUM(Table[[#This Row],[Наличн]:[Безнал]])*Table[[#This Row],[Скидка]]","v":4500},43530,null,null,null,null,"10:30:00","Ростов-на-Дону, Ленина 1","Беспалов Г.","Клиент 11","mail@birdyx.ru","79008889900","Яндекс","Завершено","да",4]
[43528,{"$f":"DAY('База заказов'!$A13)","v":4},{"$f":"'База заказов'!$A13","v":"2019-03-04"},{"$f":"YEAR('База заказов'!$A13)","v":2019},"Гончарова Н.","Демонтаж входной двери",null,65000,null,{"$f":"SUM(Table[[#This Row],[Наличн]:[Безнал]])-SUM(Table[[#This Row],[Наличн]:[Безнал]])*Table[[#This Row],[Скидка]]","v":65000},43531,null,null,null,null,"10:00:00","Ростов-на-Дону, Михаила Нагибина 40","Устинов С.","Клиент 12","mail@birdyx.ru","79008889900","Авито","Завершено","да",4]
[43529,{"$f":"DAY('База заказов'!$A14)","v":5},{"$f":"'База заказов'!$A14","v":"2019-03-05"},{"$f":"YEAR('База заказов'!$A14)","v":2019},"Иванов И.","Укладка массивной доски",20000,null,null,{"$f":"SUM(Table[[#This Row],[Наличн]:[Безнал]])-SUM(Table[[#This Row],[Наличн]:[Безнал]])*Table[[#This Row],[Скидка]]","v":20000},43532,null,null,null,null,"12:00:00","Ростов-на-Дону, Михаила Нагибина 40","Белоусов В.","Клиент 13","mail@birdyx.ru","79008889900","Авито","Завершено","да",5]
[43556,{"$f":"DAY('База заказов'!$A15)","v":1},{"$f":"'База заказов'!$A15","v":"2019-04-01"},{"$f":"YEAR('База заказов'!$A15)","v":2019},"Петров В.","Монтаж потолочного плинтуса",null,65400,null,{"$f":"SUM(Table[[#This Row],[Наличн]:[Безнал]])-SUM(Table[[#This Row],[Наличн]:[Безнал]])*Table[[#This Row],[Скидка]]","v":65400},43561,null,null,null,null,"16:00:00","Ростов-на-Дону, ул. Таганрогская, д. 149/1 К 35","Белозеров В.","Клиент 14","mail@birdyx.ru","79008889900","Авито","Завершено","да",5]
[43557,{"$f":"DAY('База заказов'!$A16)","v":2},{"$f":"'База заказов'!$A16","v":"2019-04-02"},{"$f":"YEAR('База заказов'!$A16)","v":2019},"Иванов И.","Демонтаж душевого поддона",null,245500,null,{"$f":"SUM(Table[[#This Row],[Наличн]:[Безнал]])-SUM(Table[[#This Row],[Наличн]:[Безнал]])*Table[[#This Row],[Скидка]]","v":245500},43562,null,null,null,null,"10:30:00","Ростов-На-Дону, ул. Большая Садовая, д. 115","Беспалов Г.","Клиент 15","mail@birdyx.ru","79008889900","Авито","Завершено","да",5]
[43586,{"$f":"DAY('База заказов'!$A17)","v":1},{"$f":"'База заказов'!$A17","v":"2019-05-01"},{"$f":"YEAR('База заказов'!$A17)","v":2019},"Иванов И.","Демонтаж балконного блока",null,540000,null,{"$f":"SUM(Table[[#This Row],[Наличн]:[Безнал]])-SUM(Table[[#This Row],[Наличн]:[Безнал]])*Table[[#This Row],[Скидка]]","v":540000},43597,null,null,null,null,"10:00:00","Ростов-на-Дону, ул. Большая Садовая, д. 69","Устинов С.","Клиент 16","mail@birdyx.ru","79008889900","Яндекс","Завершено","да",5]
[43587,{"$f":"DAY('База заказов'!$A18)","v":2},{"$f":"'База заказов'!$A18","v":"2019-05-02"},{"$f":"YEAR('База заказов'!$A18)","v":2019},"Гончарова Н.","Укладка паркетной доски на клей",null,24500,null,{"$f":"SUM(Table[[#This Row],[Наличн]:[Безнал]])-SUM(Table[[#This Row],[Наличн]:[Безнал]])*Table[[#This Row],[Скидка]]","v":24500},43598,null,null,null,null,"12:00:00","Ростов-на-Дону, пер. Университетский, д. 133","Белоусов В.","Клиент 17","mail@birdyx.ru","79008889900","Авито","Завершено","да",5]
[43588,{"$f":"DAY('База заказов'!$A19)","v":3},{"$f":"'База заказов'!$A19","v":"2019-05-03"},{"$f":"YEAR('База заказов'!$A19)","v":2019},"Мишин М.","Укладка кварцвиниловой плитки на подложку",null,8900,null,{"$f":"SUM(Table[[#This Row],[Наличн]:[Безнал]])-SUM(Table[[#This Row],[Наличн]:[Безнал]])*Table[[#This Row],[Скидка]]","v":8900},43599,null,null,null,null,"16:00:00","Ростов-на-Дону, пер. Соборный, д. 26","Белозеров В.","Клиент 18","mail@birdyx.ru","79008889900","Авито","Завершено","да",3]
[43617,{"$f":"DAY('База заказов'!$A20)","v":1},{"$f":"'База заказов'!$A20","v":"2019-06-01"},{"$f":"YEAR('База заказов'!$A20)","v":2019},"Иванов И.","Укладка паркетной доски на подложку",560000,null,null,{"$f":"SUM(Table[[#This Row],[Наличн]:[Безнал]])-SUM(Table[[#This Row],[Наличн]:[Безнал]])*Table[[#This Row],[Скидка]]","v":560000},43621,null,null,null,null,"10:30:00","Ростов-на-Дону, проспект Сиверса, д. 1","Устинов С.","Клиент 19","mail@birdyx.ru","79008889900","Яндекс","Завершено","да",3]
[43647,{"$f":"DAY('База заказов'!$A21)","v":1},{"$f":"'База заказов'!$A21","v":"2019-07-01"},{"$f":"YEAR('База заказов'!$A21)","v":2019},"Петров В.","Укладка массивной доски",340000,null,null,{"$f":"SUM(Table[[#This Row],[Наличн]:[Безнал]])-SUM(Table[[#This Row],[Наличн]:[Безнал]])*Table[[#This Row],[Скидка]]","v":340000},43655,null,null,null,null,"10:30:00","Ростов-на-Дону, ул. Большая Садовая, д. 105/42","Белозеров В.","Клиент 20","mail@birdyx.ru","79008889900","Авито","Завершено","да",3]
[43648,{"$f":"DAY('База заказов'!$A22)","v":2},{"$f":"'База заказов'!$A22","v":"2019-07-02"},{"$f":"YEAR('База заказов'!$A22)","v":2019},"Гончарова Н.","Монтаж потолочного плинтуса",45000,null,null,{"$f":"SUM(Table[[#This Row],[Наличн]:[Безнал]])-SUM(Table[[#This Row],[Наличн]:[Безнал]])*Table[[#This Row],[Скидка]]","v":45000},43656,null,null,null,null,"10:00:00","Ростов-на-Дону, ул. Максима Горького, д. 149","Беспалов Г.","Клиент 21","mail@birdyx.ru","79008889900","Авито","Завершено","да",3]
[43649,{"$f":"DAY('База заказов'!$A23)","v":3},{"$f":"'База заказов'!$A23","v":"2019-07-03"},{"$f":"YEAR('База заказов'!$A23)","v":2019},"Гончарова Н.","Укладка массивной доски",67000,null,null,{"$f":"SUM(Table[[#This Row],[Наличн]:[Безнал]])-SUM(Table[[#This Row],[Наличн]:[Безнал]])*Table[[#This Row],[Скидка]]","v":67000},43657,null,null,null,null,"12:00:00","Ростов-на-Дону, проспект Буденновский, д. 97","Устинов С.","Клиент 22","mail@birdyx.ru","79008889900","Яндекс","Завершено","да",3]
[43650,{"$f":"DAY('База заказов'!$A24)","v":4},{"$f":"'База заказов'!$A24","v":"2019-07-04"},{"$f":"YEAR('База заказов'!$A24)","v":2019},"Мишин М.","Монтаж потолочного плинтуса",6000,null,null,{"$f":"SUM(Table[[#This Row],[Наличн]:[Безнал]])-SUM(Table[[#This Row],[Наличн]:[Безнал]])*Table[[#This Row],[Скидка]]","v":6000},43658,null,null,null,null,"16:00:00","Ростов-на-Дону, ул. Советская, д. 26/1","Белоусов В.","Клиент 23","mail@birdyx.ru","79008889900","Авито","Завершено","да",2]
[43678,{"$f":"DAY('База заказов'!$A25)","v":1},{"$f":"'База заказов'!$A25","v":"2019-08-01"},{"$f":"YEAR('База заказов'!$A25)","v":2019},"Иванов И.","Выкройка и монтаж дополнительных углов",500000,null,null,{"$f":"SUM(Table[[#This Row],[Наличн]:[Безнал]])-SUM(Table[[#This Row],[Наличн]:[Безнал]])*Table[[#This Row],[Скидка]]","v":500000},43686,null,null,null,null,"10:30:00","Ростов-на-Дону, ул. Мечникова, д. 43","Устинов С.","Клиент 24","mail@birdyx.ru","79008889900","Авито","Завершено","да",3]
[43709,{"$f":"DAY('База заказов'!$A26)","v":1},{"$f":"'База заказов'!$A26","v":"2019-09-01"},{"$f":"YEAR('База заказов'!$A26)","v":2019},"Петров В.","Укладка паркетной доски на подложку",450000,null,null,{"$f":"SUM(Table[[#This Row],[Наличн]:[Безнал]])-SUM(Table[[#This Row],[Наличн]:[Безнал]])*Table[[#This Row],[Скидка]]","v":450000},43717,null,null,null,null,"10:30:00","Ростов-на-Дону, пер. Островского, д. 47","Белозеров В.","Клиент 25","mail@birdyx.ru","79008889900","Авито","Завершено","да",4]
[43739,{"$f":"DAY('База заказов'!$A27)","v":1},{"$f":"'База заказов'!$A27","v":"2019-10-01"},{"$f":"YEAR('База заказов'!$A27)","v":2019},"Иванов И.","Демонтаж балконного блока",456000,null,null,{"$f":"SUM(Table[[#This Row],[Наличн]:[Безнал]])-SUM(Table[[#This Row],[Наличн]:[Безнал]])*Table[[#This Row],[Скидка]]","v":456000},43751,null,null,null,null,"10:00:00","Ростов-на-Дону, ул. Пушкинская, д. 225","Беспалов Г.","Клиент 26","mail@birdyx.ru","79008889900","Яндекс","Завершено","да",4]
[43770,{"$f":"DAY('База заказов'!$A28)","v":1},{"$f":"'База заказов'!$A28","v":"2019-11-01"},{"$f":"YEAR('База заказов'!$A28)","v":2019},"Гончарова Н.","Демонтаж входной двери",328000,null,null,{"$f":"SUM(Table[[#This Row],[Наличн]:[Безнал]])-SUM(Table[[#This Row],[Наличн]:[Безнал]])*Table[[#This Row],[Скидка]]","v":328000},43782,null,null,null,null,"12:00:00","Ростов-На-Дону, ул. Ченцова, д. 57/81","Устинов С.","Клиент 27","mail@birdyx.ru","79008889900","Авито","Завершено","да",5]
[43771,{"$f":"DAY('База заказов'!$A29)","v":2},{"$f":"'База заказов'!$A29","v":"2019-11-02"},{"$f":"YEAR('База заказов'!$A29)","v":2019},"Иванов И.","Укладка массивной доски",90000,null,null,{"$f":"SUM(Table[[#This Row],[Наличн]:[Безнал]])-SUM(Table[[#This Row],[Наличн]:[Безнал]])*Table[[#This Row],[Скидка]]","v":90000},43783,null,null,null,null,"16:00:00","Ростов-на-Дону, ул. Текучева, д. 135","Белоусов В.","Клиент 28","mail@birdyx.ru","79008889900","Авито","Завершено","да",4]
[43772,{"$f":"DAY('База заказов'!$A30)","v":3},{"$f":"'База заказов'!$A30","v":"2019-11-03"},{"$f":"YEAR('База заказов'!$A30)","v":2019},"Петров В.","Монтаж потолочного плинтуса",null,8900,null,{"$f":"SUM(Table[[#This Row],[Наличн]:[Безнал]])-SUM(Table[[#This Row],[Наличн]:[Безнал]])*Table[[#This Row],[Скидка]]","v":8900},43784,null,null,null,null,"10:30:00","Ростов-на-Дону, пер. Газетный, д. 99","Белозеров В.","Клиент 29","mail@birdyx.ru","79008889900","Яндекс","Завершено","да",3]
[43773,{"$f":"DAY('База заказов'!$A31)","v":4},{"$f":"'База заказов'!$A31","v":"2019-11-04"},{"$f":"YEAR('База заказов'!$A31)","v":2019},"Иванов И.","Демонтаж душевого поддона",null,7000,null,{"$f":"SUM(Table[[#This Row],[Наличн]:[Безнал]])-SUM(Table[[#This Row],[Наличн]:[Безнал]])*Table[[#This Row],[Скидка]]","v":7000},43785,null,null,null,null,"16:00:00","Ростов-на-Дону, пер. Газетный, д. 99","Беспалов Г.","Клиент 30","mail@birdyx.ru","79008889900","Авито","Завершено","да",4]
[43800,{"$f":"DAY('База заказов'!$A32)","v":1},{"$f":"'База заказов'!$A32","v":"2019-12-01"},{"$f":"YEAR('База заказов'!$A32)","v":2019},"Гончарова Н.","Демонтаж входной двери",null,50000,0.15,{"$f":"SUM(Table[[#This Row],[Наличн]:[Безнал]])-SUM(Table[[#This Row],[Наличн]:[Безнал]])*Table[[#This Row],[Скидка]]","v":42500},43800,{"$f":"DAY(Table[[#This Row],[Дата визита]])","v":1},{"$f":"MONTH(Table[[#This Row],[Дата визита]])","v":"1900-01-12"},{"$f":"YEAR(Table[[#This Row],[Дата визита]])","v":2019},{"$f":"WEEKNUM(Table[[#This Row],[Дата визита]])","v":49},"18:00:00","Ростов-на-Дону, Стартовая 20","Устинов С.","Клиент 31","mail@birdyx.ru","79008889900","Сайт","Завершено","да",5]
[43800,{"$f":"DAY('База заказов'!$A33)","v":1},{"$f":"'База заказов'!$A33","v":"2019-12-01"},{"$f":"YEAR('База заказов'!$A33)","v":2019},"Мишин М.","Демонтаж раковины",2000,null,0.15,{"$f":"SUM(Table[[#This Row],[Наличн]:[Безнал]])-SUM(Table[[#This Row],[Наличн]:[Безнал]])*Table[[#This Row],[Скидка]]","v":1700},43801,{"$f":"DAY(Table[[#This Row],[Дата визита]])","v":2},{"$f":"MONTH(Table[[#This Row],[Дата визита]])","v":"1900-01-12"},{"$f":"YEAR(Table[[#This Row],[Дата визита]])","v":2019},{"$f":"WEEKNUM(Table[[#This Row],[Дата визита]])","v":49},"10:00:00","Ростов-на-Дону, Стартовая 22","Белоусов В.","Клиент 32","mail@birdyx.ru","79008889900","Авито","Завершено","да",4]
[43800,{"$f":"DAY('База заказов'!$A34)","v":1},{"$f":"'База заказов'!$A34","v":"2019-12-01"},{"$f":"YEAR('База заказов'!$A34)","v":2019},"Иванов И.","Демонтаж оконного блока",null,5000,null,{"$f":"SUM(Table[[#This Row],[Наличн]:[Безнал]])-SUM(Table[[#This Row],[Наличн]:[Безнал]])*Table[[#This Row],[Скидка]]","v":5000},43801,{"$f":"DAY(Table[[#This Row],[Дата визита]])","v":2},{"$f":"MONTH(Table[[#This Row],[Дата визита]])","v":"1900-01-12"},{"$f":"YEAR(Table[[#This Row],[Дата визита]])","v":2019},{"$f":"WEEKNUM(Table[[#This Row],[Дата визита]])","v":49},"12:00:00","Ростов-на-Дону, Жданова 15","Субботин С.","Клиент 33","mail@birdyx.ru","79008889900","Авито","Завершено","да",3]
[43801,{"$f":"DAY('База заказов'!$A35)","v":2},{"$f":"'База заказов'!$A35","v":"2019-12-02"},{"$f":"YEAR('База заказов'!$A35)","v":2019},"Иванов И.","Укладка керамической плитки, керамогранита на пол с затиркой",40000,null,null,{"$f":"SUM(Table[[#This Row],[Наличн]:[Безнал]])-SUM(Table[[#This Row],[Наличн]:[Безнал]])*Table[[#This Row],[Скидка]]","v":40000},43801,{"$f":"DAY(Table[[#This Row],[Дата визита]])","v":2},{"$f":"MONTH(Table[[#This Row],[Дата визита]])","v":"1900-01-12"},{"$f":"YEAR(Table[[#This Row],[Дата визита]])","v":2019},{"$f":"WEEKNUM(Table[[#This Row],[Дата визита]])","v":49},"16:00:00","Ростов-на-Дону, ул. Пацаева, д. 2","Минин В.","Клиент 34","mail@birdyx.ru","79008889900","Авито","Завершено","да",4]
[43801,{"$f":"DAY('База заказов'!$A36)","v":2},{"$f":"'База заказов'!$A36","v":"2019-12-02"},{"$f":"YEAR('База заказов'!$A36)","v":2019},"Петров В.","Демонтаж входной двери",null,1000,null,{"$f":"SUM(Table[[#This Row],[Наличн]:[Безнал]])-SUM(Table[[#This Row],[Наличн]:[Безнал]])*Table[[#This Row],[Скидка]]","v":1000},43802,{"$f":"DAY(Table[[#This Row],[Дата визита]])","v":3},{"$f":"MONTH(Table[[#This Row],[Дата визита]])","v":"1900-01-12"},{"$f":"YEAR(Table[[#This Row],[Дата визита]])","v":2019},{"$f":"WEEKNUM(Table[[#This Row],[Дата визита]])","v":49},"10:00:00","Ростов-на-Дону, ул. 14 Линия, д. 33","Белозеров В.","Клиент 35","mail@birdyx.ru","79008889900","Сайт","Завершено","да",4]
[43801,{"$f":"DAY('База заказов'!$A37)","v":2},{"$f":"'База заказов'!$A37","v":"2019-12-02"},{"$f":"YEAR('База заказов'!$A37)","v":2019},"Иванов И.","Нанесение декоративной штукатурки ",10000,null,null,{"$f":"SUM(Table[[#This Row],[Наличн]:[Безнал]])-SUM(Table[[#This Row],[Наличн]:[Безнал]])*Table[[#This Row],[Скидка]]","v":10000},43802,{"$f":"DAY(Table[[#This Row],[Дата визита]])","v":3},{"$f":"MONTH(Table[[#This Row],[Дата визита]])","v":"1900-01-12"},{"$f":"YEAR(Table[[#This Row],[Дата визита]])","v":2019},{"$f":"WEEKNUM(Table[[#This Row],[Дата визита]])","v":49},"12:00:00","Ростов-на-Дону, пер. Беломорский, д. 94","Беспалов Г.","Клиент 36","mail@birdyx.ru","79008889900","Сайт","Завершено","да",5]
[43802,{"$f":"DAY('База заказов'!$A38)","v":3},{"$f":"'База заказов'!$A38","v":"2019-12-03"},{"$f":"YEAR('База заказов'!$A38)","v":2019},"Гончарова Н.","Укладка массивной доски",30000,null,null,{"$f":"SUM(Table[[#This Row],[Наличн]:[Безнал]])-SUM(Table[[#This Row],[Наличн]:[Безнал]])*Table[[#This Row],[Скидка]]","v":30000},43802,{"$f":"DAY(Table[[#This Row],[Дата визита]])","v":3},{"$f":"MONTH(Table[[#This Row],[Дата визита]])","v":"1900-01-12"},{"$f":"YEAR(Table[[#This Row],[Дата визита]])","v":2019},{"$f":"WEEKNUM(Table[[#This Row],[Дата визита]])","v":49},"16:00:00","Ростов-На-Дону, ул. Извилистая, д. 13/2","Устинов С.","Клиент 37","mail@birdyx.ru","79008889900","Авито","Отмена","да",3]
[43802,{"$f":"DAY('База заказов'!$A39)","v":3},{"$f":"'База заказов'!$A39","v":"2019-12-03"},{"$f":"YEAR('База заказов'!$A39)","v":2019},"Мишин М.","Нанесение декоративной штукатурки ",56000,null,null,{"$f":"SUM(Table[[#This Row],[Наличн]:[Безнал]])-SUM(Table[[#This Row],[Наличн]:[Безнал]])*Table[[#This Row],[Скидка]]","v":56000},43802,{"$f":"DAY(Table[[#This Row],[Дата визита]])","v":3},{"$f":"MONTH(Table[[#This Row],[Дата визита]])","v":"1900-01-12"},{"$f":"YEAR(Table[[#This Row],[Дата визита]])","v":2019},{"$f":"WEEKNUM(Table[[#This Row],[Дата визита]])","v":49},"18:00:00","Ростов-на-Дону, пер. Братский, д. 36","Минин В.","Клиент 38","mail@birdyx.ru","79008889900","Сайт","Завершено","да",2]
[43802,{"$f":"DAY('База заказов'!$A40)","v":3},{"$f":"'База заказов'!$A40","v":"2019-12-03"},{"$f":"YEAR('База заказов'!$A40)","v":2019},"Гончарова Н.","Укладка массивной доски",null,20000,null,{"$f":"SUM(Table[[#This Row],[Наличн]:[Безнал]])-SUM(Table[[#This Row],[Наличн]:[Безнал]])*Table[[#This Row],[Скидка]]","v":20000},43803,{"$f":"DAY(Table[[#This Row],[Дата визита]])","v":4},{"$f":"MONTH(Table[[#This Row],[Дата визита]])","v":"1900-01-12"},{"$f":"YEAR(Table[[#This Row],[Дата визита]])","v":2019},{"$f":"WEEKNUM(Table[[#This Row],[Дата визита]])","v":49},"10:00:00","Ростов-На-Дону, ул. Андрея Сладкова, д. 87","Минин В.","Клиент 39","mail@birdyx.ru","79008889900","По совету","Завершено","да",4]
[43803,{"$f":"DAY('База заказов'!$A41)","v":4},{"$f":"'База заказов'!$A41","v":"2019-12-04"},{"$f":"YEAR('База заказов'!$A41)","v":2019},"Мишин М.","Монтаж потолочного плинтуса",10000,null,0.15,{"$f":"SUM(Table[[#This Row],[Наличн]:[Безнал]])-SUM(Table[[#This Row],[Наличн]:[Безнал]])*Table[[#This Row],[Скидка]]","v":8500},43803,{"$f":"DAY(Table[[#This Row],[Дата визита]])","v":4},{"$f":"MONTH(Table[[#This Row],[Дата визита]])","v":"1900-01-12"},{"$f":"YEAR(Table[[#This Row],[Дата визита]])","v":2019},{"$f":"WEEKNUM(Table[[#This Row],[Дата визита]])","v":49},"12:00:00","Ростов-на-Дону, ул. 339-й Стрелковой Дивизии, д. 33","Субботин С.","Клиент 40","mail@birdyx.ru","79008889900","Яндекс","Завершено","да",5]
[43804,{"$f":"DAY('База заказов'!$A42)","v":5},{"$f":"'База заказов'!$A42","v":"2019-12-05"},{"$f":"YEAR('База заказов'!$A42)","v":2019},"Иванов И.","Выкройка и монтаж дополнительных углов",null,8000,0.15,{"$f":"SUM(Table[[#This Row],[Наличн]:[Безнал]])-SUM(Table[[#This Row],[Наличн]:[Безнал]])*Table[[#This Row],[Скидка]]","v":6800},43804,{"$f":"DAY(Table[[#This Row],[Дата визита]])","v":5},{"$f":"MONTH(Table[[#This Row],[Дата визита]])","v":"1900-01-12"},{"$f":"YEAR(Table[[#This Row],[Дата визита]])","v":2019},{"$f":"WEEKNUM(Table[[#This Row],[Дата визита]])","v":49},"16:00:00","Ростов-на-Дону, Ленина 1","Белозеров В.","Клиент 41","mail@birdyx.ru","79008889900","Инстаграм","Завершено","да",5]
[43805,{"$f":"DAY('База заказов'!$A43)","v":6},{"$f":"'База заказов'!$A43","v":"2019-12-06"},{"$f":"YEAR('База заказов'!$A43)","v":2019},"Петров В.","Укладка паркетной доски на подложку",null,9000,0.15,{"$f":"SUM(Table[[#This Row],[Наличн]:[Безнал]])-SUM(Table[[#This Row],[Наличн]:[Безнал]])*Table[[#This Row],[Скидка]]","v":7650},43805,{"$f":"DAY(Table[[#This Row],[Дата визита]])","v":6},{"$f":"MONTH(Table[[#This Row],[Дата визита]])","v":"1900-01-12"},{"$f":"YEAR(Table[[#This Row],[Дата визита]])","v":2019},{"$f":"WEEKNUM(Table[[#This Row],[Дата визита]])","v":49},"18:00:00","Ростов-на-Дону, Михаила Нагибина 32","Беспалов Г.","Клиент 42","mail@birdyx.ru","79008889900","Яндекс","Завершено","да",5]
[43806,{"$f":"DAY('База заказов'!$A44)","v":7},{"$f":"'База заказов'!$A44","v":"2019-12-07"},{"$f":"YEAR('База заказов'!$A44)","v":2019},"Иванов И.","Демонтаж балконного блока",null,9000,0.15,{"$f":"SUM(Table[[#This Row],[Наличн]:[Безнал]])-SUM(Table[[#This Row],[Наличн]:[Безнал]])*Table[[#This Row],[Скидка]]","v":7650},43806,{"$f":"DAY(Table[[#This Row],[Дата визита]])","v":7},{"$f":"MONTH(Table[[#This Row],[Дата визита]])","v":"1900-01-12"},{"$f":"YEAR(Table[[#This Row],[Дата визита]])","v":2019},{"$f":"WEEKNUM(Table[[#This Row],[Дата визита]])","v":49},"10:00:00","Ростов-на-Дону, Михаила Нагибина 32","Беспалов Г.","Клиент 43","mail@birdyx.ru","79008889900","Инстаграм","Завершено","да",5]
[43806,{"$f":"DAY('База заказов'!$A45)","v":7},{"$f":"'База заказов'!$A45","v":"2019-12-07"},{"$f":"YEAR('База заказов'!$A45)","v":2019},"Гончарова Н.","Демонтаж входной двери",20000,null,null,{"$f":"SUM(Table[[#This Row],[Наличн]:[Безнал]])-SUM(Table[[#This Row],[Наличн]:[Безнал]])*Table[[#This Row],[Скидка]]","v":20000},43807,{"$f":"DAY(Table[[#This Row],[Дата визита]])","v":8},{"$f":"MONTH(Table[[#This Row],[Дата визита]])","v":"1900-01-12"},{"$f":"YEAR(Table[[#This Row],[Дата визита]])","v":2019},{"$f":"WEEKNUM(Table[[#This Row],[Дата визита]])","v":50},"12:00:00","Ростов-на-Дону, ул. Таганрогская, д. 149/1 К 35","Белоусов В.","Клиент 44","mail@birdyx.ru","79008889900","Авито","Завершено","да",5]
[43806,{"$f":"DAY('База заказов'!$A46)","v":7},{"$f":"'База заказов'!$A46","v":"2019-12-07"},{"$f":"YEAR('База заказов'!$A46)","v":2019},"Иванов И.","Укладка массивной доски",null,27300,null,{"$f":"SUM(Table[[#This Row],[Наличн]:[Безнал]])-SUM(Table[[#This Row],[Наличн]:[Безнал]])*Table[[#This Row],[Скидка]]","v":27300},43807,{"$f":"DAY(Table[[#This Row],[Дата визита]])","v":8},{"$f":"MONTH(Table[[#This Row],[Дата визита]])","v":"1900-01-12"},{"$f":"YEAR(Table[[#This Row],[Дата визита]])","v":2019},{"$f":"WEEKNUM(Table[[#This Row],[Дата визита]])","v":50},"16:00:00","Ростов-На-Дону, ул. Большая Садовая, д. 115","Минин В.","Клиент 45","mail@birdyx.ru","79008889900","Авито","Завершено","да",5]
[43806,{"$f":"DAY('База заказов'!$A47)","v":7},{"$f":"'База заказов'!$A47","v":"2019-12-07"},{"$f":"YEAR('База заказов'!$A47)","v":2019},"Петров В.","Монтаж потолочного плинтуса",7600,"",null,{"$f":"SUM(Table[[#This Row],[Наличн]:[Безнал]])-SUM(Table[[#This Row],[Наличн]:[Безнал]])*Table[[#This Row],[Скидка]]","v":7600},43807,{"$f":"DAY(Table[[#This Row],[Дата визита]])","v":8},{"$f":"MONTH(Table[[#This Row],[Дата визита]])","v":"1900-01-12"},{"$f":"YEAR(Table[[#This Row],[Дата визита]])","v":2019},{"$f":"WEEKNUM(Table[[#This Row],[Дата визита]])","v":50},"18:00:00","Ростов-на-Дону, ул. Большая Садовая, д. 69","Субботин С.","Клиент 46","mail@birdyx.ru","79008889900","Сайт","Завершено","да",4]
[43807,{"$f":"DAY('База заказов'!$A48)","v":8},{"$f":"'База заказов'!$A48","v":"2019-12-08"},{"$f":"YEAR('База заказов'!$A48)","v":2019},"Иванов И.","Демонтаж душевого поддона",35100,"",null,{"$f":"SUM(Table[[#This Row],[Наличн]:[Безнал]])-SUM(Table[[#This Row],[Наличн]:[Безнал]])*Table[[#This Row],[Скидка]]","v":35100},43807,{"$f":"DAY(Table[[#This Row],[Дата визита]])","v":8},{"$f":"MONTH(Table[[#This Row],[Дата визита]])","v":"1900-01-12"},{"$f":"YEAR(Table[[#This Row],[Дата визита]])","v":2019},{"$f":"WEEKNUM(Table[[#This Row],[Дата визита]])","v":50},"10:00:00","Ростов-на-Дону, пер. Университетский, д. 133","Минин В.","Клиент 47","mail@birdyx.ru","79008889900","Инстаграм","Завершено","да",4]
[43808,{"$f":"DAY('База заказов'!$A49)","v":9},{"$f":"'База заказов'!$A49","v":"2019-12-09"},{"$f":"YEAR('База заказов'!$A49)","v":2019},"Гончарова Н.","Демонтаж входной двери",35100,"",null,{"$f":"SUM(Table[[#This Row],[Наличн]:[Безнал]])-SUM(Table[[#This Row],[Наличн]:[Безнал]])*Table[[#This Row],[Скидка]]","v":35100},43810,{"$f":"DAY(Table[[#This Row],[Дата визита]])","v":11},{"$f":"MONTH(Table[[#This Row],[Дата визита]])","v":"1900-01-12"},{"$f":"YEAR(Table[[#This Row],[Дата визита]])","v":2019},{"$f":"WEEKNUM(Table[[#This Row],[Дата визита]])","v":50},"12:00:00","Ростов-на-Дону, пер. Соборный, д. 26","Белозеров В.","Клиент 48","mail@birdyx.ru","79008889900","Яндекс","Завершено","да",4]
[43809,{"$f":"DAY('База заказов'!$A50)","v":10},{"$f":"'База заказов'!$A50","v":"2019-12-10"},{"$f":"YEAR('База заказов'!$A50)","v":2019},"Мишин М.","Демонтаж раковины",25400,"",null,{"$f":"SUM(Table[[#This Row],[Наличн]:[Безнал]])-SUM(Table[[#This Row],[Наличн]:[Безнал]])*Table[[#This Row],[Скидка]]","v":25400},43810,{"$f":"DAY(Table[[#This Row],[Дата визита]])","v":11},{"$f":"MONTH(Table[[#This Row],[Дата визита]])","v":"1900-01-12"},{"$f":"YEAR(Table[[#This Row],[Дата визита]])","v":2019},{"$f":"WEEKNUM(Table[[#This Row],[Дата визита]])","v":50},"16:00:00","Ростов-на-Дону, проспект Сиверса, д. 1","Беспалов Г.","Клиент 49","mail@birdyx.ru","79008889900","По совету","Завершено","да",4]
[43810,{"$f":"DAY('База заказов'!$A51)","v":11},{"$f":"'База заказов'!$A51","v":"2019-12-11"},{"$f":"YEAR('База заказов'!$A51)","v":2019},"Иванов И.","Демонтаж оконного блока",null,14200,null,{"$f":"SUM(Table[[#This Row],[Наличн]:[Безнал]])-SUM(Table[[#This Row],[Наличн]:[Безнал]])*Table[[#This Row],[Скидка]]","v":14200},43810,{"$f":"DAY(Table[[#This Row],[Дата визита]])","v":11},{"$f":"MONTH(Table[[#This Row],[Дата визита]])","v":"1900-01-12"},{"$f":"YEAR(Table[[#This Row],[Дата визита]])","v":2019},{"$f":"WEEKNUM(Table[[#This Row],[Дата визита]])","v":50},"18:00:00","Ростов-на-Дону, ул. Большая Садовая, д. 105/42","Устинов С.","Клиент 50","mail@birdyx.ru","79008889900","Авито","Завершено","да",4]
[43811,{"$f":"DAY('База заказов'!$A52)","v":12},{"$f":"'База заказов'!$A52","v":"2019-12-12"},{"$f":"YEAR('База заказов'!$A52)","v":2019},"Иванов И.","Укладка керамической плитки, керамогранита на пол с затиркой",20900,null,null,{"$f":"SUM(Table[[#This Row],[Наличн]:[Безнал]])-SUM(Table[[#This Row],[Наличн]:[Безнал]])*Table[[#This Row],[Скидка]]","v":20900},43811,{"$f":"DAY(Table[[#This Row],[Дата визита]])","v":12},{"$f":"MONTH(Table[[#This Row],[Дата визита]])","v":"1900-01-12"},{"$f":"YEAR(Table[[#This Row],[Дата визита]])","v":2019},{"$f":"WEEKNUM(Table[[#This Row],[Дата визита]])","v":50},"10:00:00","Ростов-на-Дону, ул. Максима Горького, д. 149","Минин В.","Клиент 51","mail@birdyx.ru","79008889900","Сайт","Завершено","да",4]
[43812,{"$f":"DAY('База заказов'!$A53)","v":13},{"$f":"'База заказов'!$A53","v":"2019-12-13"},{"$f":"YEAR('База заказов'!$A53)","v":2019},"Петров В.","Демонтаж входной двери",31900,null,null,{"$f":"SUM(Table[[#This Row],[Наличн]:[Безнал]])-SUM(Table[[#This Row],[Наличн]:[Безнал]])*Table[[#This Row],[Скидка]]","v":31900},43812,{"$f":"DAY(Table[[#This Row],[Дата визита]])","v":13},{"$f":"MONTH(Table[[#This Row],[Дата визита]])","v":"1900-01-12"},{"$f":"YEAR(Table[[#This Row],[Дата визита]])","v":2019},{"$f":"WEEKNUM(Table[[#This Row],[Дата визита]])","v":50},"12:00:00","Ростов-на-Дону, проспект Буденновский, д. 97","Белоусов В.","Клиент 52","mail@birdyx.ru","79008889900","Сайт","Завершено","да",4]
[43812,{"$f":"DAY('База заказов'!$A54)","v":13},{"$f":"'База заказов'!$A54","v":"2019-12-13"},{"$f":"YEAR('База заказов'!$A54)","v":2019},"Иванов И.","Нанесение декоративной штукатурки ",12800,null,null,{"$f":"SUM(Table[[#This Row],[Наличн]:[Безнал]])-SUM(Table[[#This Row],[Наличн]:[Безнал]])*Table[[#This Row],[Скидка]]","v":12800},43812,{"$f":"DAY(Table[[#This Row],[Дата визита]])","v":13},{"$f":"MONTH(Table[[#This Row],[Дата визита]])","v":"1900-01-12"},{"$f":"YEAR(Table[[#This Row],[Дата визита]])","v":2019},{"$f":"WEEKNUM(Table[[#This Row],[Дата визита]])","v":50},"16:00:00","Ростов-на-Дону, ул. Советская, д. 26/1","Субботин С.","Клиент 53","mail@birdyx.ru","79008889900","Авито","Завершено","да",4]
[43812,{"$f":"DAY('База заказов'!$A55)","v":13},{"$f":"'База заказов'!$A55","v":"2019-12-13"},{"$f":"YEAR('База заказов'!$A55)","v":2019},"Гончарова Н.","Укладка массивной доски","",36100,null,{"$f":"SUM(Table[[#This Row],[Наличн]:[Безнал]])-SUM(Table[[#This Row],[Наличн]:[Безнал]])*Table[[#This Row],[Скидка]]","v":36100},43812,{"$f":"DAY(Table[[#This Row],[Дата визита]])","v":13},{"$f":"MONTH(Table[[#This Row],[Дата визита]])","v":"1900-01-12"},{"$f":"YEAR(Table[[#This Row],[Дата визита]])","v":2019},{"$f":"WEEKNUM(Table[[#This Row],[Дата визита]])","v":50},"18:00:00","Ростов-на-Дону, ул. Мечникова, д. 43","Белозеров В.","Клиент 54","mail@birdyx.ru","79008889900","Авито","Завершено","да",4]
[43812,{"$f":"DAY('База заказов'!$A56)","v":13},{"$f":"'База заказов'!$A56","v":"2019-12-13"},{"$f":"YEAR('База заказов'!$A56)","v":2019},"Мишин М.","Нанесение декоративной штукатурки ",33200,null,0.15,{"$f":"SUM(Table[[#This Row],[Наличн]:[Безнал]])-SUM(Table[[#This Row],[Наличн]:[Безнал]])*Table[[#This Row],[Скидка]]","v":28220},43815,{"$f":"DAY(Table[[#This Row],[Дата визита]])","v":16},{"$f":"MONTH(Table[[#This Row],[Дата визита]])","v":"1900-01-12"},{"$f":"YEAR(Table[[#This Row],[Дата визита]])","v":2019},{"$f":"WEEKNUM(Table[[#This Row],[Дата визита]])","v":51},"10:00:00","Ростов-на-Дону, пер. Островского, д. 47","Беспалов Г.","Клиент 55","mail@birdyx.ru","79008889900","Авито","Завершено","да",4]
[43813,{"$f":"DAY('База заказов'!$A57)","v":14},{"$f":"'База заказов'!$A57","v":"2019-12-14"},{"$f":"YEAR('База заказов'!$A57)","v":2019},"Иванов И.","Поклейка обоев ",29600,null,null,{"$f":"SUM(Table[[#This Row],[Наличн]:[Безнал]])-SUM(Table[[#This Row],[Наличн]:[Безнал]])*Table[[#This Row],[Скидка]]","v":29600},43815,{"$f":"DAY(Table[[#This Row],[Дата визита]])","v":16},{"$f":"MONTH(Table[[#This Row],[Дата визита]])","v":"1900-01-12"},{"$f":"YEAR(Table[[#This Row],[Дата визита]])","v":2019},{"$f":"WEEKNUM(Table[[#This Row],[Дата визита]])","v":51},"12:00:00","Ростов-на-Дону, ул. Пушкинская, д. 225","Минин В.","Клиент 56","mail@birdyx.ru","79008889900","Сайт","Отмена","да",4]
[43814,{"$f":"DAY('База заказов'!$A58)","v":15},{"$f":"'База заказов'!$A58","v":"2019-12-15"},{"$f":"YEAR('База заказов'!$A58)","v":2019},"Иванов И.","Демонтаж входной двери",17300,null,null,{"$f":"SUM(Table[[#This Row],[Наличн]:[Безнал]])-SUM(Table[[#This Row],[Наличн]:[Безнал]])*Table[[#This Row],[Скидка]]","v":17300},43815,{"$f":"DAY(Table[[#This Row],[Дата визита]])","v":16},{"$f":"MONTH(Table[[#This Row],[Дата визита]])","v":"1900-01-12"},{"$f":"YEAR(Table[[#This Row],[Дата визита]])","v":2019},{"$f":"WEEKNUM(Table[[#This Row],[Дата визита]])","v":51},"16:00:00","Ростов-На-Дону, ул. Ченцова, д. 57/81","Минин В.","Клиент 57","mail@birdyx.ru","79008889900","Сайт","Завершено","да",4]
[43815,{"$f":"DAY('База заказов'!$A59)","v":16},{"$f":"'База заказов'!$A59","v":"2019-12-16"},{"$f":"YEAR('База заказов'!$A59)","v":2019},"Петров В.","Выкройка и монтаж дополнительных углов",34200,null,null,{"$f":"SUM(Table[[#This Row],[Наличн]:[Безнал]])-SUM(Table[[#This Row],[Наличн]:[Безнал]])*Table[[#This Row],[Скидка]]","v":34200},43815,{"$f":"DAY(Table[[#This Row],[Дата визита]])","v":16},{"$f":"MONTH(Table[[#This Row],[Дата визита]])","v":"1900-01-12"},{"$f":"YEAR(Table[[#This Row],[Дата визита]])","v":2019},{"$f":"WEEKNUM(Table[[#This Row],[Дата визита]])","v":51},"18:00:00","Ростов-на-Дону, ул. Текучева, д. 135","Минин В.","Клиент 58","mail@birdyx.ru","79008889900","Авито","Завершено","да",5]
[43816,{"$f":"DAY('База заказов'!$A60)","v":17},{"$f":"'База заказов'!$A60","v":"2019-12-17"},{"$f":"YEAR('База заказов'!$A60)","v":2019},"Иванов И.","Выкройка и монтаж дополнительных углов",9500,null,null,{"$f":"SUM(Table[[#This Row],[Наличн]:[Безнал]])-SUM(Table[[#This Row],[Наличн]:[Безнал]])*Table[[#This Row],[Скидка]]","v":9500},43816,{"$f":"DAY(Table[[#This Row],[Дата визита]])","v":17},{"$f":"MONTH(Table[[#This Row],[Дата визита]])","v":"1900-01-12"},{"$f":"YEAR(Table[[#This Row],[Дата визита]])","v":2019},{"$f":"WEEKNUM(Table[[#This Row],[Дата визита]])","v":51},"10:00:00","Ростов-на-Дону, пер. Газетный, д. 99","Субботин С.","Клиент 59","mail@birdyx.ru","79008889900","Сайт","Завершено","да",5]
[43817,{"$f":"DAY('База заказов'!$A61)","v":18},{"$f":"'База заказов'!$A61","v":"2019-12-18"},{"$f":"YEAR('База заказов'!$A61)","v":2019},"Гончарова Н.","Укладка паркетной доски на клей",7900,null,null,{"$f":"SUM(Table[[#This Row],[Наличн]:[Безнал]])-SUM(Table[[#This Row],[Наличн]:[Безнал]])*Table[[#This Row],[Скидка]]","v":7900},43817,{"$f":"DAY(Table[[#This Row],[Дата визита]])","v":18},{"$f":"MONTH(Table[[#This Row],[Дата визита]])","v":"1900-01-12"},{"$f":"YEAR(Table[[#This Row],[Дата визита]])","v":2019},{"$f":"WEEKNUM(Table[[#This Row],[Дата визита]])","v":51},"12:00:00","Ростов-на-Дону, проспект Кировский, д. 90","Минин В.","Клиент 60","mail@birdyx.ru","79008889900","По совету","Завершено","да",5]
[43818,{"$f":"DAY('База заказов'!$A62)","v":19},{"$f":"'База заказов'!$A62","v":"2019-12-19"},{"$f":"YEAR('База заказов'!$A62)","v":2019},"Мишин М.","Нанесение декоративной штукатурки ",33700,null,0.15,{"$f":"SUM(Table[[#This Row],[Наличн]:[Безнал]])-SUM(Table[[#This Row],[Наличн]:[Безнал]])*Table[[#This Row],[Скидка]]","v":28645},43818,{"$f":"DAY(Table[[#This Row],[Дата визита]])","v":19},{"$f":"MONTH(Table[[#This Row],[Дата визита]])","v":"1900-01-12"},{"$f":"YEAR(Table[[#This Row],[Дата визита]])","v":2019},{"$f":"WEEKNUM(Table[[#This Row],[Дата визита]])","v":51},"16:00:00","Ростов-на-Дону, ул. 14 Линия, д. 14","Белозеров В.","Клиент 61","mail@birdyx.ru","79008889900","Яндекс","Завершено","да",5]
[43818,{"$f":"DAY('База заказов'!$A63)","v":19},{"$f":"'База заказов'!$A63","v":"2019-12-19"},{"$f":"YEAR('База заказов'!$A63)","v":2019},"Иванов И.","Монтаж потолочного плинтуса",26700,null,null,{"$f":"SUM(Table[[#This Row],[Наличн]:[Безнал]])-SUM(Table[[#This Row],[Наличн]:[Безнал]])*Table[[#This Row],[Скидка]]","v":26700},43820,{"$f":"DAY(Table[[#This Row],[Дата визита]])","v":21},{"$f":"MONTH(Table[[#This Row],[Дата визита]])","v":"1900-01-12"},{"$f":"YEAR(Table[[#This Row],[Дата визита]])","v":2019},{"$f":"WEEKNUM(Table[[#This Row],[Дата визита]])","v":51},"18:00:00","Ростов-на-Дону, ул. Береговая, д. 30","Беспалов Г.","Клиент 62","mail@birdyx.ru","79008889900","Инстаграм","Завершено","да",5]
[43819,{"$f":"DAY('База заказов'!$A64)","v":20},{"$f":"'База заказов'!$A64","v":"2019-12-20"},{"$f":"YEAR('База заказов'!$A64)","v":2019},"Петров В.","Укладка фанеры в 1 слой",null,29600,null,{"$f":"SUM(Table[[#This Row],[Наличн]:[Безнал]])-SUM(Table[[#This Row],[Наличн]:[Безнал]])*Table[[#This Row],[Скидка]]","v":29600},43820,{"$f":"DAY(Table[[#This Row],[Дата визита]])","v":21},{"$f":"MONTH(Table[[#This Row],[Дата визита]])","v":"1900-01-12"},{"$f":"YEAR(Table[[#This Row],[Дата визита]])","v":2019},{"$f":"WEEKNUM(Table[[#This Row],[Дата визита]])","v":51},"10:00:00","Ростов-на-Дону, ул. Большая Садовая, д. 77","Устинов С.","Клиент 63","mail@birdyx.ru","79008889900","Яндекс","Завершено","да",5]
[43820,{"$f":"DAY('База заказов'!$A65)","v":21},{"$f":"'База заказов'!$A65","v":"2019-12-21"},{"$f":"YEAR('База заказов'!$A65)","v":2019},"Гончарова Н.","Укладка линолеума на клей",null,15600,null,{"$f":"SUM(Table[[#This Row],[Наличн]:[Безнал]])-SUM(Table[[#This Row],[Наличн]:[Безнал]])*Table[[#This Row],[Скидка]]","v":15600},43820,{"$f":"DAY(Table[[#This Row],[Дата визита]])","v":21},{"$f":"MONTH(Table[[#This Row],[Дата визита]])","v":"1900-01-12"},{"$f":"YEAR(Table[[#This Row],[Дата визита]])","v":2019},{"$f":"WEEKNUM(Table[[#This Row],[Дата визита]])","v":51},"12:00:00","Ростов-на-Дону, ул. 6-я линия, д. 4","Минин В.","Клиент 64","mail@birdyx.ru","79008889900","Сайт","Завершено","да",3]
[43821,{"$f":"DAY('База заказов'!$A66)","v":22},{"$f":"'База заказов'!$A66","v":"2019-12-22"},{"$f":"YEAR('База заказов'!$A66)","v":2019},"Гончарова Н.","Демонтаж раковины",39600,null,null,{"$f":"SUM(Table[[#This Row],[Наличн]:[Безнал]])-SUM(Table[[#This Row],[Наличн]:[Безнал]])*Table[[#This Row],[Скидка]]","v":39600},43821,{"$f":"DAY(Table[[#This Row],[Дата визита]])","v":22},{"$f":"MONTH(Table[[#This Row],[Дата визита]])","v":"1900-01-12"},{"$f":"YEAR(Table[[#This Row],[Дата визита]])","v":2019},{"$f":"WEEKNUM(Table[[#This Row],[Дата визита]])","v":52},"16:00:00","Ростов-на-Дону, ул. Гагринская, д. 46","Минин В.","Клиент 65","mail@birdyx.ru","79008889900","Авито","Завершено","да",3]
[43822,{"$f":"DAY('База заказов'!$A67)","v":23},{"$f":"'База заказов'!$A67","v":"2019-12-23"},{"$f":"YEAR('База заказов'!$A67)","v":2019},"Иванов И.","Демонтаж входной двери",15200,null,null,{"$f":"SUM(Table[[#This Row],[Наличн]:[Безнал]])-SUM(Table[[#This Row],[Наличн]:[Безнал]])*Table[[#This Row],[Скидка]]","v":15200},43822,{"$f":"DAY(Table[[#This Row],[Дата визита]])","v":23},{"$f":"MONTH(Table[[#This Row],[Дата визита]])","v":"1900-01-12"},{"$f":"YEAR(Table[[#This Row],[Дата визита]])","v":2019},{"$f":"WEEKNUM(Table[[#This Row],[Дата визита]])","v":52},"18:00:00","Ростов-на-Дону, ул. Вятская, д. 37/1","Субботин С.","Клиент 66","mail@birdyx.ru","79008889900","Авито","Завершено","да",2]
[43822,{"$f":"DAY('База заказов'!$A68)","v":23},{"$f":"'База заказов'!$A68","v":"2019-12-23"},{"$f":"YEAR('База заказов'!$A68)","v":2019},"Петров В.","Демонтаж балконного блока",22900,null,null,{"$f":"SUM(Table[[#This Row],[Наличн]:[Безнал]])-SUM(Table[[#This Row],[Наличн]:[Безнал]])*Table[[#This Row],[Скидка]]","v":22900},43822,{"$f":"DAY(Table[[#This Row],[Дата визита]])","v":23},{"$f":"MONTH(Table[[#This Row],[Дата визита]])","v":"1900-01-12"},{"$f":"YEAR(Table[[#This Row],[Дата визита]])","v":2019},{"$f":"WEEKNUM(Table[[#This Row],[Дата визита]])","v":52},"10:00:00","Ростов-на-Дону, ул. Станиславского, д. 58","Белозеров В.","Клиент 67","mail@birdyx.ru","79008889900","Сайт","Завершено","да",3]
[43822,{"$f":"DAY('База заказов'!$A69)","v":23},{"$f":"'База заказов'!$A69","v":"2019-12-23"},{"$f":"YEAR('База заказов'!$A69)","v":2019},"Иванов И.","Укладка паркетной доски на клей",34700,null,null,{"$f":"SUM(Table[[#This Row],[Наличн]:[Безнал]])-SUM(Table[[#This Row],[Наличн]:[Безнал]])*Table[[#This Row],[Скидка]]","v":34700},43822,{"$f":"DAY(Table[[#This Row],[Дата визита]])","v":23},{"$f":"MONTH(Table[[#This Row],[Дата визита]])","v":"1900-01-12"},{"$f":"YEAR(Table[[#This Row],[Дата визита]])","v":2019},{"$f":"WEEKNUM(Table[[#This Row],[Дата визита]])","v":52},"12:00:00","Ростов-на-Дону, пер. Нефтяной, д. 4 А","Беспалов Г.","Клиент 68","mail@birdyx.ru","79008889900","Инстаграм","Завершено","да",4]
[43823,{"$f":"DAY('База заказов'!$A70)","v":24},{"$f":"'База заказов'!$A70","v":"2019-12-24"},{"$f":"YEAR('База заказов'!$A70)","v":2019},"Гончарова Н.","Укладка кварцвиниловой плитки на подложку",12500,null,null,{"$f":"SUM(Table[[#This Row],[Наличн]:[Безнал]])-SUM(Table[[#This Row],[Наличн]:[Безнал]])*Table[[#This Row],[Скидка]]","v":12500},43823,{"$f":"DAY(Table[[#This Row],[Дата визита]])","v":24},{"$f":"MONTH(Table[[#This Row],[Дата визита]])","v":"1900-01-12"},{"$f":"YEAR(Table[[#This Row],[Дата визита]])","v":2019},{"$f":"WEEKNUM(Table[[#This Row],[Дата визита]])","v":52},"16:00:00","Ростов-на-Дону, ул. Станиславского, д. 167/25","Минин В.","Клиент 69","mail@birdyx.ru","79008889900","Яндекс","Завершено","да",3]
[43824,{"$f":"DAY('База заказов'!$A71)","v":25},{"$f":"'База заказов'!$A71","v":"2019-12-25"},{"$f":"YEAR('База заказов'!$A71)","v":2019},"Мишин М.","Укладка паркетной доски на подложку",27000,null,null,{"$f":"SUM(Table[[#This Row],[Наличн]:[Безнал]])-SUM(Table[[#This Row],[Наличн]:[Безнал]])*Table[[#This Row],[Скидка]]","v":27000},43824,{"$f":"DAY(Table[[#This Row],[Дата визита]])","v":25},{"$f":"MONTH(Table[[#This Row],[Дата визита]])","v":"1900-01-12"},{"$f":"YEAR(Table[[#This Row],[Дата визита]])","v":2019},{"$f":"WEEKNUM(Table[[#This Row],[Дата визита]])","v":52},"18:00:00","Ростов-на-Дону, проспект Соколова, д. 85","Белоусов В.","Клиент 70","mail@birdyx.ru","79008889900","По совету","Завершено","да",4]
[43825,{"$f":"DAY('База заказов'!$A72)","v":26},{"$f":"'База заказов'!$A72","v":"2019-12-26"},{"$f":"YEAR('База заказов'!$A72)","v":2019},"Иванов И.","Укладка массивной доски",null,11400,null,{"$f":"SUM(Table[[#This Row],[Наличн]:[Безнал]])-SUM(Table[[#This Row],[Наличн]:[Безнал]])*Table[[#This Row],[Скидка]]","v":11400},43827,{"$f":"DAY(Table[[#This Row],[Дата визита]])","v":28},{"$f":"MONTH(Table[[#This Row],[Дата визита]])","v":"1900-01-12"},{"$f":"YEAR(Table[[#This Row],[Дата визита]])","v":2019},{"$f":"WEEKNUM(Table[[#This Row],[Дата визита]])","v":52},"10:00:00","Ростов-на-Дону, ул. Московская, д. 80","Минин В.","Клиент 71","mail@birdyx.ru","79008889900","Авито","Завершено","да",5]
[43826,{"$f":"DAY('База заказов'!$A73)","v":27},{"$f":"'База заказов'!$A73","v":"2019-12-27"},{"$f":"YEAR('База заказов'!$A73)","v":2019},"Петров В.","Монтаж потолочного плинтуса",null,38100,null,{"$f":"SUM(Table[[#This Row],[Наличн]:[Безнал]])-SUM(Table[[#This Row],[Наличн]:[Безнал]])*Table[[#This Row],[Скидка]]","v":38100},43827,{"$f":"DAY(Table[[#This Row],[Дата визита]])","v":28},{"$f":"MONTH(Table[[#This Row],[Дата визита]])","v":"1900-01-12"},{"$f":"YEAR(Table[[#This Row],[Дата визита]])","v":2019},{"$f":"WEEKNUM(Table[[#This Row],[Дата визита]])","v":52},"12:00:00","Ростов-на-Дону, ул. Текучева, д. 151/2","Субботин С.","Клиент 72","mail@birdyx.ru","79008889900","Сайт","Завершено","да",4]
[43827,{"$f":"DAY('База заказов'!$A74)","v":28},{"$f":"'База заказов'!$A74","v":"2019-12-28"},{"$f":"YEAR('База заказов'!$A74)","v":2019},"Гончарова Н.","Демонтаж входной двери",null,36800,null,{"$f":"SUM(Table[[#This Row],[Наличн]:[Безнал]])-SUM(Table[[#This Row],[Наличн]:[Безнал]])*Table[[#This Row],[Скидка]]","v":36800},43827,{"$f":"DAY(Table[[#This Row],[Дата визита]])","v":28},{"$f":"MONTH(Table[[#This Row],[Дата визита]])","v":"1900-01-12"},{"$f":"YEAR(Table[[#This Row],[Дата визита]])","v":2019},{"$f":"WEEKNUM(Table[[#This Row],[Дата визита]])","v":52},"16:00:00","Ростов-На-Дону, ул. Тургеневская, д. 73","Минин В.","Клиент 73","mail@birdyx.ru","79008889900","Сайт","Завершено","да",5]
[43827,{"$f":"DAY('База заказов'!$A75)","v":28},{"$f":"'База заказов'!$A75","v":"2019-12-28"},{"$f":"YEAR('База заказов'!$A75)","v":2019},"Иванов И.","Монтаж потолочного плинтуса",null,12200,null,{"$f":"SUM(Table[[#This Row],[Наличн]:[Безнал]])-SUM(Table[[#This Row],[Наличн]:[Безнал]])*Table[[#This Row],[Скидка]]","v":12200},43827,{"$f":"DAY(Table[[#This Row],[Дата визита]])","v":28},{"$f":"MONTH(Table[[#This Row],[Дата визита]])","v":"1900-01-12"},{"$f":"YEAR(Table[[#This Row],[Дата визита]])","v":2019},{"$f":"WEEKNUM(Table[[#This Row],[Дата визита]])","v":52},"18:00:00","Ростов-на-Дону, бульвар Комарова, д. 20/1","Белозеров В.","Клиент 74","mail@birdyx.ru","79008889900","Авито","Отмена","да",5]
[43827,{"$f":"DAY('База заказов'!$A76)","v":28},{"$f":"'База заказов'!$A76","v":"2019-12-28"},{"$f":"YEAR('База заказов'!$A76)","v":2019},"Петров В.","Выкройка и монтаж дополнительных углов",null,14300,0.15,{"$f":"SUM(Table[[#This Row],[Наличн]:[Безнал]])-SUM(Table[[#This Row],[Наличн]:[Безнал]])*Table[[#This Row],[Скидка]]","v":12155},43827,{"$f":"DAY(Table[[#This Row],[Дата визита]])","v":28},{"$f":"MONTH(Table[[#This Row],[Дата визита]])","v":"1900-01-12"},{"$f":"YEAR(Table[[#This Row],[Дата визита]])","v":2019},{"$f":"WEEKNUM(Table[[#This Row],[Дата визита]])","v":52},"10:00:00","Ростов-на-Дону, ул. Пушкинская, д. 225/41/224","Беспалов Г.","Клиент 75","mail@birdyx.ru","79008889900","Авито","Отмена","да",4]
[43840,{"$f":"DAY('База заказов'!$A77)","v":10},{"$f":"'База заказов'!$A77","v":"2020-01-10"},{"$f":"YEAR('База заказов'!$A77)","v":2020},"Иванов И.","Укладка паркетной доски на подложку",null,33400,null,{"$f":"SUM(Table[[#This Row],[Наличн]:[Безнал]])-SUM(Table[[#This Row],[Наличн]:[Безнал]])*Table[[#This Row],[Скидка]]","v":33400},43840,{"$f":"DAY(Table[[#This Row],[Дата визита]])","v":10},{"$f":"MONTH(Table[[#This Row],[Дата визита]])","v":"1900-01-01"},{"$f":"YEAR(Table[[#This Row],[Дата визита]])","v":2020},{"$f":"WEEKNUM(Table[[#This Row],[Дата визита]])","v":2},"12:00:00","Ростов-На-Дону, ул. Пушкинская, д. 1/36","Устинов С.","Клиент 76","mail@birdyx.ru","79008889900","Авито","Отмена","да",5]
[43841,{"$f":"DAY('База заказов'!$A78)","v":11},{"$f":"'База заказов'!$A78","v":"2020-01-11"},{"$f":"YEAR('База заказов'!$A78)","v":2020},"Гончарова Н.","Демонтаж балконного блока",null,11500,null,{"$f":"SUM(Table[[#This Row],[Наличн]:[Безнал]])-SUM(Table[[#This Row],[Наличн]:[Безнал]])*Table[[#This Row],[Скидка]]","v":11500},43843,{"$f":"DAY(Table[[#This Row],[Дата визита]])","v":13},{"$f":"MONTH(Table[[#This Row],[Дата визита]])","v":"1900-01-01"},{"$f":"YEAR(Table[[#This Row],[Дата визита]])","v":2020},{"$f":"WEEKNUM(Table[[#This Row],[Дата визита]])","v":3},"16:00:00","Ростов-на-Дону, пер. Газетный, д. 92/85","Шарапов В.","Клиент 77","mail@birdyx.ru","79008889900","Сайт","Отмена","да",3]
[43842,{"$f":"DAY('База заказов'!$A79)","v":12},{"$f":"'База заказов'!$A79","v":"2020-01-12"},{"$f":"YEAR('База заказов'!$A79)","v":2020},"Мишин М.","Укладка паркетной доски на клей",16500,null,null,{"$f":"SUM(Table[[#This Row],[Наличн]:[Безнал]])-SUM(Table[[#This Row],[Наличн]:[Безнал]])*Table[[#This Row],[Скидка]]","v":16500},43843,{"$f":"DAY(Table[[#This Row],[Дата визита]])","v":13},{"$f":"MONTH(Table[[#This Row],[Дата визита]])","v":"1900-01-01"},{"$f":"YEAR(Table[[#This Row],[Дата визита]])","v":2020},{"$f":"WEEKNUM(Table[[#This Row],[Дата визита]])","v":3},"18:00:00","Ростов-на-Дону, проспект Буденновский, д. 106/2","Белоусов В.","Клиент 78","mail@birdyx.ru","79008889900","Сайт","Отмена","да",5]
[43843,{"$f":"DAY('База заказов'!$A80)","v":13},{"$f":"'База заказов'!$A80","v":"2020-01-13"},{"$f":"YEAR('База заказов'!$A80)","v":2020},"Иванов И.","Укладка массивной доски",39800,null,null,{"$f":"SUM(Table[[#This Row],[Наличн]:[Безнал]])-SUM(Table[[#This Row],[Наличн]:[Безнал]])*Table[[#This Row],[Скидка]]","v":39800},43843,{"$f":"DAY(Table[[#This Row],[Дата визита]])","v":13},{"$f":"MONTH(Table[[#This Row],[Дата визита]])","v":"1900-01-01"},{"$f":"YEAR(Table[[#This Row],[Дата визита]])","v":2020},{"$f":"WEEKNUM(Table[[#This Row],[Дата визита]])","v":3},"10:00:00","Ростов-на-Дону, ул. Пушкинская, д. 104/32","Минин В.","Клиент 79","mail@birdyx.ru","79008889900","Авито","Завершено","да",4]
[43843,{"$f":"DAY('База заказов'!$A81)","v":13},{"$f":"'База заказов'!$A81","v":"2020-01-13"},{"$f":"YEAR('База заказов'!$A81)","v":2020},"Петров В.","Монтаж потолочного плинтуса",15300,null,null,{"$f":"SUM(Table[[#This Row],[Наличн]:[Безнал]])-SUM(Table[[#This Row],[Наличн]:[Безнал]])*Table[[#This Row],[Скидка]]","v":15300},43843,{"$f":"DAY(Table[[#This Row],[Дата визита]])","v":13},{"$f":"MONTH(Table[[#This Row],[Дата визита]])","v":"1900-01-01"},{"$f":"YEAR(Table[[#This Row],[Дата визита]])","v":2020},{"$f":"WEEKNUM(Table[[#This Row],[Дата визита]])","v":3},"12:00:00","Ростов-на-Дону, ул. Республиканская, д. 1/8","Шарапов В.","Клиент 80","mail@birdyx.ru","79008889900","Сайт","Завершено","да",5]
[43843,{"$f":"DAY('База заказов'!$A82)","v":13},{"$f":"'База заказов'!$A82","v":"2020-01-13"},{"$f":"YEAR('База заказов'!$A82)","v":2020},"Гончарова Н.","Демонтаж входной двери",21500,null,null,{"$f":"SUM(Table[[#This Row],[Наличн]:[Безнал]])-SUM(Table[[#This Row],[Наличн]:[Безнал]])*Table[[#This Row],[Скидка]]","v":21500},43843,{"$f":"DAY(Table[[#This Row],[Дата визита]])","v":13},{"$f":"MONTH(Table[[#This Row],[Дата визита]])","v":"1900-01-01"},{"$f":"YEAR(Table[[#This Row],[Дата визита]])","v":2020},{"$f":"WEEKNUM(Table[[#This Row],[Дата визита]])","v":3},"16:00:00","Ростов-на-Дону, ул. Красноармейская, д. 33","Субботин С.","Клиент 81","mail@birdyx.ru","79008889900","По совету","Завершено","да",5]
[43846,{"$f":"DAY('База заказов'!$A83)","v":16},{"$f":"'База заказов'!$A83","v":"2020-01-16"},{"$f":"YEAR('База заказов'!$A83)","v":2020},"Гончарова Н.","Демонтаж раковины",8100,null,null,{"$f":"SUM(Table[[#This Row],[Наличн]:[Безнал]])-SUM(Table[[#This Row],[Наличн]:[Безнал]])*Table[[#This Row],[Скидка]]","v":8100},43846,{"$f":"DAY(Table[[#This Row],[Дата визита]])","v":16},{"$f":"MONTH(Table[[#This Row],[Дата визита]])","v":"1900-01-01"},{"$f":"YEAR(Table[[#This Row],[Дата визита]])","v":2020},{"$f":"WEEKNUM(Table[[#This Row],[Дата визита]])","v":3},"18:00:00","Ростов-на-Дону, ул. Максима Горького, д. 11/43","Минин В.","Клиент 82","mail@birdyx.ru","79008889900","Яндекс","Завершено","да",4]
[43846,{"$f":"DAY('База заказов'!$A84)","v":16},{"$f":"'База заказов'!$A84","v":"2020-01-16"},{"$f":"YEAR('База заказов'!$A84)","v":2020},"Мишин М.","Демонтаж душевой кабины",null,23400,0.15,{"$f":"SUM(Table[[#This Row],[Наличн]:[Безнал]])-SUM(Table[[#This Row],[Наличн]:[Безнал]])*Table[[#This Row],[Скидка]]","v":19890},43846,{"$f":"DAY(Table[[#This Row],[Дата визита]])","v":16},{"$f":"MONTH(Table[[#This Row],[Дата визита]])","v":"1900-01-01"},{"$f":"YEAR(Table[[#This Row],[Дата визита]])","v":2020},{"$f":"WEEKNUM(Table[[#This Row],[Дата визита]])","v":3},"10:00:00","Ростов-на-Дону, ул. Алма-Атинская, д. 29/2 А","Белозеров В.","Клиент 83","mail@birdyx.ru","79008889900","Инстаграм","Завершено","да",5]
[43848,{"$f":"DAY('База заказов'!$A85)","v":18},{"$f":"'База заказов'!$A85","v":"2020-01-18"},{"$f":"YEAR('База заказов'!$A85)","v":2020},"Иванов И.","Демонтаж балконного блока",null,37700,null,{"$f":"SUM(Table[[#This Row],[Наличн]:[Безнал]])-SUM(Table[[#This Row],[Наличн]:[Безнал]])*Table[[#This Row],[Скидка]]","v":37700},43848,{"$f":"DAY(Table[[#This Row],[Дата визита]])","v":18},{"$f":"MONTH(Table[[#This Row],[Дата визита]])","v":"1900-01-01"},{"$f":"YEAR(Table[[#This Row],[Дата визита]])","v":2020},{"$f":"WEEKNUM(Table[[#This Row],[Дата визита]])","v":3},"12:00:00","Ростов-на-Дону, ул. Малиновского, д. 68/1","Беспалов Г.","Клиент 84","mail@birdyx.ru","79008889900","Яндекс","Завершено","да",5]
[43849,{"$f":"DAY('База заказов'!$A86)","v":19},{"$f":"'База заказов'!$A86","v":"2020-01-19"},{"$f":"YEAR('База заказов'!$A86)","v":2020},"Петров В.","Укладка паркетной доски на клей",null,11900,null,{"$f":"SUM(Table[[#This Row],[Наличн]:[Безнал]])-SUM(Table[[#This Row],[Наличн]:[Безнал]])*Table[[#This Row],[Скидка]]","v":11900},43849,{"$f":"DAY(Table[[#This Row],[Дата визита]])","v":19},{"$f":"MONTH(Table[[#This Row],[Дата визита]])","v":"1900-01-01"},{"$f":"YEAR(Table[[#This Row],[Дата визита]])","v":2020},{"$f":"WEEKNUM(Table[[#This Row],[Дата визита]])","v":4},"16:00:00","Ростов-на-Дону, ул. Береговая, д. 5","Устинов С.","Клиент 85","mail@birdyx.ru","79008889900","Сайт","Завершено","да",5]
[43850,{"$f":"DAY('База заказов'!$A87)","v":20},{"$f":"'База заказов'!$A87","v":"2020-01-20"},{"$f":"YEAR('База заказов'!$A87)","v":2020},"Иванов И.","Демонтаж входной двери",null,8400,null,{"$f":"SUM(Table[[#This Row],[Наличн]:[Безнал]])-SUM(Table[[#This Row],[Наличн]:[Безнал]])*Table[[#This Row],[Скидка]]","v":8400},43850,{"$f":"DAY(Table[[#This Row],[Дата визита]])","v":20},{"$f":"MONTH(Table[[#This Row],[Дата визита]])","v":"1900-01-01"},{"$f":"YEAR(Table[[#This Row],[Дата визита]])","v":2020},{"$f":"WEEKNUM(Table[[#This Row],[Дата визита]])","v":4},"18:00:00","Ростов-на-Дону, пл. Гагарина, д. 1","Минин В.","Клиент 86","mail@birdyx.ru","79008889900","Авито","Завершено","да",3]
[43850,{"$f":"DAY('База заказов'!$A88)","v":20},{"$f":"'База заказов'!$A88","v":"2020-01-20"},{"$f":"YEAR('База заказов'!$A88)","v":2020},"Гончарова Н.","Укладка паркетной доски на подложку",null,22900,null,{"$f":"SUM(Table[[#This Row],[Наличн]:[Безнал]])-SUM(Table[[#This Row],[Наличн]:[Безнал]])*Table[[#This Row],[Скидка]]","v":22900},43850,{"$f":"DAY(Table[[#This Row],[Дата визита]])","v":20},{"$f":"MONTH(Table[[#This Row],[Дата визита]])","v":"1900-01-01"},{"$f":"YEAR(Table[[#This Row],[Дата визита]])","v":2020},{"$f":"WEEKNUM(Table[[#This Row],[Дата визита]])","v":4},"09:00:00","Ростов-на-Дону, ул. Механизаторов, д. 6А","Минин В.","Клиент 87","mail@birdyx.ru","79008889900","Авито","Завершено","да",3]
[43850,{"$f":"DAY('База заказов'!$A89)","v":20},{"$f":"'База заказов'!$A89","v":"2020-01-20"},{"$f":"YEAR('База заказов'!$A89)","v":2020},"Мишин М.","Укладка массивной доски",null,8700,null,{"$f":"SUM(Table[[#This Row],[Наличн]:[Безнал]])-SUM(Table[[#This Row],[Наличн]:[Безнал]])*Table[[#This Row],[Скидка]]","v":8700},43855,{"$f":"DAY(Table[[#This Row],[Дата визита]])","v":25},{"$f":"MONTH(Table[[#This Row],[Дата визита]])","v":"1900-01-01"},{"$f":"YEAR(Table[[#This Row],[Дата визита]])","v":2020},{"$f":"WEEKNUM(Table[[#This Row],[Дата визита]])","v":4},"11:00:00","Ростов-На-Дону, проспект Буденновский, д. 3/3","Субботин С.","Клиент 88","mail@birdyx.ru","79008889900","Сайт","Завершено","да",2]
[43853,{"$f":"DAY('База заказов'!$A90)","v":23},{"$f":"'База заказов'!$A90","v":"2020-01-23"},{"$f":"YEAR('База заказов'!$A90)","v":2020},"Иванов И.","Монтаж потолочного плинтуса",null,9400,null,{"$f":"SUM(Table[[#This Row],[Наличн]:[Безнал]])-SUM(Table[[#This Row],[Наличн]:[Безнал]])*Table[[#This Row],[Скидка]]","v":9400},43855,{"$f":"DAY(Table[[#This Row],[Дата визита]])","v":25},{"$f":"MONTH(Table[[#This Row],[Дата визита]])","v":"1900-01-01"},{"$f":"YEAR(Table[[#This Row],[Дата визита]])","v":2020},{"$f":"WEEKNUM(Table[[#This Row],[Дата визита]])","v":4},"15:00:00","Ростов-на-Дону, ул. Обороны, д. 40/17","Белозеров В.","Клиент 89","mail@birdyx.ru","79008889900","Инстаграм","Завершено","да",4]
[43853,{"$f":"DAY('База заказов'!$A91)","v":23},{"$f":"'База заказов'!$A91","v":"2020-01-23"},{"$f":"YEAR('База заказов'!$A91)","v":2020},"Петров В.","Укладка массивной доски",null,30900,null,{"$f":"SUM(Table[[#This Row],[Наличн]:[Безнал]])-SUM(Table[[#This Row],[Наличн]:[Безнал]])*Table[[#This Row],[Скидка]]","v":30900},43855,{"$f":"DAY(Table[[#This Row],[Дата визита]])","v":25},{"$f":"MONTH(Table[[#This Row],[Дата визита]])","v":"1900-01-01"},{"$f":"YEAR(Table[[#This Row],[Дата визита]])","v":2020},{"$f":"WEEKNUM(Table[[#This Row],[Дата визита]])","v":4},"17:00:00","Ростов-на-Дону, ул. Судостроительная, д. 55","Беспалов Г.","Клиент 90","mail@birdyx.ru","79008889900","Яндекс","Завершено","да",5]
[43855,{"$f":"DAY('База заказов'!$A92)","v":25},{"$f":"'База заказов'!$A92","v":"2020-01-25"},{"$f":"YEAR('База заказов'!$A92)","v":2020},"Гончарова Н.","Монтаж потолочного плинтуса",null,22500,null,{"$f":"SUM(Table[[#This Row],[Наличн]:[Безнал]])-SUM(Table[[#This Row],[Наличн]:[Безнал]])*Table[[#This Row],[Скидка]]","v":22500},43855,{"$f":"DAY(Table[[#This Row],[Дата визита]])","v":25},{"$f":"MONTH(Table[[#This Row],[Дата визита]])","v":"1900-01-01"},{"$f":"YEAR(Table[[#This Row],[Дата визита]])","v":2020},{"$f":"WEEKNUM(Table[[#This Row],[Дата визита]])","v":4},"09:00:00","Ростов-На-Дону, пер. Семашко, д. 46/1","Шарапов В.","Клиент 91","mail@birdyx.ru","79008889900","По совету","Завершено","да",3]
[43856,{"$f":"DAY('База заказов'!$A93)","v":26},{"$f":"'База заказов'!$A93","v":"2020-01-26"},{"$f":"YEAR('База заказов'!$A93)","v":2020},"Гончарова Н.","Выкройка и монтаж дополнительных углов",null,11300,0.15,{"$f":"SUM(Table[[#This Row],[Наличн]:[Безнал]])-SUM(Table[[#This Row],[Наличн]:[Безнал]])*Table[[#This Row],[Скидка]]","v":9605},43856,{"$f":"DAY(Table[[#This Row],[Дата визита]])","v":26},{"$f":"MONTH(Table[[#This Row],[Дата визита]])","v":"1900-01-01"},{"$f":"YEAR(Table[[#This Row],[Дата визита]])","v":2020},{"$f":"WEEKNUM(Table[[#This Row],[Дата визита]])","v":5},"11:00:00","Ростов-на-Дону, проспект Соколова, д. 11/Б","Белоусов В.","Клиент 92","mail@birdyx.ru","79008889900","Авито","Завершено","да",5]
[43857,{"$f":"DAY('База заказов'!$A94)","v":27},{"$f":"'База заказов'!$A94","v":"2020-01-27"},{"$f":"YEAR('База заказов'!$A94)","v":2020},"Мишин М.","Укладка паркетной доски на подложку",null,38300,null,{"$f":"SUM(Table[[#This Row],[Наличн]:[Безнал]])-SUM(Table[[#This Row],[Наличн]:[Безнал]])*Table[[#This Row],[Скидка]]","v":38300},43857,{"$f":"DAY(Table[[#This Row],[Дата визита]])","v":27},{"$f":"MONTH(Table[[#This Row],[Дата визита]])","v":"1900-01-01"},{"$f":"YEAR(Table[[#This Row],[Дата визита]])","v":2020},{"$f":"WEEKNUM(Table[[#This Row],[Дата визита]])","v":5},"15:00:00","Ростов-на-Дону, ул. Ларина, д. 41/19","Шарапов В.","Клиент 93","mail@birdyx.ru","79008889900","Сайт","Завершено","да",4]
[43857,{"$f":"DAY('База заказов'!$A95)","v":27},{"$f":"'База заказов'!$A95","v":"2020-01-27"},{"$f":"YEAR('База заказов'!$A95)","v":2020},"Иванов И.","Демонтаж входной двери",null,29700,null,{"$f":"SUM(Table[[#This Row],[Наличн]:[Безнал]])-SUM(Table[[#This Row],[Наличн]:[Безнал]])*Table[[#This Row],[Скидка]]","v":29700},43857,{"$f":"DAY(Table[[#This Row],[Дата визита]])","v":27},{"$f":"MONTH(Table[[#This Row],[Дата визита]])","v":"1900-01-01"},{"$f":"YEAR(Table[[#This Row],[Дата визита]])","v":2020},{"$f":"WEEKNUM(Table[[#This Row],[Дата визита]])","v":5},"17:00:00","Ростов-на-Дону, проспект Коммунистический, д. 20/4","Субботин С.","Клиент 94","mail@birdyx.ru","79008889900","Авито","Завершено","да",3]
[43857,{"$f":"DAY('База заказов'!$A96)","v":27},{"$f":"'База заказов'!$A96","v":"2020-01-27"},{"$f":"YEAR('База заказов'!$A96)","v":2020},"Петров В.","Укладка паркетной доски на клей",null,29500,null,{"$f":"SUM(Table[[#This Row],[Наличн]:[Безнал]])-SUM(Table[[#This Row],[Наличн]:[Безнал]])*Table[[#This Row],[Скидка]]","v":29500},43857,{"$f":"DAY(Table[[#This Row],[Дата визита]])","v":27},{"$f":"MONTH(Table[[#This Row],[Дата визита]])","v":"1900-01-01"},{"$f":"YEAR(Table[[#This Row],[Дата визита]])","v":2020},{"$f":"WEEKNUM(Table[[#This Row],[Дата визита]])","v":5},"09:00:00","Ростов-на-Дону, ул. Цезаря Куникова, д. 32/А","Минин В.","Клиент 95","mail@birdyx.ru","79008889900","Авито","Завершено","да",5]
[43860,{"$f":"DAY('База заказов'!$A97)","v":30},{"$f":"'База заказов'!$A97","v":"2020-01-30"},{"$f":"YEAR('База заказов'!$A97)","v":2020},"Иванов И.","Укладка массивной доски",null,38600,null,{"$f":"SUM(Table[[#This Row],[Наличн]:[Безнал]])-SUM(Table[[#This Row],[Наличн]:[Безнал]])*Table[[#This Row],[Скидка]]","v":38600},43860,{"$f":"DAY(Table[[#This Row],[Дата визита]])","v":30},{"$f":"MONTH(Table[[#This Row],[Дата визита]])","v":"1900-01-01"},{"$f":"YEAR(Table[[#This Row],[Дата визита]])","v":2020},{"$f":"WEEKNUM(Table[[#This Row],[Дата визита]])","v":5},"11:00:00","Ростов-на-Дону, ул. Красноармейская, д. 21","Белозеров В.","Клиент 96","mail@birdyx.ru","79008889900","Авито","Завершено","да",4]
[43861,{"$f":"DAY('База заказов'!$A98)","v":31},{"$f":"'База заказов'!$A98","v":"2020-01-31"},{"$f":"YEAR('База заказов'!$A98)","v":2020},"Гончарова Н.","Монтаж потолочного плинтуса",null,21000,0.15,{"$f":"SUM(Table[[#This Row],[Наличн]:[Безнал]])-SUM(Table[[#This Row],[Наличн]:[Безнал]])*Table[[#This Row],[Скидка]]","v":17850},43861,{"$f":"DAY(Table[[#This Row],[Дата визита]])","v":31},{"$f":"MONTH(Table[[#This Row],[Дата визита]])","v":"1900-01-01"},{"$f":"YEAR(Table[[#This Row],[Дата визита]])","v":2020},{"$f":"WEEKNUM(Table[[#This Row],[Дата визита]])","v":5},"15:00:00","Ростов-на-Дону, проспект 40-летия Победы, д. 95/3","Беспалов Г.","Клиент 97","mail@birdyx.ru","79008889900","Сайт","Завершено","да",5]
[43862,{"$f":"DAY('База заказов'!$A99)","v":1},{"$f":"'База заказов'!$A99","v":"2020-02-01"},{"$f":"YEAR('База заказов'!$A99)","v":2020},"Мишин М.","Демонтаж входной двери",null,14800,null,{"$f":"SUM(Table[[#This Row],[Наличн]:[Безнал]])-SUM(Table[[#This Row],[Наличн]:[Безнал]])*Table[[#This Row],[Скидка]]","v":14800},43862,{"$f":"DAY(Table[[#This Row],[Дата визита]])","v":1},{"$f":"MONTH(Table[[#This Row],[Дата визита]])","v":"1900-01-02"},{"$f":"YEAR(Table[[#This Row],[Дата визита]])","v":2020},{"$f":"WEEKNUM(Table[[#This Row],[Дата визита]])","v":5},"17:00:00","Ростов-на-Дону, ул. Станиславского, д. 58","Устинов С.","Клиент 98","mail@birdyx.ru","79008889900","Сайт","Отмена","да",4]
[43862,{"$f":"DAY('База заказов'!$A100)","v":1},{"$f":"'База заказов'!$A100","v":"2020-02-01"},{"$f":"YEAR('База заказов'!$A100)","v":2020},"Иванов И.","Демонтаж душевой кабины",null,39200,null,{"$f":"SUM(Table[[#This Row],[Наличн]:[Безнал]])-SUM(Table[[#This Row],[Наличн]:[Безнал]])*Table[[#This Row],[Скидка]]","v":39200},43862,{"$f":"DAY(Table[[#This Row],[Дата визита]])","v":1},{"$f":"MONTH(Table[[#This Row],[Дата визита]])","v":"1900-01-02"},{"$f":"YEAR(Table[[#This Row],[Дата визита]])","v":2020},{"$f":"WEEKNUM(Table[[#This Row],[Дата визита]])","v":5},"09:00:00","Ростов-на-Дону, проспект Буденновский, 86/197","Шарапов В.","Клиент 99","mail@birdyx.ru","79008889900","Авито","Завершено","да",3]
[43864,{"$f":"DAY('База заказов'!$A101)","v":3},{"$f":"'База заказов'!$A101","v":"2020-02-03"},{"$f":"YEAR('База заказов'!$A101)","v":2020},"Петров В.","Демонтаж раковины",null,31900,null,{"$f":"SUM(Table[[#This Row],[Наличн]:[Безнал]])-SUM(Table[[#This Row],[Наличн]:[Безнал]])*Table[[#This Row],[Скидка]]","v":31900},43864,{"$f":"DAY(Table[[#This Row],[Дата визита]])","v":3},{"$f":"MONTH(Table[[#This Row],[Дата визита]])","v":"1900-01-02"},{"$f":"YEAR(Table[[#This Row],[Дата визита]])","v":2020},{"$f":"WEEKNUM(Table[[#This Row],[Дата визита]])","v":6},"11:00:00","Ростов-на-Дону, ул. Липовая, 5","Белоусов В.","Клиент 100","mail@birdyx.ru","79008889900","Сайт","Завершено","да",4]
[43865,{"$f":"DAY('База заказов'!$A102)","v":4},{"$f":"'База заказов'!$A102","v":"2020-02-04"},{"$f":"YEAR('База заказов'!$A102)","v":2020},"Гончарова Н.","Демонтаж оконного блока",null,27900,null,{"$f":"SUM(Table[[#This Row],[Наличн]:[Безнал]])-SUM(Table[[#This Row],[Наличн]:[Безнал]])*Table[[#This Row],[Скидка]]","v":27900},43865,{"$f":"DAY(Table[[#This Row],[Дата визита]])","v":4},{"$f":"MONTH(Table[[#This Row],[Дата визита]])","v":"1900-01-02"},{"$f":"YEAR(Table[[#This Row],[Дата визита]])","v":2020},{"$f":"WEEKNUM(Table[[#This Row],[Дата визита]])","v":6},"15:00:00","Ростов-на-Дону, ул. Станиславского, д. 58","Субботин С.","Клиент 101","mail@birdyx.ru","79008889900","По совету","Завершено","да",3]
[43866,{"$f":"DAY('База заказов'!$A103)","v":5},{"$f":"'База заказов'!$A103","v":"2020-02-05"},{"$f":"YEAR('База заказов'!$A103)","v":2020},"Иванов И.","Укладка керамической плитки, керамогранита на пол с затиркой",null,29900,null,{"$f":"SUM(Table[[#This Row],[Наличн]:[Безнал]])-SUM(Table[[#This Row],[Наличн]:[Безнал]])*Table[[#This Row],[Скидка]]","v":29900},43866,{"$f":"DAY(Table[[#This Row],[Дата визита]])","v":5},{"$f":"MONTH(Table[[#This Row],[Дата визита]])","v":"1900-01-02"},{"$f":"YEAR(Table[[#This Row],[Дата визита]])","v":2020},{"$f":"WEEKNUM(Table[[#This Row],[Дата визита]])","v":6},"17:00:00","Ростов-на-Дону, ул. Беляева, д. 22А","Минин В.","Клиент 102","mail@birdyx.ru","79008889900","Яндекс","Завершено","да",4]
[43867,{"$f":"DAY('База заказов'!$A104)","v":6},{"$f":"'База заказов'!$A104","v":"2020-02-06"},{"$f":"YEAR('База заказов'!$A104)","v":2020},"Петров В.","Укладка массивной доски",null,34200,null,{"$f":"SUM(Table[[#This Row],[Наличн]:[Безнал]])-SUM(Table[[#This Row],[Наличн]:[Безнал]])*Table[[#This Row],[Скидка]]","v":34200},43867,{"$f":"DAY(Table[[#This Row],[Дата визита]])","v":6},{"$f":"MONTH(Table[[#This Row],[Дата визита]])","v":"1900-01-02"},{"$f":"YEAR(Table[[#This Row],[Дата визита]])","v":2020},{"$f":"WEEKNUM(Table[[#This Row],[Дата визита]])","v":6},"10:00:00","Ростов-на-Дону, ул. 22 Линия, д. 34","Шарапов В.","Клиент 103","mail@birdyx.ru","79008889900","Инстаграм","Завершено","да",3]
[43868,{"$f":"DAY('База заказов'!$A105)","v":7},{"$f":"'База заказов'!$A105","v":"2020-02-07"},{"$f":"YEAR('База заказов'!$A105)","v":2020},"Иванов И.","Нанесение декоративной штукатурки ",null,16700,null,{"$f":"SUM(Table[[#This Row],[Наличн]:[Безнал]])-SUM(Table[[#This Row],[Наличн]:[Безнал]])*Table[[#This Row],[Скидка]]","v":16700},43868,{"$f":"DAY(Table[[#This Row],[Дата визита]])","v":7},{"$f":"MONTH(Table[[#This Row],[Дата визита]])","v":"1900-01-02"},{"$f":"YEAR(Table[[#This Row],[Дата визита]])","v":2020},{"$f":"WEEKNUM(Table[[#This Row],[Дата визита]])","v":6},"12:00:00","Ростов-На-Дону, проспект Шолохова, д. 288","Субботин С.","Клиент 104","mail@birdyx.ru","79008889900","Яндекс","Завершено","да",4]
[43868,{"$f":"DAY('База заказов'!$A106)","v":7},{"$f":"'База заказов'!$A106","v":"2020-02-07"},{"$f":"YEAR('База заказов'!$A106)","v":2020},"Гончарова Н.","Укладка массивной доски",null,20400,0.15,{"$f":"SUM(Table[[#This Row],[Наличн]:[Безнал]])-SUM(Table[[#This Row],[Наличн]:[Безнал]])*Table[[#This Row],[Скидка]]","v":17340},43868,{"$f":"DAY(Table[[#This Row],[Дата визита]])","v":7},{"$f":"MONTH(Table[[#This Row],[Дата визита]])","v":"1900-01-02"},{"$f":"YEAR(Table[[#This Row],[Дата визита]])","v":2020},{"$f":"WEEKNUM(Table[[#This Row],[Дата визита]])","v":6},"16:00:00","Ростов-на-Дону, проспект Кировский, д. 57","Минин В.","Клиент 105","mail@birdyx.ru","79008889900","Сайт","Завершено","да",5]
[43870,{"$f":"DAY('База заказов'!$A107)","v":9},{"$f":"'База заказов'!$A107","v":"2020-02-09"},{"$f":"YEAR('База заказов'!$A107)","v":2020},"Мишин М.","Демонтаж входной двери",null,24200,null,{"$f":"SUM(Table[[#This Row],[Наличн]:[Безнал]])-SUM(Table[[#This Row],[Наличн]:[Безнал]])*Table[[#This Row],[Скидка]]","v":24200},43870,{"$f":"DAY(Table[[#This Row],[Дата визита]])","v":9},{"$f":"MONTH(Table[[#This Row],[Дата визита]])","v":"1900-01-02"},{"$f":"YEAR(Table[[#This Row],[Дата визита]])","v":2020},{"$f":"WEEKNUM(Table[[#This Row],[Дата визита]])","v":7},"18:00:00","Ростов-на-Дону, Стартовая 20","Белозеров В.","Клиент 106","mail@birdyx.ru","79008889900","Авито","Завершено","да",5]
[43870,{"$f":"DAY('База заказов'!$A108)","v":9},{"$f":"'База заказов'!$A108","v":"2020-02-09"},{"$f":"YEAR('База заказов'!$A108)","v":2020},"Иванов И.","Поклейка обоев ",null,11800,null,{"$f":"SUM(Table[[#This Row],[Наличн]:[Безнал]])-SUM(Table[[#This Row],[Наличн]:[Безнал]])*Table[[#This Row],[Скидка]]","v":11800},43872,{"$f":"DAY(Table[[#This Row],[Дата визита]])","v":11},{"$f":"MONTH(Table[[#This Row],[Дата визита]])","v":"1900-01-02"},{"$f":"YEAR(Table[[#This Row],[Дата визита]])","v":2020},{"$f":"WEEKNUM(Table[[#This Row],[Дата визита]])","v":7},"10:00:00","Ростов-на-Дону, Стартовая 22","Беспалов Г.","Клиент 107","mail@birdyx.ru","79008889900","Авито","Завершено","да",4]
[43872,{"$f":"DAY('База заказов'!$A109)","v":11},{"$f":"'База заказов'!$A109","v":"2020-02-11"},{"$f":"YEAR('База заказов'!$A109)","v":2020},"Петров В.","Укладка паркетной доски на клей",null,14400,null,{"$f":"SUM(Table[[#This Row],[Наличн]:[Безнал]])-SUM(Table[[#This Row],[Наличн]:[Безнал]])*Table[[#This Row],[Скидка]]","v":14400},43872,{"$f":"DAY(Table[[#This Row],[Дата визита]])","v":11},{"$f":"MONTH(Table[[#This Row],[Дата визита]])","v":"1900-01-02"},{"$f":"YEAR(Table[[#This Row],[Дата визита]])","v":2020},{"$f":"WEEKNUM(Table[[#This Row],[Дата визита]])","v":7},"12:00:00","Ростов-на-Дону, Жданова 15","Устинов С.","Клиент 108","mail@birdyx.ru","79008889900","Сайт","Завершено","да",5]
[43873,{"$f":"DAY('База заказов'!$A110)","v":12},{"$f":"'База заказов'!$A110","v":"2020-02-12"},{"$f":"YEAR('База заказов'!$A110)","v":2020},"Гончарова Н.","Выкройка и монтаж дополнительных углов",null,26800,null,{"$f":"SUM(Table[[#This Row],[Наличн]:[Безнал]])-SUM(Table[[#This Row],[Наличн]:[Безнал]])*Table[[#This Row],[Скидка]]","v":26800},43873,{"$f":"DAY(Table[[#This Row],[Дата визита]])","v":12},{"$f":"MONTH(Table[[#This Row],[Дата визита]])","v":"1900-01-02"},{"$f":"YEAR(Table[[#This Row],[Дата визита]])","v":2020},{"$f":"WEEKNUM(Table[[#This Row],[Дата визита]])","v":7},"16:00:00","Ростов-на-Дону, ул. Пацаева, д. 2","Минин В.","Клиент 109","mail@birdyx.ru","79008889900","Инстаграм","Завершено","да",4]
[43874,{"$f":"DAY('База заказов'!$A111)","v":13},{"$f":"'База заказов'!$A111","v":"2020-02-13"},{"$f":"YEAR('База заказов'!$A111)","v":2020},"Гончарова Н.","Выкройка и монтаж дополнительных углов",null,29300,null,{"$f":"SUM(Table[[#This Row],[Наличн]:[Безнал]])-SUM(Table[[#This Row],[Наличн]:[Безнал]])*Table[[#This Row],[Скидка]]","v":29300},43874,{"$f":"DAY(Table[[#This Row],[Дата визита]])","v":13},{"$f":"MONTH(Table[[#This Row],[Дата визита]])","v":"1900-01-02"},{"$f":"YEAR(Table[[#This Row],[Дата визита]])","v":2020},{"$f":"WEEKNUM(Table[[#This Row],[Дата визита]])","v":7},"18:00:00","Ростов-на-Дону, ул. 14 Линия, д. 33","Минин В.","Клиент 110","mail@birdyx.ru","79008889900","Яндекс","Завершено","да",5]
[43875,{"$f":"DAY('База заказов'!$A112)","v":14},{"$f":"'База заказов'!$A112","v":"2020-02-14"},{"$f":"YEAR('База заказов'!$A112)","v":2020},"Мишин М.","Укладка паркетной доски на клей",null,13500,0.15,{"$f":"SUM(Table[[#This Row],[Наличн]:[Безнал]])-SUM(Table[[#This Row],[Наличн]:[Безнал]])*Table[[#This Row],[Скидка]]","v":11475},43875,{"$f":"DAY(Table[[#This Row],[Дата визита]])","v":14},{"$f":"MONTH(Table[[#This Row],[Дата визита]])","v":"1900-01-02"},{"$f":"YEAR(Table[[#This Row],[Дата визита]])","v":2020},{"$f":"WEEKNUM(Table[[#This Row],[Дата визита]])","v":7},"10:00:00","Ростов-на-Дону, пер. Беломорский, д. 94","Субботин С.","Клиент 111","mail@birdyx.ru","79008889900","По совету","Завершено","да",4]
[43876,{"$f":"DAY('База заказов'!$A113)","v":15},{"$f":"'База заказов'!$A113","v":"2020-02-15"},{"$f":"YEAR('База заказов'!$A113)","v":2020},"Иванов И.","Нанесение декоративной штукатурки ",null,31600,0.15,{"$f":"SUM(Table[[#This Row],[Наличн]:[Безнал]])-SUM(Table[[#This Row],[Наличн]:[Безнал]])*Table[[#This Row],[Скидка]]","v":26860},43878,{"$f":"DAY(Table[[#This Row],[Дата визита]])","v":17},{"$f":"MONTH(Table[[#This Row],[Дата визита]])","v":"1900-01-02"},{"$f":"YEAR(Table[[#This Row],[Дата визита]])","v":2020},{"$f":"WEEKNUM(Table[[#This Row],[Дата визита]])","v":8},"12:00:00","Ростов-На-Дону, ул. Извилистая, д. 13/2","Белозеров В.","Клиент 112","mail@birdyx.ru","79008889900","Авито","Завершено","да",5]
[43877,{"$f":"DAY('База заказов'!$A114)","v":16},{"$f":"'База заказов'!$A114","v":"2020-02-16"},{"$f":"YEAR('База заказов'!$A114)","v":2020},"Петров В.","Монтаж потолочного плинтуса",null,38500,null,{"$f":"SUM(Table[[#This Row],[Наличн]:[Безнал]])-SUM(Table[[#This Row],[Наличн]:[Безнал]])*Table[[#This Row],[Скидка]]","v":38500},43878,{"$f":"DAY(Table[[#This Row],[Дата визита]])","v":17},{"$f":"MONTH(Table[[#This Row],[Дата визита]])","v":"1900-01-02"},{"$f":"YEAR(Table[[#This Row],[Дата визита]])","v":2020},{"$f":"WEEKNUM(Table[[#This Row],[Дата визита]])","v":8},"16:00:00","Ростов-на-Дону, пер. Братский, д. 36","Беспалов Г.","Клиент 113","mail@birdyx.ru","79008889900","Сайт","Завершено","да",5]
[43878,{"$f":"DAY('База заказов'!$A115)","v":17},{"$f":"'База заказов'!$A115","v":"2020-02-17"},{"$f":"YEAR('База заказов'!$A115)","v":2020},"Иванов И.","Укладка фанеры в 1 слой",null,38600,null,{"$f":"SUM(Table[[#This Row],[Наличн]:[Безнал]])-SUM(Table[[#This Row],[Наличн]:[Безнал]])*Table[[#This Row],[Скидка]]","v":38600},43878,{"$f":"DAY(Table[[#This Row],[Дата визита]])","v":17},{"$f":"MONTH(Table[[#This Row],[Дата визита]])","v":"1900-01-02"},{"$f":"YEAR(Table[[#This Row],[Дата визита]])","v":2020},{"$f":"WEEKNUM(Table[[#This Row],[Дата визита]])","v":8},"18:00:00","Ростов-На-Дону, ул. Андрея Сладкова, д. 87","Шарапов В.","Клиент 114","mail@birdyx.ru","79008889900","Сайт","Завершено","да",4]
[43879,{"$f":"DAY('База заказов'!$A116)","v":18},{"$f":"'База заказов'!$A116","v":"2020-02-18"},{"$f":"YEAR('База заказов'!$A116)","v":2020},"Гончарова Н.","Укладка линолеума на клей",null,39100,null,{"$f":"SUM(Table[[#This Row],[Наличн]:[Безнал]])-SUM(Table[[#This Row],[Наличн]:[Безнал]])*Table[[#This Row],[Скидка]]","v":39100},43879,{"$f":"DAY(Table[[#This Row],[Дата визита]])","v":18},{"$f":"MONTH(Table[[#This Row],[Дата визита]])","v":"1900-01-02"},{"$f":"YEAR(Table[[#This Row],[Дата визита]])","v":2020},{"$f":"WEEKNUM(Table[[#This Row],[Дата визита]])","v":8},"10:00:00","Ростов-на-Дону, ул. 339-й Стрелковой Дивизии, д. 33","Белоусов В.","Клиент 115","mail@birdyx.ru","79008889900","Авито","Завершено","да",5]
[43879,{"$f":"DAY('База заказов'!$A117)","v":18},{"$f":"'База заказов'!$A117","v":"2020-02-18"},{"$f":"YEAR('База заказов'!$A117)","v":2020},"Мишин М.","Демонтаж душевой кабины",null,31900,null,{"$f":"SUM(Table[[#This Row],[Наличн]:[Безнал]])-SUM(Table[[#This Row],[Наличн]:[Безнал]])*Table[[#This Row],[Скидка]]","v":31900},43879,{"$f":"DAY(Table[[#This Row],[Дата визита]])","v":18},{"$f":"MONTH(Table[[#This Row],[Дата визита]])","v":"1900-01-02"},{"$f":"YEAR(Table[[#This Row],[Дата визита]])","v":2020},{"$f":"WEEKNUM(Table[[#This Row],[Дата визита]])","v":8},"12:00:00","Ростов-на-Дону, Ленина 1","Шарапов В.","Клиент 116","mail@birdyx.ru","79008889900","Авито","Завершено","да",5]
[43879,{"$f":"DAY('База заказов'!$A118)","v":18},{"$f":"'База заказов'!$A118","v":"2020-02-18"},{"$f":"YEAR('База заказов'!$A118)","v":2020},"Иванов И.","Демонтаж раковины",null,13900,null,{"$f":"SUM(Table[[#This Row],[Наличн]:[Безнал]])-SUM(Table[[#This Row],[Наличн]:[Безнал]])*Table[[#This Row],[Скидка]]","v":13900},43879,{"$f":"DAY(Table[[#This Row],[Дата визита]])","v":18},{"$f":"MONTH(Table[[#This Row],[Дата визита]])","v":"1900-01-02"},{"$f":"YEAR(Table[[#This Row],[Дата визита]])","v":2020},{"$f":"WEEKNUM(Table[[#This Row],[Дата визита]])","v":8},"16:00:00","Ростов-на-Дону, Михаила Нагибина 32","Субботин С.","Клиент 117","mail@birdyx.ru","79008889900","Авито","Завершено","да",5]
[43879,{"$f":"DAY('База заказов'!$A119)","v":18},{"$f":"'База заказов'!$A119","v":"2020-02-18"},{"$f":"YEAR('База заказов'!$A119)","v":2020},"Петров В.","Демонтаж оконного блока",21200,null,null,{"$f":"SUM(Table[[#This Row],[Наличн]:[Безнал]])-SUM(Table[[#This Row],[Наличн]:[Безнал]])*Table[[#This Row],[Скидка]]","v":21200},43879,{"$f":"DAY(Table[[#This Row],[Дата визита]])","v":18},{"$f":"MONTH(Table[[#This Row],[Дата визита]])","v":"1900-01-02"},{"$f":"YEAR(Table[[#This Row],[Дата визита]])","v":2020},{"$f":"WEEKNUM(Table[[#This Row],[Дата визита]])","v":8},"18:00:00","Ростов-на-Дону, Михаила Нагибина 32","Минин В.","Клиент 118","mail@birdyx.ru","79008889900","Сайт","Отмена","да",3]
[43883,{"$f":"DAY('База заказов'!$A120)","v":22},{"$f":"'База заказов'!$A120","v":"2020-02-22"},{"$f":"YEAR('База заказов'!$A120)","v":2020},"Гончарова Н.","Демонтаж входной двери",11200,null,null,{"$f":"SUM(Table[[#This Row],[Наличн]:[Безнал]])-SUM(Table[[#This Row],[Наличн]:[Безнал]])*Table[[#This Row],[Скидка]]","v":11200},43883,{"$f":"DAY(Table[[#This Row],[Дата визита]])","v":22},{"$f":"MONTH(Table[[#This Row],[Дата визита]])","v":"1900-01-02"},{"$f":"YEAR(Table[[#This Row],[Дата визита]])","v":2020},{"$f":"WEEKNUM(Table[[#This Row],[Дата визита]])","v":8},"10:00:00","Ростов-на-Дону, ул. Таганрогская, д. 149/1 К 35","Белозеров В.","Клиент 119","mail@birdyx.ru","79008889900","Сайт","Завершено","да",3]
[43883,{"$f":"DAY('База заказов'!$A121)","v":22},{"$f":"'База заказов'!$A121","v":"2020-02-22"},{"$f":"YEAR('База заказов'!$A121)","v":2020},"Гончарова Н.","Укладка массивной доски",30500,null,null,{"$f":"SUM(Table[[#This Row],[Наличн]:[Безнал]])-SUM(Table[[#This Row],[Наличн]:[Безнал]])*Table[[#This Row],[Скидка]]","v":30500},43883,{"$f":"DAY(Table[[#This Row],[Дата визита]])","v":22},{"$f":"MONTH(Table[[#This Row],[Дата визита]])","v":"1900-01-02"},{"$f":"YEAR(Table[[#This Row],[Дата визита]])","v":2020},{"$f":"WEEKNUM(Table[[#This Row],[Дата визита]])","v":8},"12:00:00","Ростов-На-Дону, ул. Большая Садовая, д. 115","Беспалов Г.","Клиент 120","mail@birdyx.ru","79008889900","Авито","Завершено","да",2]
[43885,{"$f":"DAY('База заказов'!$A122)","v":24},{"$f":"'База заказов'!$A122","v":"2020-02-24"},{"$f":"YEAR('База заказов'!$A122)","v":2020},"Мишин М.","Нанесение декоративной штукатурки ",34900,null,null,{"$f":"SUM(Table[[#This Row],[Наличн]:[Безнал]])-SUM(Table[[#This Row],[Наличн]:[Безнал]])*Table[[#This Row],[Скидка]]","v":34900},43887,{"$f":"DAY(Table[[#This Row],[Дата визита]])","v":26},{"$f":"MONTH(Table[[#This Row],[Дата визита]])","v":"1900-01-02"},{"$f":"YEAR(Table[[#This Row],[Дата визита]])","v":2020},{"$f":"WEEKNUM(Table[[#This Row],[Дата визита]])","v":9},"16:00:00","Ростов-на-Дону, ул. Большая Садовая, д. 69","Устинов С.","Клиент 121","mail@birdyx.ru","79008889900","Сайт","Завершено","да",4]
[43886,{"$f":"DAY('База заказов'!$A123)","v":25},{"$f":"'База заказов'!$A123","v":"2020-02-25"},{"$f":"YEAR('База заказов'!$A123)","v":2020},"Иванов И.","Укладка массивной доски",37800,null,null,{"$f":"SUM(Table[[#This Row],[Наличн]:[Безнал]])-SUM(Table[[#This Row],[Наличн]:[Безнал]])*Table[[#This Row],[Скидка]]","v":37800},43887,{"$f":"DAY(Table[[#This Row],[Дата визита]])","v":26},{"$f":"MONTH(Table[[#This Row],[Дата визита]])","v":"1900-01-02"},{"$f":"YEAR(Table[[#This Row],[Дата визита]])","v":2020},{"$f":"WEEKNUM(Table[[#This Row],[Дата визита]])","v":9},"18:00:00","Ростов-на-Дону, пер. Университетский, д. 133","Шарапов В.","Клиент 122","mail@birdyx.ru","79008889900","По совету","Завершено","да",3]
[43887,{"$f":"DAY('База заказов'!$A124)","v":26},{"$f":"'База заказов'!$A124","v":"2020-02-26"},{"$f":"YEAR('База заказов'!$A124)","v":2020},"Петров В.","Демонтаж входной двери",25900,null,null,{"$f":"SUM(Table[[#This Row],[Наличн]:[Безнал]])-SUM(Table[[#This Row],[Наличн]:[Безнал]])*Table[[#This Row],[Скидка]]","v":25900},43887,{"$f":"DAY(Table[[#This Row],[Дата визита]])","v":26},{"$f":"MONTH(Table[[#This Row],[Дата визита]])","v":"1900-01-02"},{"$f":"YEAR(Table[[#This Row],[Дата визита]])","v":2020},{"$f":"WEEKNUM(Table[[#This Row],[Дата визита]])","v":9},"10:00:00","Ростов-на-Дону, пер. Соборный, д. 26","Белоусов В.","Клиент 123","mail@birdyx.ru","79008889900","Яндекс","Завершено","да",3]
[43888,{"$f":"DAY('База заказов'!$A125)","v":27},{"$f":"'База заказов'!$A125","v":"2020-02-27"},{"$f":"YEAR('База заказов'!$A125)","v":2020},"Иванов И.","Поклейка обоев ",null,38500,null,{"$f":"SUM(Table[[#This Row],[Наличн]:[Безнал]])-SUM(Table[[#This Row],[Наличн]:[Безнал]])*Table[[#This Row],[Скидка]]","v":38500},43888,{"$f":"DAY(Table[[#This Row],[Дата визита]])","v":27},{"$f":"MONTH(Table[[#This Row],[Дата визита]])","v":"1900-01-02"},{"$f":"YEAR(Table[[#This Row],[Дата визита]])","v":2020},{"$f":"WEEKNUM(Table[[#This Row],[Дата визита]])","v":9},"12:00:00","Ростов-на-Дону, проспект Сиверса, д. 1","Субботин С.","Клиент 124","mail@birdyx.ru","79008889900","Инстаграм","Завершено","да",4]
[43888,{"$f":"DAY('База заказов'!$A126)","v":27},{"$f":"'База заказов'!$A126","v":"2020-02-27"},{"$f":"YEAR('База заказов'!$A126)","v":2020},"Гончарова Н.","Укладка паркетной доски на клей",null,15500,null,{"$f":"SUM(Table[[#This Row],[Наличн]:[Безнал]])-SUM(Table[[#This Row],[Наличн]:[Безнал]])*Table[[#This Row],[Скидка]]","v":15500},43888,{"$f":"DAY(Table[[#This Row],[Дата визита]])","v":27},{"$f":"MONTH(Table[[#This Row],[Дата визита]])","v":"1900-01-02"},{"$f":"YEAR(Table[[#This Row],[Дата визита]])","v":2020},{"$f":"WEEKNUM(Table[[#This Row],[Дата визита]])","v":9},"16:00:00","Ростов-на-Дону, ул. Большая Садовая, д. 105/42","Белозеров В.","Клиент 125","mail@birdyx.ru","79008889900","Яндекс","Завершено","да",3]
[43891,{"$f":"DAY('База заказов'!$A127)","v":1},{"$f":"'База заказов'!$A127","v":"2020-03-01"},{"$f":"YEAR('База заказов'!$A127)","v":2020},"Мишин М.","Выкройка и монтаж дополнительных углов",null,32400,null,{"$f":"SUM(Table[[#This Row],[Наличн]:[Безнал]])-SUM(Table[[#This Row],[Наличн]:[Безнал]])*Table[[#This Row],[Скидка]]","v":32400},43891,{"$f":"DAY(Table[[#This Row],[Дата визита]])","v":1},{"$f":"MONTH(Table[[#This Row],[Дата визита]])","v":"1900-01-03"},{"$f":"YEAR(Table[[#This Row],[Дата визита]])","v":2020},{"$f":"WEEKNUM(Table[[#This Row],[Дата визита]])","v":10},"18:00:00","Ростов-на-Дону, ул. Максима Горького, д. 149","Беспалов Г.","Клиент 126","mail@birdyx.ru","79008889900","Сайт","Завершено","да",4]
[43892,{"$f":"DAY('База заказов'!$A128)","v":2},{"$f":"'База заказов'!$A128","v":"2020-03-02"},{"$f":"YEAR('База заказов'!$A128)","v":2020},"Иванов И.","Демонтаж входной двери",null,8400,null,{"$f":"SUM(Table[[#This Row],[Наличн]:[Безнал]])-SUM(Table[[#This Row],[Наличн]:[Безнал]])*Table[[#This Row],[Скидка]]","v":8400},43892,{"$f":"DAY(Table[[#This Row],[Дата визита]])","v":2},{"$f":"MONTH(Table[[#This Row],[Дата визита]])","v":"1900-01-03"},{"$f":"YEAR(Table[[#This Row],[Дата визита]])","v":2020},{"$f":"WEEKNUM(Table[[#This Row],[Дата визита]])","v":10},"10:00:00","Ростов-на-Дону, проспект Буденновский, д. 97","Минин В.","Клиент 127","mail@birdyx.ru","79008889900","Авито","Завершено","да",5]
[43893,{"$f":"DAY('База заказов'!$A129)","v":3},{"$f":"'База заказов'!$A129","v":"2020-03-03"},{"$f":"YEAR('База заказов'!$A129)","v":2020},"Петров В.","Укладка паркетной доски на клей",null,37700,0.15,{"$f":"SUM(Table[[#This Row],[Наличн]:[Безнал]])-SUM(Table[[#This Row],[Наличн]:[Безнал]])*Table[[#This Row],[Скидка]]","v":32045},43893,{"$f":"DAY(Table[[#This Row],[Дата визита]])","v":3},{"$f":"MONTH(Table[[#This Row],[Дата визита]])","v":"1900-01-03"},{"$f":"YEAR(Table[[#This Row],[Дата визита]])","v":2020},{"$f":"WEEKNUM(Table[[#This Row],[Дата визита]])","v":10},"12:00:00","Ростов-на-Дону, ул. Советская, д. 26/1","Шарапов В.","Клиент 128","mail@birdyx.ru","79008889900","Авито","Завершено","да",4]
[43894,{"$f":"DAY('База заказов'!$A130)","v":4},{"$f":"'База заказов'!$A130","v":"2020-03-04"},{"$f":"YEAR('База заказов'!$A130)","v":2020},"Гончарова Н.","Демонтаж раковины",null,21900,null,{"$f":"SUM(Table[[#This Row],[Наличн]:[Безнал]])-SUM(Table[[#This Row],[Наличн]:[Безнал]])*Table[[#This Row],[Скидка]]","v":21900},43894,{"$f":"DAY(Table[[#This Row],[Дата визита]])","v":4},{"$f":"MONTH(Table[[#This Row],[Дата визита]])","v":"1900-01-03"},{"$f":"YEAR(Table[[#This Row],[Дата визита]])","v":2020},{"$f":"WEEKNUM(Table[[#This Row],[Дата визита]])","v":10},"16:00:00","Ростов-на-Дону, ул. Мечникова, д. 43","Субботин С.","Клиент 129","mail@birdyx.ru","79008889900","Сайт","Завершено","да",5]
[43895,{"$f":"DAY('База заказов'!$A131)","v":5},{"$f":"'База заказов'!$A131","v":"2020-03-05"},{"$f":"YEAR('База заказов'!$A131)","v":2020},"Гончарова Н.","Демонтаж душевой кабины",null,35200,null,{"$f":"SUM(Table[[#This Row],[Наличн]:[Безнал]])-SUM(Table[[#This Row],[Наличн]:[Безнал]])*Table[[#This Row],[Скидка]]","v":35200},43895,{"$f":"DAY(Table[[#This Row],[Дата визита]])","v":5},{"$f":"MONTH(Table[[#This Row],[Дата визита]])","v":"1900-01-03"},{"$f":"YEAR(Table[[#This Row],[Дата визита]])","v":2020},{"$f":"WEEKNUM(Table[[#This Row],[Дата визита]])","v":10},"18:00:00","Ростов-на-Дону, пер. Островского, д. 47","Минин В.","Клиент 130","mail@birdyx.ru","79008889900","Инстаграм","Завершено","да",5]
[43896,{"$f":"DAY('База заказов'!$A132)","v":6},{"$f":"'База заказов'!$A132","v":"2020-03-06"},{"$f":"YEAR('База заказов'!$A132)","v":2020},"Иванов И.","Демонтаж балконного блока",null,33400,null,{"$f":"SUM(Table[[#This Row],[Наличн]:[Безнал]])-SUM(Table[[#This Row],[Наличн]:[Безнал]])*Table[[#This Row],[Скидка]]","v":33400},43896,{"$f":"DAY(Table[[#This Row],[Дата визита]])","v":6},{"$f":"MONTH(Table[[#This Row],[Дата визита]])","v":"1900-01-03"},{"$f":"YEAR(Table[[#This Row],[Дата визита]])","v":2020},{"$f":"WEEKNUM(Table[[#This Row],[Дата визита]])","v":10},"10:00:00","Ростов-на-Дону, ул. Пушкинская, д. 225","Белозеров В.","Клиент 131","mail@birdyx.ru","79008889900","Яндекс","Завершено","да",4]
[43896,{"$f":"DAY('База заказов'!$A133)","v":6},{"$f":"'База заказов'!$A133","v":"2020-03-06"},{"$f":"YEAR('База заказов'!$A133)","v":2020},"Петров В.","Укладка паркетной доски на клей",null,14700,null,{"$f":"SUM(Table[[#This Row],[Наличн]:[Безнал]])-SUM(Table[[#This Row],[Наличн]:[Безнал]])*Table[[#This Row],[Скидка]]","v":14700},43896,{"$f":"DAY(Table[[#This Row],[Дата визита]])","v":6},{"$f":"MONTH(Table[[#This Row],[Дата визита]])","v":"1900-01-03"},{"$f":"YEAR(Table[[#This Row],[Дата визита]])","v":2020},{"$f":"WEEKNUM(Table[[#This Row],[Дата визита]])","v":10},"12:00:00","Ростов-На-Дону, ул. Ченцова, д. 57/81","Беспалов Г.","Клиент 132","mail@birdyx.ru","79008889900","По совету","Завершено","да",5]
[43898,{"$f":"DAY('База заказов'!$A134)","v":8},{"$f":"'База заказов'!$A134","v":"2020-03-08"},{"$f":"YEAR('База заказов'!$A134)","v":2020},"Иванов И.","Укладка кварцвиниловой плитки на подложку",null,27500,null,{"$f":"SUM(Table[[#This Row],[Наличн]:[Безнал]])-SUM(Table[[#This Row],[Наличн]:[Безнал]])*Table[[#This Row],[Скидка]]","v":27500},43902,{"$f":"DAY(Table[[#This Row],[Дата визита]])","v":12},{"$f":"MONTH(Table[[#This Row],[Дата визита]])","v":"1900-01-03"},{"$f":"YEAR(Table[[#This Row],[Дата визита]])","v":2020},{"$f":"WEEKNUM(Table[[#This Row],[Дата визита]])","v":11},"16:00:00","Ростов-на-Дону, ул. Текучева, д. 135","Устинов С.","Клиент 133","mail@birdyx.ru","79008889900","Авито","Завершено","да",4]
[43899,{"$f":"DAY('База заказов'!$A135)","v":9},{"$f":"'База заказов'!$A135","v":"2020-03-09"},{"$f":"YEAR('База заказов'!$A135)","v":2020},"Гончарова Н.","Укладка паркетной доски на подложку",null,38500,0.15,{"$f":"SUM(Table[[#This Row],[Наличн]:[Безнал]])-SUM(Table[[#This Row],[Наличн]:[Безнал]])*Table[[#This Row],[Скидка]]","v":32725},43902,{"$f":"DAY(Table[[#This Row],[Дата визита]])","v":12},{"$f":"MONTH(Table[[#This Row],[Дата визита]])","v":"1900-01-03"},{"$f":"YEAR(Table[[#This Row],[Дата визита]])","v":2020},{"$f":"WEEKNUM(Table[[#This Row],[Дата визита]])","v":11},"18:00:00","Ростов-на-Дону, пер. Газетный, д. 99","Минин В.","Клиент 134","mail@birdyx.ru","79008889900","Сайт","Завершено","да",5]
[43899,{"$f":"DAY('База заказов'!$A136)","v":9},{"$f":"'База заказов'!$A136","v":"2020-03-09"},{"$f":"YEAR('База заказов'!$A136)","v":2020},"Мишин М.","Укладка массивной доски",38600,null,null,{"$f":"SUM(Table[[#This Row],[Наличн]:[Безнал]])-SUM(Table[[#This Row],[Наличн]:[Безнал]])*Table[[#This Row],[Скидка]]","v":38600},43902,{"$f":"DAY(Table[[#This Row],[Дата визита]])","v":12},{"$f":"MONTH(Table[[#This Row],[Дата визита]])","v":"1900-01-03"},{"$f":"YEAR(Table[[#This Row],[Дата визита]])","v":2020},{"$f":"WEEKNUM(Table[[#This Row],[Дата визита]])","v":11},"09:00:00","Ростов-на-Дону, проспект Кировский, д. 90","Минин В.","Клиент 135","mail@birdyx.ru","79008889900","Авито","Завершено","да",4]
[43901,{"$f":"DAY('База заказов'!$A137)","v":11},{"$f":"'База заказов'!$A137","v":"2020-03-11"},{"$f":"YEAR('База заказов'!$A137)","v":2020},"Иванов И.","Монтаж потолочного плинтуса",null,38700,null,{"$f":"SUM(Table[[#This Row],[Наличн]:[Безнал]])-SUM(Table[[#This Row],[Наличн]:[Безнал]])*Table[[#This Row],[Скидка]]","v":38700},43902,{"$f":"DAY(Table[[#This Row],[Дата визита]])","v":12},{"$f":"MONTH(Table[[#This Row],[Дата визита]])","v":"1900-01-03"},{"$f":"YEAR(Table[[#This Row],[Дата визита]])","v":2020},{"$f":"WEEKNUM(Table[[#This Row],[Дата визита]])","v":11},"11:00:00","Ростов-на-Дону, ул. 14 Линия, д. 14","Субботин С.","Клиент 136","mail@birdyx.ru","79008889900","Авито","Завершено","да",5]
[43902,{"$f":"DAY('База заказов'!$A138)","v":12},{"$f":"'База заказов'!$A138","v":"2020-03-12"},{"$f":"YEAR('База заказов'!$A138)","v":2020},"Петров В.","Укладка массивной доски",18700,null,null,{"$f":"SUM(Table[[#This Row],[Наличн]:[Безнал]])-SUM(Table[[#This Row],[Наличн]:[Безнал]])*Table[[#This Row],[Скидка]]","v":18700},43902,{"$f":"DAY(Table[[#This Row],[Дата визита]])","v":12},{"$f":"MONTH(Table[[#This Row],[Дата визита]])","v":"1900-01-03"},{"$f":"YEAR(Table[[#This Row],[Дата визита]])","v":2020},{"$f":"WEEKNUM(Table[[#This Row],[Дата визита]])","v":11},"15:00:00","Ростов-на-Дону, ул. Береговая, д. 30","Белозеров В.","Клиент 137","mail@birdyx.ru","79008889900","Авито","Завершено","да",5]
[43903,{"$f":"DAY('База заказов'!$A139)","v":13},{"$f":"'База заказов'!$A139","v":"2020-03-13"},{"$f":"YEAR('База заказов'!$A139)","v":2020},"Гончарова Н.","Монтаж потолочного плинтуса",null,7800,null,{"$f":"SUM(Table[[#This Row],[Наличн]:[Безнал]])-SUM(Table[[#This Row],[Наличн]:[Безнал]])*Table[[#This Row],[Скидка]]","v":7800},43903,{"$f":"DAY(Table[[#This Row],[Дата визита]])","v":13},{"$f":"MONTH(Table[[#This Row],[Дата визита]])","v":"1900-01-03"},{"$f":"YEAR(Table[[#This Row],[Дата визита]])","v":2020},{"$f":"WEEKNUM(Table[[#This Row],[Дата визита]])","v":11},"17:00:00","Ростов-на-Дону, ул. Большая Садовая, д. 77","Беспалов Г.","Клиент 138","mail@birdyx.ru","79008889900","Сайт","Завершено","да",4]
[43904,{"$f":"DAY('База заказов'!$A140)","v":14},{"$f":"'База заказов'!$A140","v":"2020-03-14"},{"$f":"YEAR('База заказов'!$A140)","v":2020},"Иванов И.","Выкройка и монтаж дополнительных углов",null,23300,null,{"$f":"SUM(Table[[#This Row],[Наличн]:[Безнал]])-SUM(Table[[#This Row],[Наличн]:[Безнал]])*Table[[#This Row],[Скидка]]","v":23300},43904,{"$f":"DAY(Table[[#This Row],[Дата визита]])","v":14},{"$f":"MONTH(Table[[#This Row],[Дата визита]])","v":"1900-01-03"},{"$f":"YEAR(Table[[#This Row],[Дата визита]])","v":2020},{"$f":"WEEKNUM(Table[[#This Row],[Дата визита]])","v":11},"09:00:00","Ростов-на-Дону, ул. 6-я линия, д. 4","Шарапов В.","Клиент 139","mail@birdyx.ru","79008889900","Сайт","Завершено","да",5]
[43905,{"$f":"DAY('База заказов'!$A141)","v":15},{"$f":"'База заказов'!$A141","v":"2020-03-15"},{"$f":"YEAR('База заказов'!$A141)","v":2020},"Петров В.","Укладка паркетной доски на подложку",null,10300,null,{"$f":"SUM(Table[[#This Row],[Наличн]:[Безнал]])-SUM(Table[[#This Row],[Наличн]:[Безнал]])*Table[[#This Row],[Скидка]]","v":10300},43905,{"$f":"DAY(Table[[#This Row],[Дата визита]])","v":15},{"$f":"MONTH(Table[[#This Row],[Дата визита]])","v":"1900-01-03"},{"$f":"YEAR(Table[[#This Row],[Дата визита]])","v":2020},{"$f":"WEEKNUM(Table[[#This Row],[Дата визита]])","v":12},"11:00:00","Ростов-на-Дону, ул. Гагринская, д. 46","Белоусов В.","Клиент 140","mail@birdyx.ru","79008889900","Сайт","Отмена","да",5]
[43906,{"$f":"DAY('База заказов'!$A142)","v":16},{"$f":"'База заказов'!$A142","v":"2020-03-16"},{"$f":"YEAR('База заказов'!$A142)","v":2020},"Иванов И.","Демонтаж балконного блока",19600,null,0.15,{"$f":"SUM(Table[[#This Row],[Наличн]:[Безнал]])-SUM(Table[[#This Row],[Наличн]:[Безнал]])*Table[[#This Row],[Скидка]]","v":16660},43906,{"$f":"DAY(Table[[#This Row],[Дата визита]])","v":16},{"$f":"MONTH(Table[[#This Row],[Дата визита]])","v":"1900-01-03"},{"$f":"YEAR(Table[[#This Row],[Дата визита]])","v":2020},{"$f":"WEEKNUM(Table[[#This Row],[Дата визита]])","v":12},"15:00:00","Ростов-на-Дону, ул. Вятская, д. 37/1","Шарапов В.","Клиент 141","mail@birdyx.ru","79008889900","Сайт","Завершено","да",5]
[43907,{"$f":"DAY('База заказов'!$A143)","v":17},{"$f":"'База заказов'!$A143","v":"2020-03-17"},{"$f":"YEAR('База заказов'!$A143)","v":2020},"Гончарова Н.","Укладка паркетной доски на клей",26900,null,null,{"$f":"SUM(Table[[#This Row],[Наличн]:[Безнал]])-SUM(Table[[#This Row],[Наличн]:[Безнал]])*Table[[#This Row],[Скидка]]","v":26900},43907,{"$f":"DAY(Table[[#This Row],[Дата визита]])","v":17},{"$f":"MONTH(Table[[#This Row],[Дата визита]])","v":"1900-01-03"},{"$f":"YEAR(Table[[#This Row],[Дата визита]])","v":2020},{"$f":"WEEKNUM(Table[[#This Row],[Дата визита]])","v":12},"17:00:00","Ростов-на-Дону, ул. Станиславского, д. 58","Субботин С.","Клиент 142","mail@birdyx.ru","79008889900","Сайт","Завершено","да",3]
[43908,{"$f":"DAY('База заказов'!$A144)","v":18},{"$f":"'База заказов'!$A144","v":"2020-03-18"},{"$f":"YEAR('База заказов'!$A144)","v":2020},"Мишин М.","Укладка массивной доски",18400,null,null,{"$f":"SUM(Table[[#This Row],[Наличн]:[Безнал]])-SUM(Table[[#This Row],[Наличн]:[Безнал]])*Table[[#This Row],[Скидка]]","v":18400},43908,{"$f":"DAY(Table[[#This Row],[Дата визита]])","v":18},{"$f":"MONTH(Table[[#This Row],[Дата визита]])","v":"1900-01-03"},{"$f":"YEAR(Table[[#This Row],[Дата визита]])","v":2020},{"$f":"WEEKNUM(Table[[#This Row],[Дата визита]])","v":12},"09:00:00","Ростов-на-Дону, пер. Нефтяной, д. 4 А","Минин В.","Клиент 143","mail@birdyx.ru","79008889900","Сайт","Завершено","да",3]
[43909,{"$f":"DAY('База заказов'!$A145)","v":19},{"$f":"'База заказов'!$A145","v":"2020-03-19"},{"$f":"YEAR('База заказов'!$A145)","v":2020},"Иванов И.","Монтаж тепло-пароизоляции потолка",null,33200,null,{"$f":"SUM(Table[[#This Row],[Наличн]:[Безнал]])-SUM(Table[[#This Row],[Наличн]:[Безнал]])*Table[[#This Row],[Скидка]]","v":33200},43909,{"$f":"DAY(Table[[#This Row],[Дата визита]])","v":19},{"$f":"MONTH(Table[[#This Row],[Дата визита]])","v":"1900-01-03"},{"$f":"YEAR(Table[[#This Row],[Дата визита]])","v":2020},{"$f":"WEEKNUM(Table[[#This Row],[Дата визита]])","v":12},"11:00:00","Ростов-на-Дону, ул. Станиславского, д. 167/25","Белозеров В.","Клиент 144","mail@birdyx.ru","79008889900","Сайт","Завершено","да",2]
[43910,{"$f":"DAY('База заказов'!$A146)","v":20},{"$f":"'База заказов'!$A146","v":"2020-03-20"},{"$f":"YEAR('База заказов'!$A146)","v":2020},"Петров В.","Демонтаж душевого поддона",null,23500,0.15,{"$f":"SUM(Table[[#This Row],[Наличн]:[Безнал]])-SUM(Table[[#This Row],[Наличн]:[Безнал]])*Table[[#This Row],[Скидка]]","v":19975},43910,{"$f":"DAY(Table[[#This Row],[Дата визита]])","v":20},{"$f":"MONTH(Table[[#This Row],[Дата визита]])","v":"1900-01-03"},{"$f":"YEAR(Table[[#This Row],[Дата визита]])","v":2020},{"$f":"WEEKNUM(Table[[#This Row],[Дата визита]])","v":12},"15:00:00","Ростов-на-Дону, проспект Соколова, д. 85","Беспалов Г.","Клиент 145","mail@birdyx.ru","79008889900","Сайт","Завершено","да",4]
[43911,{"$f":"DAY('База заказов'!$A147)","v":21},{"$f":"'База заказов'!$A147","v":"2020-03-21"},{"$f":"YEAR('База заказов'!$A147)","v":2020},"Гончарова Н.","Демонтаж раковины",7700,null,null,{"$f":"SUM(Table[[#This Row],[Наличн]:[Безнал]])-SUM(Table[[#This Row],[Наличн]:[Безнал]])*Table[[#This Row],[Скидка]]","v":7700},43911,{"$f":"DAY(Table[[#This Row],[Дата визита]])","v":21},{"$f":"MONTH(Table[[#This Row],[Дата визита]])","v":"1900-01-03"},{"$f":"YEAR(Table[[#This Row],[Дата визита]])","v":2020},{"$f":"WEEKNUM(Table[[#This Row],[Дата визита]])","v":12},"17:00:00","Ростов-на-Дону, ул. Московская, д. 80","Устинов С.","Клиент 146","mail@birdyx.ru","79008889900","Сайт","Завершено","да",5]
[43911,{"$f":"DAY('База заказов'!$A148)","v":21},{"$f":"'База заказов'!$A148","v":"2020-03-21"},{"$f":"YEAR('База заказов'!$A148)","v":2020},"Гончарова Н.","Демонтаж раковины",39300,null,null,{"$f":"SUM(Table[[#This Row],[Наличн]:[Безнал]])-SUM(Table[[#This Row],[Наличн]:[Безнал]])*Table[[#This Row],[Скидка]]","v":39300},43911,{"$f":"DAY(Table[[#This Row],[Дата визита]])","v":21},{"$f":"MONTH(Table[[#This Row],[Дата визита]])","v":"1900-01-03"},{"$f":"YEAR(Table[[#This Row],[Дата визита]])","v":2020},{"$f":"WEEKNUM(Table[[#This Row],[Дата визита]])","v":12},"09:00:00","Ростов-на-Дону, ул. Текучева, д. 151/2","Шарапов В.","Клиент 147","mail@birdyx.ru","79008889900","Сайт","Завершено","да",3]
[43911,{"$f":"DAY('База заказов'!$A149)","v":21},{"$f":"'База заказов'!$A149","v":"2020-03-21"},{"$f":"YEAR('База заказов'!$A149)","v":2020},"Мишин М.","Демонтаж входной двери",22600,null,null,{"$f":"SUM(Table[[#This Row],[Наличн]:[Безнал]])-SUM(Table[[#This Row],[Наличн]:[Безнал]])*Table[[#This Row],[Скидка]]","v":22600},43915,{"$f":"DAY(Table[[#This Row],[Дата визита]])","v":25},{"$f":"MONTH(Table[[#This Row],[Дата визита]])","v":"1900-01-03"},{"$f":"YEAR(Table[[#This Row],[Дата визита]])","v":2020},{"$f":"WEEKNUM(Table[[#This Row],[Дата визита]])","v":13},"11:00:00","Ростов-На-Дону, ул. Тургеневская, д. 73","Белоусов В.","Клиент 148","mail@birdyx.ru","79008889900","Сайт","Завершено","да",5]
[43914,{"$f":"DAY('База заказов'!$A150)","v":24},{"$f":"'База заказов'!$A150","v":"2020-03-24"},{"$f":"YEAR('База заказов'!$A150)","v":2020},"Иванов И.","Укладка кварцвиниловой плитки на подложку",24300,null,null,{"$f":"SUM(Table[[#This Row],[Наличн]:[Безнал]])-SUM(Table[[#This Row],[Наличн]:[Безнал]])*Table[[#This Row],[Скидка]]","v":24300},43915,{"$f":"DAY(Table[[#This Row],[Дата визита]])","v":25},{"$f":"MONTH(Table[[#This Row],[Дата визита]])","v":"1900-01-03"},{"$f":"YEAR(Table[[#This Row],[Дата визита]])","v":2020},{"$f":"WEEKNUM(Table[[#This Row],[Дата визита]])","v":13},"15:00:00","Ростов-на-Дону, бульвар Комарова, д. 20/1","Субботин С.","Клиент 149","mail@birdyx.ru","79008889900","Сайт","Завершено","да",4]
[43915,{"$f":"DAY('База заказов'!$A151)","v":25},{"$f":"'База заказов'!$A151","v":"2020-03-25"},{"$f":"YEAR('База заказов'!$A151)","v":2020},"Петров В.","Укладка массивной доски",null,13900,null,{"$f":"SUM(Table[[#This Row],[Наличн]:[Безнал]])-SUM(Table[[#This Row],[Наличн]:[Безнал]])*Table[[#This Row],[Скидка]]","v":13900},43915,{"$f":"DAY(Table[[#This Row],[Дата визита]])","v":25},{"$f":"MONTH(Table[[#This Row],[Дата визита]])","v":"1900-01-03"},{"$f":"YEAR(Table[[#This Row],[Дата визита]])","v":2020},{"$f":"WEEKNUM(Table[[#This Row],[Дата визита]])","v":13},"17:00:00","Ростов-на-Дону, ул. Пушкинская, д. 225/41/224","Белозеров В.","Клиент 150","mail@birdyx.ru","79008889900","Инстаграм","Завершено","да",3]
[43916,{"$f":"DAY('База заказов'!$A152)","v":26},{"$f":"'База заказов'!$A152","v":"2020-03-26"},{"$f":"YEAR('База заказов'!$A152)","v":2020},"Иванов И.","Монтаж потолочного плинтуса",12800,null,0.15,{"$f":"SUM(Table[[#This Row],[Наличн]:[Безнал]])-SUM(Table[[#This Row],[Наличн]:[Безнал]])*Table[[#This Row],[Скидка]]","v":10880},43916,{"$f":"DAY(Table[[#This Row],[Дата визита]])","v":26},{"$f":"MONTH(Table[[#This Row],[Дата визита]])","v":"1900-01-03"},{"$f":"YEAR(Table[[#This Row],[Дата визита]])","v":2020},{"$f":"WEEKNUM(Table[[#This Row],[Дата визита]])","v":13},"10:00:00","Ростов-На-Дону, ул. Пушкинская, д. 1/36","Беспалов Г.","Клиент 151","mail@birdyx.ru","79008889900","Яндекс","Завершено","да",5]
[43917,{"$f":"DAY('База заказов'!$A153)","v":27},{"$f":"'База заказов'!$A153","v":"2020-03-27"},{"$f":"YEAR('База заказов'!$A153)","v":2020},"Гончарова Н.","Укладка массивной доски",null,9000,0.15,{"$f":"SUM(Table[[#This Row],[Наличн]:[Безнал]])-SUM(Table[[#This Row],[Наличн]:[Безнал]])*Table[[#This Row],[Скидка]]","v":7650},43917,{"$f":"DAY(Table[[#This Row],[Дата визита]])","v":27},{"$f":"MONTH(Table[[#This Row],[Дата визита]])","v":"1900-01-03"},{"$f":"YEAR(Table[[#This Row],[Дата визита]])","v":2020},{"$f":"WEEKNUM(Table[[#This Row],[Дата визита]])","v":13},"12:00:00","Ростов-на-Дону, пер. Газетный, д. 92/85","Шарапов В.","Клиент 152","mail@birdyx.ru","79008889900","По совету","Завершено","да",3]
[43918,{"$f":"DAY('База заказов'!$A154)","v":28},{"$f":"'База заказов'!$A154","v":"2020-03-28"},{"$f":"YEAR('База заказов'!$A154)","v":2020},"Мишин М.","Нанесение декоративной штукатурки ",null,9400,null,{"$f":"SUM(Table[[#This Row],[Наличн]:[Безнал]])-SUM(Table[[#This Row],[Наличн]:[Безнал]])*Table[[#This Row],[Скидка]]","v":9400},43918,{"$f":"DAY(Table[[#This Row],[Дата визита]])","v":28},{"$f":"MONTH(Table[[#This Row],[Дата визита]])","v":"1900-01-03"},{"$f":"YEAR(Table[[#This Row],[Дата визита]])","v":2020},{"$f":"WEEKNUM(Table[[#This Row],[Дата визита]])","v":13},"16:00:00","Ростов-на-Дону, проспект Буденновский, д. 106/2","Минин В.","Клиент 153","mail@birdyx.ru","79008889900","Авито","Завершено","да",4]
[43919,{"$f":"DAY('База заказов'!$A155)","v":29},{"$f":"'База заказов'!$A155","v":"2020-03-29"},{"$f":"YEAR('База заказов'!$A155)","v":2020},"Иванов И.","Демонтаж входной двери",null,36000,null,{"$f":"SUM(Table[[#This Row],[Наличн]:[Безнал]])-SUM(Table[[#This Row],[Наличн]:[Безнал]])*Table[[#This Row],[Скидка]]","v":36000},43919,{"$f":"DAY(Table[[#This Row],[Дата визита]])","v":29},{"$f":"MONTH(Table[[#This Row],[Дата визита]])","v":"1900-01-03"},{"$f":"YEAR(Table[[#This Row],[Дата визита]])","v":2020},{"$f":"WEEKNUM(Table[[#This Row],[Дата визита]])","v":14},"18:00:00","Ростов-на-Дону, ул. Пушкинская, д. 104/32","Шарапов В.","Клиент 154","mail@birdyx.ru","79008889900","Сайт","Завершено","да",3]
[43919,{"$f":"DAY('База заказов'!$A156)","v":29},{"$f":"'База заказов'!$A156","v":"2020-03-29"},{"$f":"YEAR('База заказов'!$A156)","v":2020},"Петров В.","Укладка паркетной доски на клей",null,13700,null,{"$f":"SUM(Table[[#This Row],[Наличн]:[Безнал]])-SUM(Table[[#This Row],[Наличн]:[Безнал]])*Table[[#This Row],[Скидка]]","v":13700},43919,{"$f":"DAY(Table[[#This Row],[Дата визита]])","v":29},{"$f":"MONTH(Table[[#This Row],[Дата визита]])","v":"1900-01-03"},{"$f":"YEAR(Table[[#This Row],[Дата визита]])","v":2020},{"$f":"WEEKNUM(Table[[#This Row],[Дата визита]])","v":14},"10:00:00","Ростов-на-Дону, ул. Республиканская, д. 1/8","Субботин С.","Клиент 155","mail@birdyx.ru","79008889900","Авито","Завершено","да",4]
[43919,{"$f":"DAY('База заказов'!$A157)","v":29},{"$f":"'База заказов'!$A157","v":"2020-03-29"},{"$f":"YEAR('База заказов'!$A157)","v":2020},"Гончарова Н.","Выкройка и монтаж дополнительных углов",9700,null,null,{"$f":"SUM(Table[[#This Row],[Наличн]:[Безнал]])-SUM(Table[[#This Row],[Наличн]:[Безнал]])*Table[[#This Row],[Скидка]]","v":9700},43919,{"$f":"DAY(Table[[#This Row],[Дата визита]])","v":29},{"$f":"MONTH(Table[[#This Row],[Дата визита]])","v":"1900-01-03"},{"$f":"YEAR(Table[[#This Row],[Дата визита]])","v":2020},{"$f":"WEEKNUM(Table[[#This Row],[Дата визита]])","v":14},"12:00:00","Ростов-на-Дону, ул. Красноармейская, д. 33","Минин В.","Клиент 156","mail@birdyx.ru","79008889900","Авито","Завершено","да",5]
[43919,{"$f":"DAY('База заказов'!$A158)","v":29},{"$f":"'База заказов'!$A158","v":"2020-03-29"},{"$f":"YEAR('База заказов'!$A158)","v":2020},"Гончарова Н.","Демонтаж входной двери",null,36100,null,{"$f":"SUM(Table[[#This Row],[Наличн]:[Безнал]])-SUM(Table[[#This Row],[Наличн]:[Безнал]])*Table[[#This Row],[Скидка]]","v":36100},43925,{"$f":"DAY(Table[[#This Row],[Дата визита]])","v":4},{"$f":"MONTH(Table[[#This Row],[Дата визита]])","v":"1900-01-04"},{"$f":"YEAR(Table[[#This Row],[Дата визита]])","v":2020},{"$f":"WEEKNUM(Table[[#This Row],[Дата визита]])","v":14},"16:00:00","Ростов-на-Дону, ул. Максима Горького, д. 11/43","Белозеров В.","Клиент 157","mail@birdyx.ru","79008889900","Авито","Завершено","да",4]
[43923,{"$f":"DAY('База заказов'!$A159)","v":2},{"$f":"'База заказов'!$A159","v":"2020-04-02"},{"$f":"YEAR('База заказов'!$A159)","v":2020},"Мишин М.","Демонтаж входной двери",null,22100,null,{"$f":"SUM(Table[[#This Row],[Наличн]:[Безнал]])-SUM(Table[[#This Row],[Наличн]:[Безнал]])*Table[[#This Row],[Скидка]]","v":22100},43925,{"$f":"DAY(Table[[#This Row],[Дата визита]])","v":4},{"$f":"MONTH(Table[[#This Row],[Дата визита]])","v":"1900-01-04"},{"$f":"YEAR(Table[[#This Row],[Дата визита]])","v":2020},{"$f":"WEEKNUM(Table[[#This Row],[Дата визита]])","v":14},"18:00:00","Ростов-на-Дону, ул. Алма-Атинская, д. 29/2 А","Беспалов Г.","Клиент 158","mail@birdyx.ru","79008889900","Сайт","Завершено","да",5]
[43924,{"$f":"DAY('База заказов'!$A160)","v":3},{"$f":"'База заказов'!$A160","v":"2020-04-03"},{"$f":"YEAR('База заказов'!$A160)","v":2020},"Иванов И.","Нанесение декоративной штукатурки ",null,14000,null,{"$f":"SUM(Table[[#This Row],[Наличн]:[Безнал]])-SUM(Table[[#This Row],[Наличн]:[Безнал]])*Table[[#This Row],[Скидка]]","v":14000},43925,{"$f":"DAY(Table[[#This Row],[Дата визита]])","v":4},{"$f":"MONTH(Table[[#This Row],[Дата визита]])","v":"1900-01-04"},{"$f":"YEAR(Table[[#This Row],[Дата визита]])","v":2020},{"$f":"WEEKNUM(Table[[#This Row],[Дата визита]])","v":14},"10:00:00","Ростов-на-Дону, ул. Малиновского, д. 68/1","Устинов С.","Клиент 159","mail@birdyx.ru","79008889900","Сайт","Завершено","да",5]
[43925,{"$f":"DAY('База заказов'!$A161)","v":4},{"$f":"'База заказов'!$A161","v":"2020-04-04"},{"$f":"YEAR('База заказов'!$A161)","v":2020},"Петров В.","Монтаж потолочного плинтуса",null,27300,null,{"$f":"SUM(Table[[#This Row],[Наличн]:[Безнал]])-SUM(Table[[#This Row],[Наличн]:[Безнал]])*Table[[#This Row],[Скидка]]","v":27300},43925,{"$f":"DAY(Table[[#This Row],[Дата визита]])","v":4},{"$f":"MONTH(Table[[#This Row],[Дата визита]])","v":"1900-01-04"},{"$f":"YEAR(Table[[#This Row],[Дата визита]])","v":2020},{"$f":"WEEKNUM(Table[[#This Row],[Дата визита]])","v":14},"12:00:00","Ростов-на-Дону, ул. Береговая, д. 5","Минин В.","Клиент 160","mail@birdyx.ru","79008889900","Авито","Завершено","да",4]
[43926,{"$f":"DAY('База заказов'!$A162)","v":5},{"$f":"'База заказов'!$A162","v":"2020-04-05"},{"$f":"YEAR('База заказов'!$A162)","v":2020},"Иванов И.","Укладка фанеры в 1 слой",null,20900,0.15,{"$f":"SUM(Table[[#This Row],[Наличн]:[Безнал]])-SUM(Table[[#This Row],[Наличн]:[Безнал]])*Table[[#This Row],[Скидка]]","v":17765},43926,{"$f":"DAY(Table[[#This Row],[Дата визита]])","v":5},{"$f":"MONTH(Table[[#This Row],[Дата визита]])","v":"1900-01-04"},{"$f":"YEAR(Table[[#This Row],[Дата визита]])","v":2020},{"$f":"WEEKNUM(Table[[#This Row],[Дата визита]])","v":15},"16:00:00","Ростов-на-Дону, пл. Гагарина, д. 1","Минин В.","Клиент 161","mail@birdyx.ru","79008889900","Сайт","Завершено","да",5]
[43927,{"$f":"DAY('База заказов'!$A163)","v":6},{"$f":"'База заказов'!$A163","v":"2020-04-06"},{"$f":"YEAR('База заказов'!$A163)","v":2020},"Гончарова Н.","Укладка кварцвиниловой плитки на подложку",null,17600,null,{"$f":"SUM(Table[[#This Row],[Наличн]:[Безнал]])-SUM(Table[[#This Row],[Наличн]:[Безнал]])*Table[[#This Row],[Скидка]]","v":17600},43927,{"$f":"DAY(Table[[#This Row],[Дата визита]])","v":6},{"$f":"MONTH(Table[[#This Row],[Дата визита]])","v":"1900-01-04"},{"$f":"YEAR(Table[[#This Row],[Дата визита]])","v":2020},{"$f":"WEEKNUM(Table[[#This Row],[Дата визита]])","v":15},"18:00:00","Ростов-на-Дону, ул. Механизаторов, д. 6А","Субботин С.","Клиент 162","mail@birdyx.ru","79008889900","По совету","Завершено","да",4]
[43928,{"$f":"DAY('База заказов'!$A164)","v":7},{"$f":"'База заказов'!$A164","v":"2020-04-07"},{"$f":"YEAR('База заказов'!$A164)","v":2020},"Мишин М.","Демонтаж раковины",null,7000,null,{"$f":"SUM(Table[[#This Row],[Наличн]:[Безнал]])-SUM(Table[[#This Row],[Наличн]:[Безнал]])*Table[[#This Row],[Скидка]]","v":7000},43928,{"$f":"DAY(Table[[#This Row],[Дата визита]])","v":7},{"$f":"MONTH(Table[[#This Row],[Дата визита]])","v":"1900-01-04"},{"$f":"YEAR(Table[[#This Row],[Дата визита]])","v":2020},{"$f":"WEEKNUM(Table[[#This Row],[Дата визита]])","v":15},"10:00:00","Ростов-На-Дону, проспект Буденновский, д. 3/3","Белозеров В.","Клиент 163","mail@birdyx.ru","79008889900","Яндекс","Завершено","да",5]
[43929,{"$f":"DAY('База заказов'!$A165)","v":8},{"$f":"'База заказов'!$A165","v":"2020-04-08"},{"$f":"YEAR('База заказов'!$A165)","v":2020},"Иванов И.","Демонтаж душевой кабины",null,26800,null,{"$f":"SUM(Table[[#This Row],[Наличн]:[Безнал]])-SUM(Table[[#This Row],[Наличн]:[Безнал]])*Table[[#This Row],[Скидка]]","v":26800},43929,{"$f":"DAY(Table[[#This Row],[Дата визита]])","v":8},{"$f":"MONTH(Table[[#This Row],[Дата визита]])","v":"1900-01-04"},{"$f":"YEAR(Table[[#This Row],[Дата визита]])","v":2020},{"$f":"WEEKNUM(Table[[#This Row],[Дата визита]])","v":15},"12:00:00","Ростов-на-Дону, ул. Обороны, д. 40/17","Беспалов Г.","Клиент 164","mail@birdyx.ru","79008889900","Инстаграм","Завершено","да",4]
[43930,{"$f":"DAY('База заказов'!$A166)","v":9},{"$f":"'База заказов'!$A166","v":"2020-04-09"},{"$f":"YEAR('База заказов'!$A166)","v":2020},"Петров В.","Укладка кварцвиниловой плитки на клей",null,36500,null,{"$f":"SUM(Table[[#This Row],[Наличн]:[Безнал]])-SUM(Table[[#This Row],[Наличн]:[Безнал]])*Table[[#This Row],[Скидка]]","v":36500},43933,{"$f":"DAY(Table[[#This Row],[Дата визита]])","v":12},{"$f":"MONTH(Table[[#This Row],[Дата визита]])","v":"1900-01-04"},{"$f":"YEAR(Table[[#This Row],[Дата визита]])","v":2020},{"$f":"WEEKNUM(Table[[#This Row],[Дата визита]])","v":16},"16:00:00","Ростов-на-Дону, ул. Судостроительная, д. 55","Шарапов В.","Клиент 165","mail@birdyx.ru","79008889900","Яндекс","Завершено","да",5]
[43931,{"$f":"DAY('База заказов'!$A167)","v":10},{"$f":"'База заказов'!$A167","v":"2020-04-10"},{"$f":"YEAR('База заказов'!$A167)","v":2020},"Гончарова Н.","Укладка паркетной доски на клей",null,35900,0.15,{"$f":"SUM(Table[[#This Row],[Наличн]:[Безнал]])-SUM(Table[[#This Row],[Наличн]:[Безнал]])*Table[[#This Row],[Скидка]]","v":30515},43933,{"$f":"DAY(Table[[#This Row],[Дата визита]])","v":12},{"$f":"MONTH(Table[[#This Row],[Дата визита]])","v":"1900-01-04"},{"$f":"YEAR(Table[[#This Row],[Дата визита]])","v":2020},{"$f":"WEEKNUM(Table[[#This Row],[Дата визита]])","v":16},"18:00:00","Ростов-На-Дону, пер. Семашко, д. 46/1","Белоусов В.","Клиент 166","mail@birdyx.ru","79008889900","Сайт","Завершено","да",5]
[43932,{"$f":"DAY('База заказов'!$A168)","v":11},{"$f":"'База заказов'!$A168","v":"2020-04-11"},{"$f":"YEAR('База заказов'!$A168)","v":2020},"Иванов И.","Укладка кварцвиниловой плитки на подложку",null,33700,null,{"$f":"SUM(Table[[#This Row],[Наличн]:[Безнал]])-SUM(Table[[#This Row],[Наличн]:[Безнал]])*Table[[#This Row],[Скидка]]","v":33700},43933,{"$f":"DAY(Table[[#This Row],[Дата визита]])","v":12},{"$f":"MONTH(Table[[#This Row],[Дата визита]])","v":"1900-01-04"},{"$f":"YEAR(Table[[#This Row],[Дата визита]])","v":2020},{"$f":"WEEKNUM(Table[[#This Row],[Дата визита]])","v":16},"10:00:00","Ростов-на-Дону, проспект Соколова, д. 11/Б","Шарапов В.","Клиент 167","mail@birdyx.ru","79008889900","Авито","Отмена","да",4]
[43933,{"$f":"DAY('База заказов'!$A169)","v":12},{"$f":"'База заказов'!$A169","v":"2020-04-12"},{"$f":"YEAR('База заказов'!$A169)","v":2020},"Петров В.","Демонтаж входной двери",null,19400,null,{"$f":"SUM(Table[[#This Row],[Наличн]:[Безнал]])-SUM(Table[[#This Row],[Наличн]:[Безнал]])*Table[[#This Row],[Скидка]]","v":19400},43933,{"$f":"DAY(Table[[#This Row],[Дата визита]])","v":12},{"$f":"MONTH(Table[[#This Row],[Дата визита]])","v":"1900-01-04"},{"$f":"YEAR(Table[[#This Row],[Дата визита]])","v":2020},{"$f":"WEEKNUM(Table[[#This Row],[Дата визита]])","v":16},"12:00:00","Ростов-на-Дону, ул. Ларина, д. 41/19","Субботин С.","Клиент 168","mail@birdyx.ru","79008889900","Авито","Завершено","да",5]
[43933,{"$f":"DAY('База заказов'!$A170)","v":12},{"$f":"'База заказов'!$A170","v":"2020-04-12"},{"$f":"YEAR('База заказов'!$A170)","v":2020},"Иванов И.","Укладка массивной доски",null,27500,null,{"$f":"SUM(Table[[#This Row],[Наличн]:[Безнал]])-SUM(Table[[#This Row],[Наличн]:[Безнал]])*Table[[#This Row],[Скидка]]","v":27500},43933,{"$f":"DAY(Table[[#This Row],[Дата визита]])","v":12},{"$f":"MONTH(Table[[#This Row],[Дата визита]])","v":"1900-01-04"},{"$f":"YEAR(Table[[#This Row],[Дата визита]])","v":2020},{"$f":"WEEKNUM(Table[[#This Row],[Дата визита]])","v":16},"16:00:00","Ростов-на-Дону, проспект Коммунистический, д. 20/4","Минин В.","Клиент 169","mail@birdyx.ru","79008889900","Сайт","Завершено","да",5]
[43933,{"$f":"DAY('База заказов'!$A171)","v":12},{"$f":"'База заказов'!$A171","v":"2020-04-12"},{"$f":"YEAR('База заказов'!$A171)","v":2020},"Гончарова Н.","Монтаж потолочного плинтуса",null,32300,null,{"$f":"SUM(Table[[#This Row],[Наличн]:[Безнал]])-SUM(Table[[#This Row],[Наличн]:[Безнал]])*Table[[#This Row],[Скидка]]","v":32300},43933,{"$f":"DAY(Table[[#This Row],[Дата визита]])","v":12},{"$f":"MONTH(Table[[#This Row],[Дата визита]])","v":"1900-01-04"},{"$f":"YEAR(Table[[#This Row],[Дата визита]])","v":2020},{"$f":"WEEKNUM(Table[[#This Row],[Дата визита]])","v":16},"18:00:00","Ростов-на-Дону, ул. Цезаря Куникова, д. 32/А","Белозеров В.","Клиент 170","mail@birdyx.ru","79008889900","Инстаграм","Завершено","да",5]
[43933,{"$f":"DAY('База заказов'!$A172)","v":12},{"$f":"'База заказов'!$A172","v":"2020-04-12"},{"$f":"YEAR('База заказов'!$A172)","v":2020},"Мишин М.","Демонтаж входной двери",null,27900,null,{"$f":"SUM(Table[[#This Row],[Наличн]:[Безнал]])-SUM(Table[[#This Row],[Наличн]:[Безнал]])*Table[[#This Row],[Скидка]]","v":27900},43933,{"$f":"DAY(Table[[#This Row],[Дата визита]])","v":12},{"$f":"MONTH(Table[[#This Row],[Дата визита]])","v":"1900-01-04"},{"$f":"YEAR(Table[[#This Row],[Дата визита]])","v":2020},{"$f":"WEEKNUM(Table[[#This Row],[Дата визита]])","v":16},"10:00:00","Ростов-на-Дону, ул. Красноармейская, д. 21","Беспалов Г.","Клиент 171","mail@birdyx.ru","79008889900","Яндекс","Завершено","да",3]
[43937,{"$f":"DAY('База заказов'!$A173)","v":16},{"$f":"'База заказов'!$A173","v":"2020-04-16"},{"$f":"YEAR('База заказов'!$A173)","v":2020},"Иванов И.","Монтаж потолочного плинтуса",null,17200,null,{"$f":"SUM(Table[[#This Row],[Наличн]:[Безнал]])-SUM(Table[[#This Row],[Наличн]:[Безнал]])*Table[[#This Row],[Скидка]]","v":17200},43937,{"$f":"DAY(Table[[#This Row],[Дата визита]])","v":16},{"$f":"MONTH(Table[[#This Row],[Дата визита]])","v":"1900-01-04"},{"$f":"YEAR(Table[[#This Row],[Дата визита]])","v":2020},{"$f":"WEEKNUM(Table[[#This Row],[Дата визита]])","v":16},"12:00:00","Ростов-на-Дону, проспект 40-летия Победы, д. 95/3","Устинов С.","Клиент 172","mail@birdyx.ru","79008889900","По совету","Завершено","да",3]
[43938,{"$f":"DAY('База заказов'!$A174)","v":17},{"$f":"'База заказов'!$A174","v":"2020-04-17"},{"$f":"YEAR('База заказов'!$A174)","v":2020},"Петров В.","Выкройка и монтаж дополнительных углов",null,23300,null,{"$f":"SUM(Table[[#This Row],[Наличн]:[Безнал]])-SUM(Table[[#This Row],[Наличн]:[Безнал]])*Table[[#This Row],[Скидка]]","v":23300},43938,{"$f":"DAY(Table[[#This Row],[Дата визита]])","v":17},{"$f":"MONTH(Table[[#This Row],[Дата визита]])","v":"1900-01-04"},{"$f":"YEAR(Table[[#This Row],[Дата визита]])","v":2020},{"$f":"WEEKNUM(Table[[#This Row],[Дата визита]])","v":16},"16:00:00","Ростов-на-Дону, ул. Станиславского, д. 58","Шарапов В.","Клиент 173","mail@birdyx.ru","79008889900","Сайт","Завершено","да",2]
[43939,{"$f":"DAY('База заказов'!$A175)","v":18},{"$f":"'База заказов'!$A175","v":"2020-04-18"},{"$f":"YEAR('База заказов'!$A175)","v":2020},"Гончарова Н.","Укладка паркетной доски на подложку",null,7200,null,{"$f":"SUM(Table[[#This Row],[Наличн]:[Безнал]])-SUM(Table[[#This Row],[Наличн]:[Безнал]])*Table[[#This Row],[Скидка]]","v":7200},43942,{"$f":"DAY(Table[[#This Row],[Дата визита]])","v":21},{"$f":"MONTH(Table[[#This Row],[Дата визита]])","v":"1900-01-04"},{"$f":"YEAR(Table[[#This Row],[Дата визита]])","v":2020},{"$f":"WEEKNUM(Table[[#This Row],[Дата визита]])","v":17},"18:00:00","Ростов-на-Дону, проспект Буденновский, 86/197","Белоусов В.","Клиент 174","mail@birdyx.ru","79008889900","Авито","Завершено","да",3]
[43940,{"$f":"DAY('База заказов'!$A176)","v":19},{"$f":"'База заказов'!$A176","v":"2020-04-19"},{"$f":"YEAR('База заказов'!$A176)","v":2020},"Гончарова Н.","Демонтаж балконного блока",null,30200,null,{"$f":"SUM(Table[[#This Row],[Наличн]:[Безнал]])-SUM(Table[[#This Row],[Наличн]:[Безнал]])*Table[[#This Row],[Скидка]]","v":30200},43942,{"$f":"DAY(Table[[#This Row],[Дата визита]])","v":21},{"$f":"MONTH(Table[[#This Row],[Дата визита]])","v":"1900-01-04"},{"$f":"YEAR(Table[[#This Row],[Дата визита]])","v":2020},{"$f":"WEEKNUM(Table[[#This Row],[Дата визита]])","v":17},"10:00:00","Ростов-на-Дону, ул. Липовая, 5","Субботин С.","Клиент 175","mail@birdyx.ru","79008889900","Авито","Завершено","да",5]
[43941,{"$f":"DAY('База заказов'!$A177)","v":20},{"$f":"'База заказов'!$A177","v":"2020-04-20"},{"$f":"YEAR('База заказов'!$A177)","v":2020},"Мишин М.","Укладка паркетной доски на клей",null,30200,null,{"$f":"SUM(Table[[#This Row],[Наличн]:[Безнал]])-SUM(Table[[#This Row],[Наличн]:[Безнал]])*Table[[#This Row],[Скидка]]","v":30200},43942,{"$f":"DAY(Table[[#This Row],[Дата визита]])","v":21},{"$f":"MONTH(Table[[#This Row],[Дата визита]])","v":"1900-01-04"},{"$f":"YEAR(Table[[#This Row],[Дата визита]])","v":2020},{"$f":"WEEKNUM(Table[[#This Row],[Дата визита]])","v":17},"12:00:00","Ростов-на-Дону, ул. Станиславского, д. 58","Белозеров В.","Клиент 176","mail@birdyx.ru","79008889900","Авито","Завершено","да",5]
[43942,{"$f":"DAY('База заказов'!$A178)","v":21},{"$f":"'База заказов'!$A178","v":"2020-04-21"},{"$f":"YEAR('База заказов'!$A178)","v":2020},"Иванов И.","Демонтаж входной двери",null,23400,null,{"$f":"SUM(Table[[#This Row],[Наличн]:[Безнал]])-SUM(Table[[#This Row],[Наличн]:[Безнал]])*Table[[#This Row],[Скидка]]","v":23400},43942,{"$f":"DAY(Table[[#This Row],[Дата визита]])","v":21},{"$f":"MONTH(Table[[#This Row],[Дата визита]])","v":"1900-01-04"},{"$f":"YEAR(Table[[#This Row],[Дата визита]])","v":2020},{"$f":"WEEKNUM(Table[[#This Row],[Дата визита]])","v":17},"16:00:00","Ростов-на-Дону, ул. Беляева, д. 22А","Минин В.","Клиент 177","mail@birdyx.ru","79008889900","Сайт","Завершено","да",5]
[43943,{"$f":"DAY('База заказов'!$A179)","v":22},{"$f":"'База заказов'!$A179","v":"2020-04-22"},{"$f":"YEAR('База заказов'!$A179)","v":2020},"Петров В.","Монтаж потолочного плинтуса",null,23900,null,{"$f":"SUM(Table[[#This Row],[Наличн]:[Безнал]])-SUM(Table[[#This Row],[Наличн]:[Безнал]])*Table[[#This Row],[Скидка]]","v":23900},43943,{"$f":"DAY(Table[[#This Row],[Дата визита]])","v":22},{"$f":"MONTH(Table[[#This Row],[Дата визита]])","v":"1900-01-04"},{"$f":"YEAR(Table[[#This Row],[Дата визита]])","v":2020},{"$f":"WEEKNUM(Table[[#This Row],[Дата визита]])","v":17},"18:00:00","Ростов-на-Дону, ул. 22 Линия, д. 34","Шарапов В.","Клиент 178","mail@birdyx.ru","79008889900","Сайт","Завершено","да",4]
[43944,{"$f":"DAY('База заказов'!$A180)","v":23},{"$f":"'База заказов'!$A180","v":"2020-04-23"},{"$f":"YEAR('База заказов'!$A180)","v":2020},"Иванов И.","Демонтаж душевого поддона",null,26100,null,{"$f":"SUM(Table[[#This Row],[Наличн]:[Безнал]])-SUM(Table[[#This Row],[Наличн]:[Безнал]])*Table[[#This Row],[Скидка]]","v":26100},43944,{"$f":"DAY(Table[[#This Row],[Дата визита]])","v":23},{"$f":"MONTH(Table[[#This Row],[Дата визита]])","v":"1900-01-04"},{"$f":"YEAR(Table[[#This Row],[Дата визита]])","v":2020},{"$f":"WEEKNUM(Table[[#This Row],[Дата визита]])","v":17},"10:00:00","Ростов-На-Дону, проспект Шолохова, д. 288","Субботин С.","Клиент 179","mail@birdyx.ru","79008889900","Авито","Завершено","да",3]
[43945,{"$f":"DAY('База заказов'!$A181)","v":24},{"$f":"'База заказов'!$A181","v":"2020-04-24"},{"$f":"YEAR('База заказов'!$A181)","v":2020},"Петров В.","Демонтаж входной двери",null,19500,null,{"$f":"SUM(Table[[#This Row],[Наличн]:[Безнал]])-SUM(Table[[#This Row],[Наличн]:[Безнал]])*Table[[#This Row],[Скидка]]","v":19500},43945,{"$f":"DAY(Table[[#This Row],[Дата визита]])","v":24},{"$f":"MONTH(Table[[#This Row],[Дата визита]])","v":"1900-01-04"},{"$f":"YEAR(Table[[#This Row],[Дата визита]])","v":2020},{"$f":"WEEKNUM(Table[[#This Row],[Дата визита]])","v":17},"12:00:00","Ростов-на-Дону, проспект Кировский, д. 57","Минин В.","Клиент 180","mail@birdyx.ru","79008889900","Сайт","Завершено","да",5]
[43946,{"$f":"DAY('База заказов'!$A182)","v":25},{"$f":"'База заказов'!$A182","v":"2020-04-25"},{"$f":"YEAR('База заказов'!$A182)","v":2020},"Иванов И.","Установка порожка",null,7700,null,{"$f":"SUM(Table[[#This Row],[Наличн]:[Безнал]])-SUM(Table[[#This Row],[Наличн]:[Безнал]])*Table[[#This Row],[Скидка]]","v":7700},43946,{"$f":"DAY(Table[[#This Row],[Дата визита]])","v":25},{"$f":"MONTH(Table[[#This Row],[Дата визита]])","v":"1900-01-04"},{"$f":"YEAR(Table[[#This Row],[Дата визита]])","v":2020},{"$f":"WEEKNUM(Table[[#This Row],[Дата визита]])","v":17},"16:00:00","Ростов-на-Дону, Стартовая 20","Белозеров В.","Клиент 181","mail@birdyx.ru","79008889900","По совету","Завершено","да",4]
[43947,{"$f":"DAY('База заказов'!$A183)","v":26},{"$f":"'База заказов'!$A183","v":"2020-04-26"},{"$f":"YEAR('База заказов'!$A183)","v":2020},"Гончарова Н.","Демонтаж оконного блока",null,24500,null,{"$f":"SUM(Table[[#This Row],[Наличн]:[Безнал]])-SUM(Table[[#This Row],[Наличн]:[Безнал]])*Table[[#This Row],[Скидка]]","v":24500},43950,{"$f":"DAY(Table[[#This Row],[Дата визита]])","v":29},{"$f":"MONTH(Table[[#This Row],[Дата визита]])","v":"1900-01-04"},{"$f":"YEAR(Table[[#This Row],[Дата визита]])","v":2020},{"$f":"WEEKNUM(Table[[#This Row],[Дата визита]])","v":18},"18:00:00","Ростов-на-Дону, Стартовая 22","Беспалов Г.","Клиент 182","mail@birdyx.ru","79008889900","Яндекс","Завершено","да",4]
[43948,{"$f":"DAY('База заказов'!$A184)","v":27},{"$f":"'База заказов'!$A184","v":"2020-04-27"},{"$f":"YEAR('База заказов'!$A184)","v":2020},"Мишин М.","Укладка керамической плитки, керамогранита на пол с затиркой",null,19600,null,{"$f":"SUM(Table[[#This Row],[Наличн]:[Безнал]])-SUM(Table[[#This Row],[Наличн]:[Безнал]])*Table[[#This Row],[Скидка]]","v":19600},43950,{"$f":"DAY(Table[[#This Row],[Дата визита]])","v":29},{"$f":"MONTH(Table[[#This Row],[Дата визита]])","v":"1900-01-04"},{"$f":"YEAR(Table[[#This Row],[Дата визита]])","v":2020},{"$f":"WEEKNUM(Table[[#This Row],[Дата визита]])","v":18},"09:00:00","Ростов-на-Дону, Жданова 15","Устинов С.","Клиент 183","mail@birdyx.ru","79008889900","Инстаграм","Завершено","да",5]
[43949,{"$f":"DAY('База заказов'!$A185)","v":28},{"$f":"'База заказов'!$A185","v":"2020-04-28"},{"$f":"YEAR('База заказов'!$A185)","v":2020},"Иванов И.","Укладка массивной доски",null,29000,null,{"$f":"SUM(Table[[#This Row],[Наличн]:[Безнал]])-SUM(Table[[#This Row],[Наличн]:[Безнал]])*Table[[#This Row],[Скидка]]","v":29000},43950,{"$f":"DAY(Table[[#This Row],[Дата визита]])","v":29},{"$f":"MONTH(Table[[#This Row],[Дата визита]])","v":"1900-01-04"},{"$f":"YEAR(Table[[#This Row],[Дата визита]])","v":2020},{"$f":"WEEKNUM(Table[[#This Row],[Дата визита]])","v":18},"11:00:00","Ростов-на-Дону, ул. Пацаева, д. 2","Минин В.","Клиент 184","mail@birdyx.ru","79008889900","Яндекс","Завершено","да",5]
[43950,{"$f":"DAY('База заказов'!$A186)","v":29},{"$f":"'База заказов'!$A186","v":"2020-04-29"},{"$f":"YEAR('База заказов'!$A186)","v":2020},"Петров В.","Нанесение декоративной штукатурки ",null,28500,null,{"$f":"SUM(Table[[#This Row],[Наличн]:[Безнал]])-SUM(Table[[#This Row],[Наличн]:[Безнал]])*Table[[#This Row],[Скидка]]","v":28500},43950,{"$f":"DAY(Table[[#This Row],[Дата визита]])","v":29},{"$f":"MONTH(Table[[#This Row],[Дата визита]])","v":"1900-01-04"},{"$f":"YEAR(Table[[#This Row],[Дата визита]])","v":2020},{"$f":"WEEKNUM(Table[[#This Row],[Дата визита]])","v":18},"15:00:00","Ростов-на-Дону, ул. 14 Линия, д. 33","Минин В.","Клиент 185","mail@birdyx.ru","79008889900","Сайт","Завершено","да",5]
[43951,{"$f":"DAY('База заказов'!$A187)","v":30},{"$f":"'База заказов'!$A187","v":"2020-04-30"},{"$f":"YEAR('База заказов'!$A187)","v":2020},"Гончарова Н.","Укладка массивной доски",null,28100,null,{"$f":"SUM(Table[[#This Row],[Наличн]:[Безнал]])-SUM(Table[[#This Row],[Наличн]:[Безнал]])*Table[[#This Row],[Скидка]]","v":28100},43951,{"$f":"DAY(Table[[#This Row],[Дата визита]])","v":30},{"$f":"MONTH(Table[[#This Row],[Дата визита]])","v":"1900-01-04"},{"$f":"YEAR(Table[[#This Row],[Дата визита]])","v":2020},{"$f":"WEEKNUM(Table[[#This Row],[Дата визита]])","v":18},"17:00:00","Ростов-на-Дону, пер. Беломорский, д. 94","Субботин С.","Клиент 186","mail@birdyx.ru","79008889900","Авито","Завершено","да",4]
[43951,{"$f":"DAY('База заказов'!$A188)","v":30},{"$f":"'База заказов'!$A188","v":"2020-04-30"},{"$f":"YEAR('База заказов'!$A188)","v":2020},"Гончарова Н.","Нанесение декоративной штукатурки ",null,12600,null,{"$f":"SUM(Table[[#This Row],[Наличн]:[Безнал]])-SUM(Table[[#This Row],[Наличн]:[Безнал]])*Table[[#This Row],[Скидка]]","v":12600},43951,{"$f":"DAY(Table[[#This Row],[Дата визита]])","v":30},{"$f":"MONTH(Table[[#This Row],[Дата визита]])","v":"1900-01-04"},{"$f":"YEAR(Table[[#This Row],[Дата визита]])","v":2020},{"$f":"WEEKNUM(Table[[#This Row],[Дата визита]])","v":18},"09:00:00","Ростов-На-Дону, ул. Извилистая, д. 13/2","Белозеров В.","Клиент 187","mail@birdyx.ru","79008889900","Авито","Завершено","да",5]
[43953,{"$f":"DAY('База заказов'!$A189)","v":2},{"$f":"'База заказов'!$A189","v":"2020-05-02"},{"$f":"YEAR('База заказов'!$A189)","v":2020},"Иванов И.","Демонтаж входной двери",null,24000,null,{"$f":"SUM(Table[[#This Row],[Наличн]:[Безнал]])-SUM(Table[[#This Row],[Наличн]:[Безнал]])*Table[[#This Row],[Скидка]]","v":24000},43953,{"$f":"DAY(Table[[#This Row],[Дата визита]])","v":2},{"$f":"MONTH(Table[[#This Row],[Дата визита]])","v":"1900-01-05"},{"$f":"YEAR(Table[[#This Row],[Дата визита]])","v":2020},{"$f":"WEEKNUM(Table[[#This Row],[Дата визита]])","v":18},"11:00:00","Ростов-на-Дону, пер. Братский, д. 36","Беспалов Г.","Клиент 188","mail@birdyx.ru","79008889900","Сайт","Завершено","да",5]
[43953,{"$f":"DAY('База заказов'!$A190)","v":2},{"$f":"'База заказов'!$A190","v":"2020-05-02"},{"$f":"YEAR('База заказов'!$A190)","v":2020},"Петров В.","Укладка паркетной доски на клей",null,38600,null,{"$f":"SUM(Table[[#This Row],[Наличн]:[Безнал]])-SUM(Table[[#This Row],[Наличн]:[Безнал]])*Table[[#This Row],[Скидка]]","v":38600},43953,{"$f":"DAY(Table[[#This Row],[Дата визита]])","v":2},{"$f":"MONTH(Table[[#This Row],[Дата визита]])","v":"1900-01-05"},{"$f":"YEAR(Table[[#This Row],[Дата визита]])","v":2020},{"$f":"WEEKNUM(Table[[#This Row],[Дата визита]])","v":18},"15:00:00","Ростов-На-Дону, ул. Андрея Сладкова, д. 87","Шарапов В.","Клиент 189","mail@birdyx.ru","79008889900","Инстаграм","Завершено","да",5]
[43955,{"$f":"DAY('База заказов'!$A191)","v":4},{"$f":"'База заказов'!$A191","v":"2020-05-04"},{"$f":"YEAR('База заказов'!$A191)","v":2020},"Иванов И.","Выкройка и монтаж дополнительных углов",null,7300,0.15,{"$f":"SUM(Table[[#This Row],[Наличн]:[Безнал]])-SUM(Table[[#This Row],[Наличн]:[Безнал]])*Table[[#This Row],[Скидка]]","v":6205},43955,{"$f":"DAY(Table[[#This Row],[Дата визита]])","v":4},{"$f":"MONTH(Table[[#This Row],[Дата визита]])","v":"1900-01-05"},{"$f":"YEAR(Table[[#This Row],[Дата визита]])","v":2020},{"$f":"WEEKNUM(Table[[#This Row],[Дата визита]])","v":19},"17:00:00","Ростов-на-Дону, ул. 339-й Стрелковой Дивизии, д. 33","Белоусов В.","Клиент 190","mail@birdyx.ru","79008889900","Яндекс","Завершено","да",5]
[43956,{"$f":"DAY('База заказов'!$A192)","v":5},{"$f":"'База заказов'!$A192","v":"2020-05-05"},{"$f":"YEAR('База заказов'!$A192)","v":2020},"Гончарова Н.","Выкройка и монтаж дополнительных углов",null,34400,null,{"$f":"SUM(Table[[#This Row],[Наличн]:[Безнал]])-SUM(Table[[#This Row],[Наличн]:[Безнал]])*Table[[#This Row],[Скидка]]","v":34400},43956,{"$f":"DAY(Table[[#This Row],[Дата визита]])","v":5},{"$f":"MONTH(Table[[#This Row],[Дата визита]])","v":"1900-01-05"},{"$f":"YEAR(Table[[#This Row],[Дата визита]])","v":2020},{"$f":"WEEKNUM(Table[[#This Row],[Дата визита]])","v":19},"09:00:00","Ростов-на-Дону, Ленина 1","Шарапов В.","Клиент 191","mail@birdyx.ru","79008889900","По совету","Завершено","да",4]
[43957,{"$f":"DAY('База заказов'!$A193)","v":6},{"$f":"'База заказов'!$A193","v":"2020-05-06"},{"$f":"YEAR('База заказов'!$A193)","v":2020},"Мишин М.","Укладка паркетной доски на клей",null,27100,0.15,{"$f":"SUM(Table[[#This Row],[Наличн]:[Безнал]])-SUM(Table[[#This Row],[Наличн]:[Безнал]])*Table[[#This Row],[Скидка]]","v":23035},43959,{"$f":"DAY(Table[[#This Row],[Дата визита]])","v":8},{"$f":"MONTH(Table[[#This Row],[Дата визита]])","v":"1900-01-05"},{"$f":"YEAR(Table[[#This Row],[Дата визита]])","v":2020},{"$f":"WEEKNUM(Table[[#This Row],[Дата визита]])","v":19},"11:00:00","Ростов-на-Дону, Михаила Нагибина 32","Белоусов В.","Клиент 192","mail@birdyx.ru","79008889900","Сайт","Завершено","да",5]
[43958,{"$f":"DAY('База заказов'!$A194)","v":7},{"$f":"'База заказов'!$A194","v":"2020-05-07"},{"$f":"YEAR('База заказов'!$A194)","v":2020},"Иванов И.","Нанесение декоративной штукатурки ",null,17300,null,{"$f":"SUM(Table[[#This Row],[Наличн]:[Безнал]])-SUM(Table[[#This Row],[Наличн]:[Безнал]])*Table[[#This Row],[Скидка]]","v":17300},43959,{"$f":"DAY(Table[[#This Row],[Дата визита]])","v":8},{"$f":"MONTH(Table[[#This Row],[Дата визита]])","v":"1900-01-05"},{"$f":"YEAR(Table[[#This Row],[Дата визита]])","v":2020},{"$f":"WEEKNUM(Table[[#This Row],[Дата визита]])","v":19},"15:00:00","Ростов-на-Дону, Михаила Нагибина 32","Беспалов Г.","Клиент 193","mail@birdyx.ru","79008889900","Сайт","Завершено","да",5]
[43959,{"$f":"DAY('База заказов'!$A195)","v":8},{"$f":"'База заказов'!$A195","v":"2020-05-08"},{"$f":"YEAR('База заказов'!$A195)","v":2020},"Петров В.","Монтаж потолочного плинтуса",null,8900,null,{"$f":"SUM(Table[[#This Row],[Наличн]:[Безнал]])-SUM(Table[[#This Row],[Наличн]:[Безнал]])*Table[[#This Row],[Скидка]]","v":8900},43959,{"$f":"DAY(Table[[#This Row],[Дата визита]])","v":8},{"$f":"MONTH(Table[[#This Row],[Дата визита]])","v":"1900-01-05"},{"$f":"YEAR(Table[[#This Row],[Дата визита]])","v":2020},{"$f":"WEEKNUM(Table[[#This Row],[Дата визита]])","v":19},"17:00:00","Ростов-на-Дону, ул. Таганрогская, д. 149/1 К 35","Минин В.","Клиент 194","mail@birdyx.ru","79008889900","Сайт","Завершено","да",5]
[43960,{"$f":"DAY('База заказов'!$A196)","v":9},{"$f":"'База заказов'!$A196","v":"2020-05-09"},{"$f":"YEAR('База заказов'!$A196)","v":2020},"Гончарова Н.","Укладка фанеры в 1 слой",null,38200,null,{"$f":"SUM(Table[[#This Row],[Наличн]:[Безнал]])-SUM(Table[[#This Row],[Наличн]:[Безнал]])*Table[[#This Row],[Скидка]]","v":38200},43960,{"$f":"DAY(Table[[#This Row],[Дата визита]])","v":9},{"$f":"MONTH(Table[[#This Row],[Дата визита]])","v":"1900-01-05"},{"$f":"YEAR(Table[[#This Row],[Дата визита]])","v":2020},{"$f":"WEEKNUM(Table[[#This Row],[Дата визита]])","v":19},"09:00:00","Ростов-На-Дону, ул. Большая Садовая, д. 115","Субботин С.","Клиент 195","mail@birdyx.ru","79008889900","Сайт","Отмена","да",5]
[43961,{"$f":"DAY('База заказов'!$A197)","v":10},{"$f":"'База заказов'!$A197","v":"2020-05-10"},{"$f":"YEAR('База заказов'!$A197)","v":2020},"Иванов И.","Укладка линолеума на клей",null,12500,0.15,{"$f":"SUM(Table[[#This Row],[Наличн]:[Безнал]])-SUM(Table[[#This Row],[Наличн]:[Безнал]])*Table[[#This Row],[Скидка]]","v":10625},43961,{"$f":"DAY(Table[[#This Row],[Дата визита]])","v":10},{"$f":"MONTH(Table[[#This Row],[Дата визита]])","v":"1900-01-05"},{"$f":"YEAR(Table[[#This Row],[Дата визита]])","v":2020},{"$f":"WEEKNUM(Table[[#This Row],[Дата визита]])","v":20},"11:00:00","Ростов-на-Дону, ул. Большая Садовая, д. 69","Субботин С.","Клиент 196","mail@birdyx.ru","79008889900","Сайт","Завершено","да",3]
[43962,{"$f":"DAY('База заказов'!$A198)","v":11},{"$f":"'База заказов'!$A198","v":"2020-05-11"},{"$f":"YEAR('База заказов'!$A198)","v":2020},"Петров В.","Укладка паркетной доски на клей",null,18100,null,{"$f":"SUM(Table[[#This Row],[Наличн]:[Безнал]])-SUM(Table[[#This Row],[Наличн]:[Безнал]])*Table[[#This Row],[Скидка]]","v":18100},43962,{"$f":"DAY(Table[[#This Row],[Дата визита]])","v":11},{"$f":"MONTH(Table[[#This Row],[Дата визита]])","v":"1900-01-05"},{"$f":"YEAR(Table[[#This Row],[Дата визита]])","v":2020},{"$f":"WEEKNUM(Table[[#This Row],[Дата визита]])","v":20},"15:00:00","Ростов-на-Дону, пер. Университетский, д. 133","Белоусов В.","Клиент 197","mail@birdyx.ru","79008889900","Сайт","Завершено","да",4]
[43963,{"$f":"DAY('База заказов'!$A199)","v":12},{"$f":"'База заказов'!$A199","v":"2020-05-12"},{"$f":"YEAR('База заказов'!$A199)","v":2020},"Иванов И.","Нанесение декоративной штукатурки ",null,39700,null,{"$f":"SUM(Table[[#This Row],[Наличн]:[Безнал]])-SUM(Table[[#This Row],[Наличн]:[Безнал]])*Table[[#This Row],[Скидка]]","v":39700},43963,{"$f":"DAY(Table[[#This Row],[Дата визита]])","v":12},{"$f":"MONTH(Table[[#This Row],[Дата визита]])","v":"1900-01-05"},{"$f":"YEAR(Table[[#This Row],[Дата визита]])","v":2020},{"$f":"WEEKNUM(Table[[#This Row],[Дата визита]])","v":20},"17:00:00","Ростов-на-Дону, пер. Соборный, д. 26","Белозеров В.","Клиент 198","mail@birdyx.ru","79008889900","Сайт","Завершено","да",5]
[43964,{"$f":"DAY('База заказов'!$A200)","v":13},{"$f":"'База заказов'!$A200","v":"2020-05-13"},{"$f":"YEAR('База заказов'!$A200)","v":2020},"Гончарова Н.","Монтаж потолочного плинтуса",null,9800,null,{"$f":"SUM(Table[[#This Row],[Наличн]:[Безнал]])-SUM(Table[[#This Row],[Наличн]:[Безнал]])*Table[[#This Row],[Скидка]]","v":9800},43964,{"$f":"DAY(Table[[#This Row],[Дата визита]])","v":13},{"$f":"MONTH(Table[[#This Row],[Дата визита]])","v":"1900-01-05"},{"$f":"YEAR(Table[[#This Row],[Дата визита]])","v":2020},{"$f":"WEEKNUM(Table[[#This Row],[Дата визита]])","v":20},"10:00:00","Ростов-на-Дону, проспект Сиверса, д. 1","Беспалов Г.","Клиент 199","mail@birdyx.ru","79008889900","Сайт","Завершено","да",5]
[43965,{"$f":"DAY('База заказов'!$A201)","v":14},{"$f":"'База заказов'!$A201","v":"2020-05-14"},{"$f":"YEAR('База заказов'!$A201)","v":2020},"Мишин М.","Укладка фанеры в 1 слой",null,7300,null,{"$f":"SUM(Table[[#This Row],[Наличн]:[Безнал]])-SUM(Table[[#This Row],[Наличн]:[Безнал]])*Table[[#This Row],[Скидка]]","v":7300},43967,{"$f":"DAY(Table[[#This Row],[Дата визита]])","v":16},{"$f":"MONTH(Table[[#This Row],[Дата визита]])","v":"1900-01-05"},{"$f":"YEAR(Table[[#This Row],[Дата визита]])","v":2020},{"$f":"WEEKNUM(Table[[#This Row],[Дата визита]])","v":20},"12:00:00","Ростов-на-Дону, ул. Большая Садовая, д. 105/42","Белозеров В.","Клиент 200","mail@birdyx.ru","79008889900","Сайт","Завершено","да",5]
[43966,{"$f":"DAY('База заказов'!$A202)","v":15},{"$f":"'База заказов'!$A202","v":"2020-05-15"},{"$f":"YEAR('База заказов'!$A202)","v":2020},"Иванов И.","Укладка кварцвиниловой плитки на подложку",null,32800,null,{"$f":"SUM(Table[[#This Row],[Наличн]:[Безнал]])-SUM(Table[[#This Row],[Наличн]:[Безнал]])*Table[[#This Row],[Скидка]]","v":32800},43967,{"$f":"DAY(Table[[#This Row],[Дата визита]])","v":16},{"$f":"MONTH(Table[[#This Row],[Дата визита]])","v":"1900-01-05"},{"$f":"YEAR(Table[[#This Row],[Дата визита]])","v":2020},{"$f":"WEEKNUM(Table[[#This Row],[Дата визита]])","v":20},"16:00:00","Ростов-на-Дону, ул. Максима Горького, д. 149","Устинов С.","Клиент 201","mail@birdyx.ru","79008889900","Сайт","Завершено","да",4]
[43967,{"$f":"DAY('База заказов'!$A203)","v":16},{"$f":"'База заказов'!$A203","v":"2020-05-16"},{"$f":"YEAR('База заказов'!$A203)","v":2020},"Петров В.","Демонтаж раковины",null,22600,null,{"$f":"SUM(Table[[#This Row],[Наличн]:[Безнал]])-SUM(Table[[#This Row],[Наличн]:[Безнал]])*Table[[#This Row],[Скидка]]","v":22600},43967,{"$f":"DAY(Table[[#This Row],[Дата визита]])","v":16},{"$f":"MONTH(Table[[#This Row],[Дата визита]])","v":"1900-01-05"},{"$f":"YEAR(Table[[#This Row],[Дата визита]])","v":2020},{"$f":"WEEKNUM(Table[[#This Row],[Дата визита]])","v":20},"18:00:00","Ростов-на-Дону, проспект Буденновский, д. 97","Минин В.","Клиент 202","mail@birdyx.ru","79008889900","Сайт","Завершено","да",5]
[43968,{"$f":"DAY('База заказов'!$A204)","v":17},{"$f":"'База заказов'!$A204","v":"2020-05-17"},{"$f":"YEAR('База заказов'!$A204)","v":2020},"Гончарова Н.","Демонтаж душевой кабины",null,22200,null,{"$f":"SUM(Table[[#This Row],[Наличн]:[Безнал]])-SUM(Table[[#This Row],[Наличн]:[Безнал]])*Table[[#This Row],[Скидка]]","v":22200},43968,{"$f":"DAY(Table[[#This Row],[Дата визита]])","v":17},{"$f":"MONTH(Table[[#This Row],[Дата визита]])","v":"1900-01-05"},{"$f":"YEAR(Table[[#This Row],[Дата визита]])","v":2020},{"$f":"WEEKNUM(Table[[#This Row],[Дата визита]])","v":21},"10:00:00","Ростов-на-Дону, ул. Советская, д. 26/1","Субботин С.","Клиент 203","mail@birdyx.ru","79008889900","Сайт","Завершено","да",5]
[43969,{"$f":"DAY('База заказов'!$A205)","v":18},{"$f":"'База заказов'!$A205","v":"2020-05-18"},{"$f":"YEAR('База заказов'!$A205)","v":2020},"Гончарова Н.","Демонтаж входной двери",null,28000,null,{"$f":"SUM(Table[[#This Row],[Наличн]:[Безнал]])-SUM(Table[[#This Row],[Наличн]:[Безнал]])*Table[[#This Row],[Скидка]]","v":28000},43969,{"$f":"DAY(Table[[#This Row],[Дата визита]])","v":18},{"$f":"MONTH(Table[[#This Row],[Дата визита]])","v":"1900-01-05"},{"$f":"YEAR(Table[[#This Row],[Дата визита]])","v":2020},{"$f":"WEEKNUM(Table[[#This Row],[Дата визита]])","v":21},"12:00:00","Ростов-на-Дону, ул. Мечникова, д. 43","Субботин С.","Клиент 204","mail@birdyx.ru","79008889900","Инстаграм","Завершено","да",5]
[43970,{"$f":"DAY('База заказов'!$A206)","v":19},{"$f":"'База заказов'!$A206","v":"2020-05-19"},{"$f":"YEAR('База заказов'!$A206)","v":2020},"Мишин М.","Укладка паркетной доски на клей",null,8800,null,{"$f":"SUM(Table[[#This Row],[Наличн]:[Безнал]])-SUM(Table[[#This Row],[Наличн]:[Безнал]])*Table[[#This Row],[Скидка]]","v":8800},43970,{"$f":"DAY(Table[[#This Row],[Дата визита]])","v":19},{"$f":"MONTH(Table[[#This Row],[Дата визита]])","v":"1900-01-05"},{"$f":"YEAR(Table[[#This Row],[Дата визита]])","v":2020},{"$f":"WEEKNUM(Table[[#This Row],[Дата визита]])","v":21},"16:00:00","Ростов-на-Дону, пер. Островского, д. 47","Белоусов В.","Клиент 205","mail@birdyx.ru","79008889900","Яндекс","Завершено","да",5]
[43971,{"$f":"DAY('База заказов'!$A207)","v":20},{"$f":"'База заказов'!$A207","v":"2020-05-20"},{"$f":"YEAR('База заказов'!$A207)","v":2020},"Иванов И.","Укладка кварцвиниловой плитки на подложку",null,7900,null,{"$f":"SUM(Table[[#This Row],[Наличн]:[Безнал]])-SUM(Table[[#This Row],[Наличн]:[Безнал]])*Table[[#This Row],[Скидка]]","v":7900},43971,{"$f":"DAY(Table[[#This Row],[Дата визита]])","v":20},{"$f":"MONTH(Table[[#This Row],[Дата визита]])","v":"1900-01-05"},{"$f":"YEAR(Table[[#This Row],[Дата визита]])","v":2020},{"$f":"WEEKNUM(Table[[#This Row],[Дата визита]])","v":21},"18:00:00","Ростов-на-Дону, ул. Пушкинская, д. 225","Белозеров В.","Клиент 206","mail@birdyx.ru","79008889900","Сайт","Завершено","да",5]
[43972,{"$f":"DAY('База заказов'!$A208)","v":21},{"$f":"'База заказов'!$A208","v":"2020-05-21"},{"$f":"YEAR('База заказов'!$A208)","v":2020},"Петров В.","Укладка паркетной доски на подложку",null,9500,null,{"$f":"SUM(Table[[#This Row],[Наличн]:[Безнал]])-SUM(Table[[#This Row],[Наличн]:[Безнал]])*Table[[#This Row],[Скидка]]","v":9500},43972,{"$f":"DAY(Table[[#This Row],[Дата визита]])","v":21},{"$f":"MONTH(Table[[#This Row],[Дата визита]])","v":"1900-01-05"},{"$f":"YEAR(Table[[#This Row],[Дата визита]])","v":2020},{"$f":"WEEKNUM(Table[[#This Row],[Дата визита]])","v":21},"10:00:00","Ростов-На-Дону, ул. Ченцова, д. 57/81","Беспалов Г.","Клиент 207","mail@birdyx.ru","79008889900","Авито","Завершено","да",4]
[43973,{"$f":"DAY('База заказов'!$A209)","v":22},{"$f":"'База заказов'!$A209","v":"2020-05-22"},{"$f":"YEAR('База заказов'!$A209)","v":2020},"Иванов И.","Демонтаж входной двери",26300,null,null,{"$f":"SUM(Table[[#This Row],[Наличн]:[Безнал]])-SUM(Table[[#This Row],[Наличн]:[Безнал]])*Table[[#This Row],[Скидка]]","v":26300},43973,{"$f":"DAY(Table[[#This Row],[Дата визита]])","v":22},{"$f":"MONTH(Table[[#This Row],[Дата визита]])","v":"1900-01-05"},{"$f":"YEAR(Table[[#This Row],[Дата визита]])","v":2020},{"$f":"WEEKNUM(Table[[#This Row],[Дата визита]])","v":21},"12:00:00","Ростов-на-Дону, ул. Текучева, д. 135","Белозеров В.","Клиент 208","mail@birdyx.ru","79008889900","Авито","Завершено","да",5]
[43974,{"$f":"DAY('База заказов'!$A210)","v":23},{"$f":"'База заказов'!$A210","v":"2020-05-23"},{"$f":"YEAR('База заказов'!$A210)","v":2020},"Гончарова Н.","Монтаж потолочного плинтуса",26400,null,null,{"$f":"SUM(Table[[#This Row],[Наличн]:[Безнал]])-SUM(Table[[#This Row],[Наличн]:[Безнал]])*Table[[#This Row],[Скидка]]","v":26400},43974,{"$f":"DAY(Table[[#This Row],[Дата визита]])","v":23},{"$f":"MONTH(Table[[#This Row],[Дата визита]])","v":"1900-01-05"},{"$f":"YEAR(Table[[#This Row],[Дата визита]])","v":2020},{"$f":"WEEKNUM(Table[[#This Row],[Дата визита]])","v":21},"16:00:00","Ростов-на-Дону, пер. Газетный, д. 99","Устинов С.","Клиент 209","mail@birdyx.ru","79008889900","Сайт","Завершено","да",3]
[43975,{"$f":"DAY('База заказов'!$A211)","v":24},{"$f":"'База заказов'!$A211","v":"2020-05-24"},{"$f":"YEAR('База заказов'!$A211)","v":2020},"Мишин М.","Укладка массивной доски",13800,null,null,{"$f":"SUM(Table[[#This Row],[Наличн]:[Безнал]])-SUM(Table[[#This Row],[Наличн]:[Безнал]])*Table[[#This Row],[Скидка]]","v":13800},43975,{"$f":"DAY(Table[[#This Row],[Дата визита]])","v":24},{"$f":"MONTH(Table[[#This Row],[Дата визита]])","v":"1900-01-05"},{"$f":"YEAR(Table[[#This Row],[Дата визита]])","v":2020},{"$f":"WEEKNUM(Table[[#This Row],[Дата визита]])","v":22},"18:00:00","Ростов-на-Дону, проспект Кировский, д. 90","Минин В.","Клиент 210","mail@birdyx.ru","79008889900","Инстаграм","Завершено","да",4]
[43976,{"$f":"DAY('База заказов'!$A212)","v":25},{"$f":"'База заказов'!$A212","v":"2020-05-25"},{"$f":"YEAR('База заказов'!$A212)","v":2020},"Иванов И.","Монтаж потолочного плинтуса",31800,null,null,{"$f":"SUM(Table[[#This Row],[Наличн]:[Безнал]])-SUM(Table[[#This Row],[Наличн]:[Безнал]])*Table[[#This Row],[Скидка]]","v":31800},43976,{"$f":"DAY(Table[[#This Row],[Дата визита]])","v":25},{"$f":"MONTH(Table[[#This Row],[Дата визита]])","v":"1900-01-05"},{"$f":"YEAR(Table[[#This Row],[Дата визита]])","v":2020},{"$f":"WEEKNUM(Table[[#This Row],[Дата визита]])","v":22},"10:00:00","Ростов-на-Дону, ул. 14 Линия, д. 14","Белозеров В.","Клиент 211","mail@birdyx.ru","79008889900","Яндекс","Завершено","да",4]
[43977,{"$f":"DAY('База заказов'!$A213)","v":26},{"$f":"'База заказов'!$A213","v":"2020-05-26"},{"$f":"YEAR('База заказов'!$A213)","v":2020},"Петров В.","Выкройка и монтаж дополнительных углов",21100,null,null,{"$f":"SUM(Table[[#This Row],[Наличн]:[Безнал]])-SUM(Table[[#This Row],[Наличн]:[Безнал]])*Table[[#This Row],[Скидка]]","v":21100},43977,{"$f":"DAY(Table[[#This Row],[Дата визита]])","v":26},{"$f":"MONTH(Table[[#This Row],[Дата визита]])","v":"1900-01-05"},{"$f":"YEAR(Table[[#This Row],[Дата визита]])","v":2020},{"$f":"WEEKNUM(Table[[#This Row],[Дата визита]])","v":22},"12:00:00","Ростов-на-Дону, ул. Береговая, д. 30","Беспалов Г.","Клиент 212","mail@birdyx.ru","79008889900","По совету","Завершено","да",5]
[43978,{"$f":"DAY('База заказов'!$A214)","v":27},{"$f":"'База заказов'!$A214","v":"2020-05-27"},{"$f":"YEAR('База заказов'!$A214)","v":2020},"Гончарова Н.","Укладка паркетной доски на подложку",null,16600,0.15,{"$f":"SUM(Table[[#This Row],[Наличн]:[Безнал]])-SUM(Table[[#This Row],[Наличн]:[Безнал]])*Table[[#This Row],[Скидка]]","v":14110},43978,{"$f":"DAY(Table[[#This Row],[Дата визита]])","v":27},{"$f":"MONTH(Table[[#This Row],[Дата визита]])","v":"1900-01-05"},{"$f":"YEAR(Table[[#This Row],[Дата визита]])","v":2020},{"$f":"WEEKNUM(Table[[#This Row],[Дата визита]])","v":22},"16:00:00","Ростов-на-Дону, ул. Большая Садовая, д. 77","Шарапов В.","Клиент 213","mail@birdyx.ru","79008889900","Сайт","Завершено","да",3]
[43979,{"$f":"DAY('База заказов'!$A215)","v":28},{"$f":"'База заказов'!$A215","v":"2020-05-28"},{"$f":"YEAR('База заказов'!$A215)","v":2020},"Гончарова Н.","Демонтаж балконного блока",null,11300,0.15,{"$f":"SUM(Table[[#This Row],[Наличн]:[Безнал]])-SUM(Table[[#This Row],[Наличн]:[Безнал]])*Table[[#This Row],[Скидка]]","v":9605},43979,{"$f":"DAY(Table[[#This Row],[Дата визита]])","v":28},{"$f":"MONTH(Table[[#This Row],[Дата визита]])","v":"1900-01-05"},{"$f":"YEAR(Table[[#This Row],[Дата визита]])","v":2020},{"$f":"WEEKNUM(Table[[#This Row],[Дата визита]])","v":22},"18:00:00","Ростов-на-Дону, ул. 6-я линия, д. 4","Белоусов В.","Клиент 214","mail@birdyx.ru","79008889900","Авито","Завершено","да",2]
[43980,{"$f":"DAY('База заказов'!$A216)","v":29},{"$f":"'База заказов'!$A216","v":"2020-05-29"},{"$f":"YEAR('База заказов'!$A216)","v":2020},"Мишин М.","Укладка паркетной доски на клей",null,29100,0.15,{"$f":"SUM(Table[[#This Row],[Наличн]:[Безнал]])-SUM(Table[[#This Row],[Наличн]:[Безнал]])*Table[[#This Row],[Скидка]]","v":24735},43980,{"$f":"DAY(Table[[#This Row],[Дата визита]])","v":29},{"$f":"MONTH(Table[[#This Row],[Дата визита]])","v":"1900-01-05"},{"$f":"YEAR(Table[[#This Row],[Дата визита]])","v":2020},{"$f":"WEEKNUM(Table[[#This Row],[Дата визита]])","v":22},"10:00:00","Ростов-на-Дону, ул. Гагринская, д. 46","Шарапов В.","Клиент 215","mail@birdyx.ru","79008889900","Авито","Завершено","да",4]
[43981,{"$f":"DAY('База заказов'!$A217)","v":30},{"$f":"'База заказов'!$A217","v":"2020-05-30"},{"$f":"YEAR('База заказов'!$A217)","v":2020},"Иванов И.","Укладка массивной доски",null,23900,0.15,{"$f":"SUM(Table[[#This Row],[Наличн]:[Безнал]])-SUM(Table[[#This Row],[Наличн]:[Безнал]])*Table[[#This Row],[Скидка]]","v":20315},43981,{"$f":"DAY(Table[[#This Row],[Дата визита]])","v":30},{"$f":"MONTH(Table[[#This Row],[Дата визита]])","v":"1900-01-05"},{"$f":"YEAR(Table[[#This Row],[Дата визита]])","v":2020},{"$f":"WEEKNUM(Table[[#This Row],[Дата визита]])","v":22},"12:00:00","Ростов-на-Дону, ул. Вятская, д. 37/1","Белоусов В.","Клиент 216","mail@birdyx.ru","79008889900","Авито","Завершено","да",5]
[43982,{"$f":"DAY('База заказов'!$A218)","v":31},{"$f":"'База заказов'!$A218","v":"2020-05-31"},{"$f":"YEAR('База заказов'!$A218)","v":2020},"Петров В.","Монтаж потолочного плинтуса",null,14700,0.15,{"$f":"SUM(Table[[#This Row],[Наличн]:[Безнал]])-SUM(Table[[#This Row],[Наличн]:[Безнал]])*Table[[#This Row],[Скидка]]","v":12495},43982,{"$f":"DAY(Table[[#This Row],[Дата визита]])","v":31},{"$f":"MONTH(Table[[#This Row],[Дата визита]])","v":"1900-01-05"},{"$f":"YEAR(Table[[#This Row],[Дата визита]])","v":2020},{"$f":"WEEKNUM(Table[[#This Row],[Дата визита]])","v":23},"16:00:00","Ростов-на-Дону, ул. Станиславского, д. 58","Беспалов Г.","Клиент 217","mail@birdyx.ru","79008889900","Сайт","Завершено","да",5]
[43982,{"$f":"DAY('База заказов'!$A219)","v":31},{"$f":"'База заказов'!$A219","v":"2020-05-31"},{"$f":"YEAR('База заказов'!$A219)","v":2020},"Иванов И.","Демонтаж душевого поддона",31200,null,0.15,{"$f":"SUM(Table[[#This Row],[Наличн]:[Безнал]])-SUM(Table[[#This Row],[Наличн]:[Безнал]])*Table[[#This Row],[Скидка]]","v":26520},43982,{"$f":"DAY(Table[[#This Row],[Дата визита]])","v":31},{"$f":"MONTH(Table[[#This Row],[Дата визита]])","v":"1900-01-05"},{"$f":"YEAR(Table[[#This Row],[Дата визита]])","v":2020},{"$f":"WEEKNUM(Table[[#This Row],[Дата визита]])","v":23},"18:00:00","Ростов-на-Дону, пер. Нефтяной, д. 4 А","Минин В.","Клиент 218","mail@birdyx.ru","79008889900","Сайт","Завершено","да",5]
[43984,{"$f":"DAY('База заказов'!$A220)","v":2},{"$f":"'База заказов'!$A220","v":"2020-06-02"},{"$f":"YEAR('База заказов'!$A220)","v":2020},"Гончарова Н.","Демонтаж душевой кабины",null,13800,0.15,{"$f":"SUM(Table[[#This Row],[Наличн]:[Безнал]])-SUM(Table[[#This Row],[Наличн]:[Безнал]])*Table[[#This Row],[Скидка]]","v":11730},43984,{"$f":"DAY(Table[[#This Row],[Дата визита]])","v":2},{"$f":"MONTH(Table[[#This Row],[Дата визита]])","v":"1900-01-06"},{"$f":"YEAR(Table[[#This Row],[Дата визита]])","v":2020},{"$f":"WEEKNUM(Table[[#This Row],[Дата визита]])","v":23},"10:00:00","Ростов-на-Дону, ул. Станиславского, д. 167/25","Субботин С.","Клиент 219","mail@birdyx.ru","79008889900","Авито","Завершено","да",5]
[43985,{"$f":"DAY('База заказов'!$A221)","v":3},{"$f":"'База заказов'!$A221","v":"2020-06-03"},{"$f":"YEAR('База заказов'!$A221)","v":2020},"Мишин М.","Установка порожка",null,21700,null,{"$f":"SUM(Table[[#This Row],[Наличн]:[Безнал]])-SUM(Table[[#This Row],[Наличн]:[Безнал]])*Table[[#This Row],[Скидка]]","v":21700},43985,{"$f":"DAY(Table[[#This Row],[Дата визита]])","v":3},{"$f":"MONTH(Table[[#This Row],[Дата визита]])","v":"1900-01-06"},{"$f":"YEAR(Table[[#This Row],[Дата визита]])","v":2020},{"$f":"WEEKNUM(Table[[#This Row],[Дата визита]])","v":23},"12:00:00","Ростов-на-Дону, проспект Соколова, д. 85","Субботин С.","Клиент 220","mail@birdyx.ru","79008889900","Сайт","Завершено","да",5]
[43986,{"$f":"DAY('База заказов'!$A222)","v":4},{"$f":"'База заказов'!$A222","v":"2020-06-04"},{"$f":"YEAR('База заказов'!$A222)","v":2020},"Иванов И.","Демонтаж входной двери",null,21700,null,{"$f":"SUM(Table[[#This Row],[Наличн]:[Безнал]])-SUM(Table[[#This Row],[Наличн]:[Безнал]])*Table[[#This Row],[Скидка]]","v":21700},43986,{"$f":"DAY(Table[[#This Row],[Дата визита]])","v":4},{"$f":"MONTH(Table[[#This Row],[Дата визита]])","v":"1900-01-06"},{"$f":"YEAR(Table[[#This Row],[Дата визита]])","v":2020},{"$f":"WEEKNUM(Table[[#This Row],[Дата визита]])","v":23},"16:00:00","Ростов-на-Дону, ул. Московская, д. 80","Белоусов В.","Клиент 221","mail@birdyx.ru","79008889900","По совету","Завершено","да",5]
[43987,{"$f":"DAY('База заказов'!$A223)","v":5},{"$f":"'База заказов'!$A223","v":"2020-06-05"},{"$f":"YEAR('База заказов'!$A223)","v":2020},"Петров В.","Укладка керамической плитки, керамогранита на пол с затиркой",null,16100,null,{"$f":"SUM(Table[[#This Row],[Наличн]:[Безнал]])-SUM(Table[[#This Row],[Наличн]:[Безнал]])*Table[[#This Row],[Скидка]]","v":16100},43987,{"$f":"DAY(Table[[#This Row],[Дата визита]])","v":5},{"$f":"MONTH(Table[[#This Row],[Дата визита]])","v":"1900-01-06"},{"$f":"YEAR(Table[[#This Row],[Дата визита]])","v":2020},{"$f":"WEEKNUM(Table[[#This Row],[Дата визита]])","v":23},"18:00:00","Ростов-на-Дону, ул. Текучева, д. 151/2","Белозеров В.","Клиент 222","mail@birdyx.ru","79008889900","Яндекс","Завершено","да",4]
[43988,{"$f":"DAY('База заказов'!$A224)","v":6},{"$f":"'База заказов'!$A224","v":"2020-06-06"},{"$f":"YEAR('База заказов'!$A224)","v":2020},"Гончарова Н.","Укладка массивной доски",null,33400,null,{"$f":"SUM(Table[[#This Row],[Наличн]:[Безнал]])-SUM(Table[[#This Row],[Наличн]:[Безнал]])*Table[[#This Row],[Скидка]]","v":33400},43988,{"$f":"DAY(Table[[#This Row],[Дата визита]])","v":6},{"$f":"MONTH(Table[[#This Row],[Дата визита]])","v":"1900-01-06"},{"$f":"YEAR(Table[[#This Row],[Дата визита]])","v":2020},{"$f":"WEEKNUM(Table[[#This Row],[Дата визита]])","v":23},"10:00:00","Ростов-На-Дону, ул. Тургеневская, д. 73","Беспалов Г.","Клиент 223","mail@birdyx.ru","79008889900","Инстаграм","Завершено","да",4]
[43988,{"$f":"DAY('База заказов'!$A225)","v":6},{"$f":"'База заказов'!$A225","v":"2020-06-06"},{"$f":"YEAR('База заказов'!$A225)","v":2020},"Иванов И.","Нанесение декоративной штукатурки ",null,39300,null,{"$f":"SUM(Table[[#This Row],[Наличн]:[Безнал]])-SUM(Table[[#This Row],[Наличн]:[Безнал]])*Table[[#This Row],[Скидка]]","v":39300},43988,{"$f":"DAY(Table[[#This Row],[Дата визита]])","v":6},{"$f":"MONTH(Table[[#This Row],[Дата визита]])","v":"1900-01-06"},{"$f":"YEAR(Table[[#This Row],[Дата визита]])","v":2020},{"$f":"WEEKNUM(Table[[#This Row],[Дата визита]])","v":23},"12:00:00","Ростов-на-Дону, бульвар Комарова, д. 20/1","Белозеров В.","Клиент 224","mail@birdyx.ru","79008889900","Яндекс","Завершено","да",4]
[43990,{"$f":"DAY('База заказов'!$A226)","v":8},{"$f":"'База заказов'!$A226","v":"2020-06-08"},{"$f":"YEAR('База заказов'!$A226)","v":2020},"Петров В.","Укладка массивной доски",null,38800,null,{"$f":"SUM(Table[[#This Row],[Наличн]:[Безнал]])-SUM(Table[[#This Row],[Наличн]:[Безнал]])*Table[[#This Row],[Скидка]]","v":38800},43990,{"$f":"DAY(Table[[#This Row],[Дата визита]])","v":8},{"$f":"MONTH(Table[[#This Row],[Дата визита]])","v":"1900-01-06"},{"$f":"YEAR(Table[[#This Row],[Дата визита]])","v":2020},{"$f":"WEEKNUM(Table[[#This Row],[Дата визита]])","v":24},"16:00:00","Ростов-на-Дону, ул. Пушкинская, д. 225/41/224","Устинов С.","Клиент 225","mail@birdyx.ru","79008889900","Сайт","Отмена","да",4]
[43991,{"$f":"DAY('База заказов'!$A227)","v":9},{"$f":"'База заказов'!$A227","v":"2020-06-09"},{"$f":"YEAR('База заказов'!$A227)","v":2020},"Иванов И.","Нанесение декоративной штукатурки ",null,10700,null,{"$f":"SUM(Table[[#This Row],[Наличн]:[Безнал]])-SUM(Table[[#This Row],[Наличн]:[Безнал]])*Table[[#This Row],[Скидка]]","v":10700},43994,{"$f":"DAY(Table[[#This Row],[Дата визита]])","v":12},{"$f":"MONTH(Table[[#This Row],[Дата визита]])","v":"1900-01-06"},{"$f":"YEAR(Table[[#This Row],[Дата визита]])","v":2020},{"$f":"WEEKNUM(Table[[#This Row],[Дата визита]])","v":24},"18:00:00","Ростов-На-Дону, ул. Пушкинская, д. 1/36","Минин В.","Клиент 226","mail@birdyx.ru","79008889900","Авито","Завершено","да",4]
[43992,{"$f":"DAY('База заказов'!$A228)","v":10},{"$f":"'База заказов'!$A228","v":"2020-06-10"},{"$f":"YEAR('База заказов'!$A228)","v":2020},"Гончарова Н.","Демонтаж входной двери",null,16200,null,{"$f":"SUM(Table[[#This Row],[Наличн]:[Безнал]])-SUM(Table[[#This Row],[Наличн]:[Безнал]])*Table[[#This Row],[Скидка]]","v":16200},43994,{"$f":"DAY(Table[[#This Row],[Дата визита]])","v":12},{"$f":"MONTH(Table[[#This Row],[Дата визита]])","v":"1900-01-06"},{"$f":"YEAR(Table[[#This Row],[Дата визита]])","v":2020},{"$f":"WEEKNUM(Table[[#This Row],[Дата визита]])","v":24},"10:00:00","Ростов-на-Дону, пер. Газетный, д. 92/85","Субботин С.","Клиент 227","mail@birdyx.ru","79008889900","Авито","Завершено","да",4]
[43993,{"$f":"DAY('База заказов'!$A229)","v":11},{"$f":"'База заказов'!$A229","v":"2020-06-11"},{"$f":"YEAR('База заказов'!$A229)","v":2020},"Мишин М.","Укладка паркетной доски на клей",null,24500,null,{"$f":"SUM(Table[[#This Row],[Наличн]:[Безнал]])-SUM(Table[[#This Row],[Наличн]:[Безнал]])*Table[[#This Row],[Скидка]]","v":24500},43994,{"$f":"DAY(Table[[#This Row],[Дата визита]])","v":12},{"$f":"MONTH(Table[[#This Row],[Дата визита]])","v":"1900-01-06"},{"$f":"YEAR(Table[[#This Row],[Дата визита]])","v":2020},{"$f":"WEEKNUM(Table[[#This Row],[Дата визита]])","v":24},"12:00:00","Ростов-на-Дону, проспект Буденновский, д. 106/2","Субботин С.","Клиент 228","mail@birdyx.ru","79008889900","Сайт","Завершено","да",4]
[43994,{"$f":"DAY('База заказов'!$A230)","v":12},{"$f":"'База заказов'!$A230","v":"2020-06-12"},{"$f":"YEAR('База заказов'!$A230)","v":2020},"Иванов И.","Выкройка и монтаж дополнительных углов",null,15000,null,{"$f":"SUM(Table[[#This Row],[Наличн]:[Безнал]])-SUM(Table[[#This Row],[Наличн]:[Безнал]])*Table[[#This Row],[Скидка]]","v":15000},43994,{"$f":"DAY(Table[[#This Row],[Дата визита]])","v":12},{"$f":"MONTH(Table[[#This Row],[Дата визита]])","v":"1900-01-06"},{"$f":"YEAR(Table[[#This Row],[Дата визита]])","v":2020},{"$f":"WEEKNUM(Table[[#This Row],[Дата визита]])","v":24},"16:00:00","Ростов-на-Дону, ул. Пушкинская, д. 104/32","Белоусов В.","Клиент 229","mail@birdyx.ru","79008889900","Инстаграм","Завершено","да",4]
[43995,{"$f":"DAY('База заказов'!$A231)","v":13},{"$f":"'База заказов'!$A231","v":"2020-06-13"},{"$f":"YEAR('База заказов'!$A231)","v":2020},"Петров В.","Выкройка и монтаж дополнительных углов",null,12200,0.15,{"$f":"SUM(Table[[#This Row],[Наличн]:[Безнал]])-SUM(Table[[#This Row],[Наличн]:[Безнал]])*Table[[#This Row],[Скидка]]","v":10370},43995,{"$f":"DAY(Table[[#This Row],[Дата визита]])","v":13},{"$f":"MONTH(Table[[#This Row],[Дата визита]])","v":"1900-01-06"},{"$f":"YEAR(Table[[#This Row],[Дата визита]])","v":2020},{"$f":"WEEKNUM(Table[[#This Row],[Дата визита]])","v":24},"18:00:00","Ростов-на-Дону, ул. Республиканская, д. 1/8","Белозеров В.","Клиент 230","mail@birdyx.ru","79008889900","Яндекс","Завершено","да",4]
[43996,{"$f":"DAY('База заказов'!$A232)","v":14},{"$f":"'База заказов'!$A232","v":"2020-06-14"},{"$f":"YEAR('База заказов'!$A232)","v":2020},"Гончарова Н.","Укладка паркетной доски на клей",null,11200,null,{"$f":"SUM(Table[[#This Row],[Наличн]:[Безнал]])-SUM(Table[[#This Row],[Наличн]:[Безнал]])*Table[[#This Row],[Скидка]]","v":11200},43996,{"$f":"DAY(Table[[#This Row],[Дата визита]])","v":14},{"$f":"MONTH(Table[[#This Row],[Дата визита]])","v":"1900-01-06"},{"$f":"YEAR(Table[[#This Row],[Дата визита]])","v":2020},{"$f":"WEEKNUM(Table[[#This Row],[Дата визита]])","v":25},"09:00:00","Ростов-на-Дону, ул. Красноармейская, д. 33","Беспалов Г.","Клиент 231","mail@birdyx.ru","79008889900","По совету","Завершено","да",4]
[43997,{"$f":"DAY('База заказов'!$A233)","v":15},{"$f":"'База заказов'!$A233","v":"2020-06-15"},{"$f":"YEAR('База заказов'!$A233)","v":2020},"Гончарова Н.","Нанесение декоративной штукатурки ",null,28900,null,{"$f":"SUM(Table[[#This Row],[Наличн]:[Безнал]])-SUM(Table[[#This Row],[Наличн]:[Безнал]])*Table[[#This Row],[Скидка]]","v":28900},43997,{"$f":"DAY(Table[[#This Row],[Дата визита]])","v":15},{"$f":"MONTH(Table[[#This Row],[Дата визита]])","v":"1900-01-06"},{"$f":"YEAR(Table[[#This Row],[Дата визита]])","v":2020},{"$f":"WEEKNUM(Table[[#This Row],[Дата визита]])","v":25},"11:00:00","Ростов-на-Дону, ул. Максима Горького, д. 11/43","Белозеров В.","Клиент 232","mail@birdyx.ru","79008889900","Авито","Завершено","да",4]
[43997,{"$f":"DAY('База заказов'!$A234)","v":15},{"$f":"'База заказов'!$A234","v":"2020-06-15"},{"$f":"YEAR('База заказов'!$A234)","v":2020},"Мишин М.","Монтаж потолочного плинтуса",12400,null,null,{"$f":"SUM(Table[[#This Row],[Наличн]:[Безнал]])-SUM(Table[[#This Row],[Наличн]:[Безнал]])*Table[[#This Row],[Скидка]]","v":12400},43997,{"$f":"DAY(Table[[#This Row],[Дата визита]])","v":15},{"$f":"MONTH(Table[[#This Row],[Дата визита]])","v":"1900-01-06"},{"$f":"YEAR(Table[[#This Row],[Дата визита]])","v":2020},{"$f":"WEEKNUM(Table[[#This Row],[Дата визита]])","v":25},"15:00:00","Ростов-на-Дону, ул. Алма-Атинская, д. 29/2 А","Устинов С.","Клиент 233","mail@birdyx.ru","79008889900","Сайт","Завершено","да",3]
[43997,{"$f":"DAY('База заказов'!$A235)","v":15},{"$f":"'База заказов'!$A235","v":"2020-06-15"},{"$f":"YEAR('База заказов'!$A235)","v":2020},"Иванов И.","Укладка фанеры в 1 слой",27800,null,null,{"$f":"SUM(Table[[#This Row],[Наличн]:[Безнал]])-SUM(Table[[#This Row],[Наличн]:[Безнал]])*Table[[#This Row],[Скидка]]","v":27800},43997,{"$f":"DAY(Table[[#This Row],[Дата визита]])","v":15},{"$f":"MONTH(Table[[#This Row],[Дата визита]])","v":"1900-01-06"},{"$f":"YEAR(Table[[#This Row],[Дата визита]])","v":2020},{"$f":"WEEKNUM(Table[[#This Row],[Дата визита]])","v":25},"17:00:00","Ростов-на-Дону, ул. Малиновского, д. 68/1","Минин В.","Клиент 234","mail@birdyx.ru","79008889900","Сайт","Завершено","да",4]
[44000,{"$f":"DAY('База заказов'!$A236)","v":18},{"$f":"'База заказов'!$A236","v":"2020-06-18"},{"$f":"YEAR('База заказов'!$A236)","v":2020},"Иванов И.","Укладка линолеума на клей",30700,null,null,{"$f":"SUM(Table[[#This Row],[Наличн]:[Безнал]])-SUM(Table[[#This Row],[Наличн]:[Безнал]])*Table[[#This Row],[Скидка]]","v":30700},44000,{"$f":"DAY(Table[[#This Row],[Дата визита]])","v":18},{"$f":"MONTH(Table[[#This Row],[Дата визита]])","v":"1900-01-06"},{"$f":"YEAR(Table[[#This Row],[Дата визита]])","v":2020},{"$f":"WEEKNUM(Table[[#This Row],[Дата визита]])","v":25},"09:00:00","Ростов-на-Дону, ул. Береговая, д. 5","Белозеров В.","Клиент 235","mail@birdyx.ru","79008889900","Авито","Завершено","да",4]
[44001,{"$f":"DAY('База заказов'!$A237)","v":19},{"$f":"'База заказов'!$A237","v":"2020-06-19"},{"$f":"YEAR('База заказов'!$A237)","v":2020},"Петров В.","Укладка паркетной доски на клей",30600,null,null,{"$f":"SUM(Table[[#This Row],[Наличн]:[Безнал]])-SUM(Table[[#This Row],[Наличн]:[Безнал]])*Table[[#This Row],[Скидка]]","v":30600},44001,{"$f":"DAY(Table[[#This Row],[Дата визита]])","v":19},{"$f":"MONTH(Table[[#This Row],[Дата визита]])","v":"1900-01-06"},{"$f":"YEAR(Table[[#This Row],[Дата визита]])","v":2020},{"$f":"WEEKNUM(Table[[#This Row],[Дата визита]])","v":25},"11:00:00","Ростов-на-Дону, пл. Гагарина, д. 1","Беспалов Г.","Клиент 236","mail@birdyx.ru","79008889900","Авито","Завершено","да",5]
[44002,{"$f":"DAY('База заказов'!$A238)","v":20},{"$f":"'База заказов'!$A238","v":"2020-06-20"},{"$f":"YEAR('База заказов'!$A238)","v":2020},"Иванов И.","Демонтаж входной двери",36100,null,null,{"$f":"SUM(Table[[#This Row],[Наличн]:[Безнал]])-SUM(Table[[#This Row],[Наличн]:[Безнал]])*Table[[#This Row],[Скидка]]","v":36100},44002,{"$f":"DAY(Table[[#This Row],[Дата визита]])","v":20},{"$f":"MONTH(Table[[#This Row],[Дата визита]])","v":"1900-01-06"},{"$f":"YEAR(Table[[#This Row],[Дата визита]])","v":2020},{"$f":"WEEKNUM(Table[[#This Row],[Дата визита]])","v":25},"15:00:00","Ростов-на-Дону, ул. Механизаторов, д. 6А","Шарапов В.","Клиент 237","mail@birdyx.ru","79008889900","Авито","Завершено","да",3]
[44003,{"$f":"DAY('База заказов'!$A239)","v":21},{"$f":"'База заказов'!$A239","v":"2020-06-21"},{"$f":"YEAR('База заказов'!$A239)","v":2020},"Гончарова Н.","Монтаж потолочного плинтуса",16200,null,0.15,{"$f":"SUM(Table[[#This Row],[Наличн]:[Безнал]])-SUM(Table[[#This Row],[Наличн]:[Безнал]])*Table[[#This Row],[Скидка]]","v":13770},44003,{"$f":"DAY(Table[[#This Row],[Дата визита]])","v":21},{"$f":"MONTH(Table[[#This Row],[Дата визита]])","v":"1900-01-06"},{"$f":"YEAR(Table[[#This Row],[Дата визита]])","v":2020},{"$f":"WEEKNUM(Table[[#This Row],[Дата визита]])","v":26},"17:00:00","Ростов-На-Дону, проспект Буденновский, д. 3/3","Белоусов В.","Клиент 238","mail@birdyx.ru","79008889900","Сайт","Завершено","да",2]
[44004,{"$f":"DAY('База заказов'!$A240)","v":22},{"$f":"'База заказов'!$A240","v":"2020-06-22"},{"$f":"YEAR('База заказов'!$A240)","v":2020},"Мишин М.","Укладка фанеры в 1 слой",37800,null,0.15,{"$f":"SUM(Table[[#This Row],[Наличн]:[Безнал]])-SUM(Table[[#This Row],[Наличн]:[Безнал]])*Table[[#This Row],[Скидка]]","v":32130},44004,{"$f":"DAY(Table[[#This Row],[Дата визита]])","v":22},{"$f":"MONTH(Table[[#This Row],[Дата визита]])","v":"1900-01-06"},{"$f":"YEAR(Table[[#This Row],[Дата визита]])","v":2020},{"$f":"WEEKNUM(Table[[#This Row],[Дата визита]])","v":26},"09:00:00","Ростов-на-Дону, ул. Обороны, д. 40/17","Шарапов В.","Клиент 239","mail@birdyx.ru","79008889900","Сайт","Завершено","да",4]
[44005,{"$f":"DAY('База заказов'!$A241)","v":23},{"$f":"'База заказов'!$A241","v":"2020-06-23"},{"$f":"YEAR('База заказов'!$A241)","v":2020},"Иванов И.","Укладка кварцвиниловой плитки на подложку",null,12500,0.15,{"$f":"SUM(Table[[#This Row],[Наличн]:[Безнал]])-SUM(Table[[#This Row],[Наличн]:[Безнал]])*Table[[#This Row],[Скидка]]","v":10625},44005,{"$f":"DAY(Table[[#This Row],[Дата визита]])","v":23},{"$f":"MONTH(Table[[#This Row],[Дата визита]])","v":"1900-01-06"},{"$f":"YEAR(Table[[#This Row],[Дата визита]])","v":2020},{"$f":"WEEKNUM(Table[[#This Row],[Дата визита]])","v":26},"11:00:00","Ростов-на-Дону, ул. Судостроительная, д. 55","Белоусов В.","Клиент 240","mail@birdyx.ru","79008889900","Авито","Завершено","да",5]
[44006,{"$f":"DAY('База заказов'!$A242)","v":24},{"$f":"'База заказов'!$A242","v":"2020-06-24"},{"$f":"YEAR('База заказов'!$A242)","v":2020},"Петров В.","Демонтаж раковины",null,17500,0.15,{"$f":"SUM(Table[[#This Row],[Наличн]:[Безнал]])-SUM(Table[[#This Row],[Наличн]:[Безнал]])*Table[[#This Row],[Скидка]]","v":14875},44006,{"$f":"DAY(Table[[#This Row],[Дата визита]])","v":24},{"$f":"MONTH(Table[[#This Row],[Дата визита]])","v":"1900-01-06"},{"$f":"YEAR(Table[[#This Row],[Дата визита]])","v":2020},{"$f":"WEEKNUM(Table[[#This Row],[Дата визита]])","v":26},"15:00:00","Ростов-На-Дону, пер. Семашко, д. 46/1","Беспалов Г.","Клиент 241","mail@birdyx.ru","79008889900","Сайт","Завершено","да",5]
[44007,{"$f":"DAY('База заказов'!$A243)","v":25},{"$f":"'База заказов'!$A243","v":"2020-06-25"},{"$f":"YEAR('База заказов'!$A243)","v":2020},"Гончарова Н.","Демонтаж входной двери",null,15500,null,{"$f":"SUM(Table[[#This Row],[Наличн]:[Безнал]])-SUM(Table[[#This Row],[Наличн]:[Безнал]])*Table[[#This Row],[Скидка]]","v":15500},44009,{"$f":"DAY(Table[[#This Row],[Дата визита]])","v":27},{"$f":"MONTH(Table[[#This Row],[Дата визита]])","v":"1900-01-06"},{"$f":"YEAR(Table[[#This Row],[Дата визита]])","v":2020},{"$f":"WEEKNUM(Table[[#This Row],[Дата визита]])","v":26},"17:00:00","Ростов-на-Дону, проспект Соколова, д. 11/Б","Минин В.","Клиент 242","mail@birdyx.ru","79008889900","По совету","Завершено","да",5]
[44008,{"$f":"DAY('База заказов'!$A244)","v":26},{"$f":"'База заказов'!$A244","v":"2020-06-26"},{"$f":"YEAR('База заказов'!$A244)","v":2020},"Гончарова Н.","Укладка кварцвиниловой плитки на клей",null,26700,null,{"$f":"SUM(Table[[#This Row],[Наличн]:[Безнал]])-SUM(Table[[#This Row],[Наличн]:[Безнал]])*Table[[#This Row],[Скидка]]","v":26700},44009,{"$f":"DAY(Table[[#This Row],[Дата визита]])","v":27},{"$f":"MONTH(Table[[#This Row],[Дата визита]])","v":"1900-01-06"},{"$f":"YEAR(Table[[#This Row],[Дата визита]])","v":2020},{"$f":"WEEKNUM(Table[[#This Row],[Дата визита]])","v":26},"09:00:00","Ростов-на-Дону, ул. Ларина, д. 41/19","Субботин С.","Клиент 243","mail@birdyx.ru","79008889900","Яндекс","Завершено","да",5]
[44009,{"$f":"DAY('База заказов'!$A245)","v":27},{"$f":"'База заказов'!$A245","v":"2020-06-27"},{"$f":"YEAR('База заказов'!$A245)","v":2020},"Иванов И.","Укладка паркетной доски на клей",null,20400,null,{"$f":"SUM(Table[[#This Row],[Наличн]:[Безнал]])-SUM(Table[[#This Row],[Наличн]:[Безнал]])*Table[[#This Row],[Скидка]]","v":20400},44009,{"$f":"DAY(Table[[#This Row],[Дата визита]])","v":27},{"$f":"MONTH(Table[[#This Row],[Дата визита]])","v":"1900-01-06"},{"$f":"YEAR(Table[[#This Row],[Дата визита]])","v":2020},{"$f":"WEEKNUM(Table[[#This Row],[Дата визита]])","v":26},"11:00:00","Ростов-на-Дону, проспект Коммунистический, д. 20/4","Субботин С.","Клиент 244","mail@birdyx.ru","79008889900","Инстаграм","Завершено","да",5]
[44010,{"$f":"DAY('База заказов'!$A246)","v":28},{"$f":"'База заказов'!$A246","v":"2020-06-28"},{"$f":"YEAR('База заказов'!$A246)","v":2020},"Петров В.","Укладка кварцвиниловой плитки на подложку",null,21200,null,{"$f":"SUM(Table[[#This Row],[Наличн]:[Безнал]])-SUM(Table[[#This Row],[Наличн]:[Безнал]])*Table[[#This Row],[Скидка]]","v":21200},44010,{"$f":"DAY(Table[[#This Row],[Дата визита]])","v":28},{"$f":"MONTH(Table[[#This Row],[Дата визита]])","v":"1900-01-06"},{"$f":"YEAR(Table[[#This Row],[Дата визита]])","v":2020},{"$f":"WEEKNUM(Table[[#This Row],[Дата визита]])","v":27},"15:00:00","Ростов-на-Дону, ул. Цезаря Куникова, д. 32/А","Белоусов В.","Клиент 245","mail@birdyx.ru","79008889900","Яндекс","Завершено","да",5]
[44011,{"$f":"DAY('База заказов'!$A247)","v":29},{"$f":"'База заказов'!$A247","v":"2020-06-29"},{"$f":"YEAR('База заказов'!$A247)","v":2020},"Иванов И.","Демонтаж входной двери",null,20600,null,{"$f":"SUM(Table[[#This Row],[Наличн]:[Безнал]])-SUM(Table[[#This Row],[Наличн]:[Безнал]])*Table[[#This Row],[Скидка]]","v":20600},44011,{"$f":"DAY(Table[[#This Row],[Дата визита]])","v":29},{"$f":"MONTH(Table[[#This Row],[Дата визита]])","v":"1900-01-06"},{"$f":"YEAR(Table[[#This Row],[Дата визита]])","v":2020},{"$f":"WEEKNUM(Table[[#This Row],[Дата визита]])","v":27},"17:00:00","Ростов-на-Дону, ул. Красноармейская, д. 21","Белозеров В.","Клиент 246","mail@birdyx.ru","79008889900","Сайт","Завершено","да",4]
[44011,{"$f":"DAY('База заказов'!$A248)","v":29},{"$f":"'База заказов'!$A248","v":"2020-06-29"},{"$f":"YEAR('База заказов'!$A248)","v":2020},"Гончарова Н.","Укладка массивной доски",null,39400,null,{"$f":"SUM(Table[[#This Row],[Наличн]:[Безнал]])-SUM(Table[[#This Row],[Наличн]:[Безнал]])*Table[[#This Row],[Скидка]]","v":39400},44011,{"$f":"DAY(Table[[#This Row],[Дата визита]])","v":29},{"$f":"MONTH(Table[[#This Row],[Дата визита]])","v":"1900-01-06"},{"$f":"YEAR(Table[[#This Row],[Дата визита]])","v":2020},{"$f":"WEEKNUM(Table[[#This Row],[Дата визита]])","v":27},"10:00:00","Ростов-на-Дону, проспект 40-летия Победы, д. 95/3","Беспалов Г.","Клиент 247","mail@birdyx.ru","79008889900","Авито","Завершено","да",4]
[44013,{"$f":"DAY('База заказов'!$A249)","v":1},{"$f":"'База заказов'!$A249","v":"2020-07-01"},{"$f":"YEAR('База заказов'!$A249)","v":2020},"Мишин М.","Монтаж потолочного плинтуса",null,17600,null,{"$f":"SUM(Table[[#This Row],[Наличн]:[Безнал]])-SUM(Table[[#This Row],[Наличн]:[Безнал]])*Table[[#This Row],[Скидка]]","v":17600},44013,{"$f":"DAY(Table[[#This Row],[Дата визита]])","v":1},{"$f":"MONTH(Table[[#This Row],[Дата визита]])","v":"1900-01-07"},{"$f":"YEAR(Table[[#This Row],[Дата визита]])","v":2020},{"$f":"WEEKNUM(Table[[#This Row],[Дата визита]])","v":27},"12:00:00","Ростов-на-Дону, ул. Станиславского, д. 58","Белозеров В.","Клиент 248","mail@birdyx.ru","79008889900","Сайт","Завершено","да",4]
[44014,{"$f":"DAY('База заказов'!$A250)","v":2},{"$f":"'База заказов'!$A250","v":"2020-07-02"},{"$f":"YEAR('База заказов'!$A250)","v":2020},"Иванов И.","Укладка массивной доски",31700,null,null,{"$f":"SUM(Table[[#This Row],[Наличн]:[Безнал]])-SUM(Table[[#This Row],[Наличн]:[Безнал]])*Table[[#This Row],[Скидка]]","v":31700},44016,{"$f":"DAY(Table[[#This Row],[Дата визита]])","v":4},{"$f":"MONTH(Table[[#This Row],[Дата визита]])","v":"1900-01-07"},{"$f":"YEAR(Table[[#This Row],[Дата визита]])","v":2020},{"$f":"WEEKNUM(Table[[#This Row],[Дата визита]])","v":27},"16:00:00","Ростов-на-Дону, проспект Буденновский, 86/197","Устинов С.","Клиент 249","mail@birdyx.ru","79008889900","Сайт","Завершено","да",4]
[44015,{"$f":"DAY('База заказов'!$A251)","v":3},{"$f":"'База заказов'!$A251","v":"2020-07-03"},{"$f":"YEAR('База заказов'!$A251)","v":2020},"Петров В.","Монтаж потолочного плинтуса",27100,null,null,{"$f":"SUM(Table[[#This Row],[Наличн]:[Безнал]])-SUM(Table[[#This Row],[Наличн]:[Безнал]])*Table[[#This Row],[Скидка]]","v":27100},44016,{"$f":"DAY(Table[[#This Row],[Дата визита]])","v":4},{"$f":"MONTH(Table[[#This Row],[Дата визита]])","v":"1900-01-07"},{"$f":"YEAR(Table[[#This Row],[Дата визита]])","v":2020},{"$f":"WEEKNUM(Table[[#This Row],[Дата визита]])","v":27},"18:00:00","Ростов-на-Дону, ул. Липовая, 5","Минин В.","Клиент 250","mail@birdyx.ru","79008889900","Сайт","Завершено","да",4]
[44016,{"$f":"DAY('База заказов'!$A252)","v":4},{"$f":"'База заказов'!$A252","v":"2020-07-04"},{"$f":"YEAR('База заказов'!$A252)","v":2020},"Гончарова Н.","Выкройка и монтаж дополнительных углов",10300,null,null,{"$f":"SUM(Table[[#This Row],[Наличн]:[Безнал]])-SUM(Table[[#This Row],[Наличн]:[Безнал]])*Table[[#This Row],[Скидка]]","v":10300},44016,{"$f":"DAY(Table[[#This Row],[Дата визита]])","v":4},{"$f":"MONTH(Table[[#This Row],[Дата визита]])","v":"1900-01-07"},{"$f":"YEAR(Table[[#This Row],[Дата визита]])","v":2020},{"$f":"WEEKNUM(Table[[#This Row],[Дата визита]])","v":27},"10:00:00","Ростов-на-Дону, ул. Станиславского, д. 58","Субботин С.","Клиент 251","mail@birdyx.ru","79008889900","Сайт","Завершено","да",4]
[44017,{"$f":"DAY('База заказов'!$A253)","v":5},{"$f":"'База заказов'!$A253","v":"2020-07-05"},{"$f":"YEAR('База заказов'!$A253)","v":2020},"Иванов И.","Демонтаж входной двери",15300,null,null,{"$f":"SUM(Table[[#This Row],[Наличн]:[Безнал]])-SUM(Table[[#This Row],[Наличн]:[Безнал]])*Table[[#This Row],[Скидка]]","v":15300},44017,{"$f":"DAY(Table[[#This Row],[Дата визита]])","v":5},{"$f":"MONTH(Table[[#This Row],[Дата визита]])","v":"1900-01-07"},{"$f":"YEAR(Table[[#This Row],[Дата визита]])","v":2020},{"$f":"WEEKNUM(Table[[#This Row],[Дата визита]])","v":28},"12:00:00","Ростов-на-Дону, ул. Беляева, д. 22А","Субботин С.","Клиент 252","mail@birdyx.ru","79008889900","Сайт","Завершено","да",4]
[44018,{"$f":"DAY('База заказов'!$A254)","v":6},{"$f":"'База заказов'!$A254","v":"2020-07-06"},{"$f":"YEAR('База заказов'!$A254)","v":2020},"Петров В.","Демонтаж входной двери",37500,null,null,{"$f":"SUM(Table[[#This Row],[Наличн]:[Безнал]])-SUM(Table[[#This Row],[Наличн]:[Безнал]])*Table[[#This Row],[Скидка]]","v":37500},44018,{"$f":"DAY(Table[[#This Row],[Дата визита]])","v":6},{"$f":"MONTH(Table[[#This Row],[Дата визита]])","v":"1900-01-07"},{"$f":"YEAR(Table[[#This Row],[Дата визита]])","v":2020},{"$f":"WEEKNUM(Table[[#This Row],[Дата визита]])","v":28},"16:00:00","Ростов-на-Дону, ул. 22 Линия, д. 34","Белоусов В.","Клиент 253","mail@birdyx.ru","79008889900","Сайт","Завершено","да",4]
[44019,{"$f":"DAY('База заказов'!$A255)","v":7},{"$f":"'База заказов'!$A255","v":"2020-07-07"},{"$f":"YEAR('База заказов'!$A255)","v":2020},"Иванов И.","Укладка паркетной доски на клей",null,37400,0.15,{"$f":"SUM(Table[[#This Row],[Наличн]:[Безнал]])-SUM(Table[[#This Row],[Наличн]:[Безнал]])*Table[[#This Row],[Скидка]]","v":31790},44019,{"$f":"DAY(Table[[#This Row],[Дата визита]])","v":7},{"$f":"MONTH(Table[[#This Row],[Дата визита]])","v":"1900-01-07"},{"$f":"YEAR(Table[[#This Row],[Дата визита]])","v":2020},{"$f":"WEEKNUM(Table[[#This Row],[Дата визита]])","v":28},"18:00:00","Ростов-На-Дону, проспект Шолохова, д. 288","Белозеров В.","Клиент 254","mail@birdyx.ru","79008889900","Сайт","Завершено","да",4]
[44020,{"$f":"DAY('База заказов'!$A256)","v":8},{"$f":"'База заказов'!$A256","v":"2020-07-08"},{"$f":"YEAR('База заказов'!$A256)","v":2020},"Гончарова Н.","Укладка массивной доски",null,29700,null,{"$f":"SUM(Table[[#This Row],[Наличн]:[Безнал]])-SUM(Table[[#This Row],[Наличн]:[Безнал]])*Table[[#This Row],[Скидка]]","v":29700},44020,{"$f":"DAY(Table[[#This Row],[Дата визита]])","v":8},{"$f":"MONTH(Table[[#This Row],[Дата визита]])","v":"1900-01-07"},{"$f":"YEAR(Table[[#This Row],[Дата визита]])","v":2020},{"$f":"WEEKNUM(Table[[#This Row],[Дата визита]])","v":28},"10:00:00","Ростов-на-Дону, проспект Кировский, д. 57","Беспалов Г.","Клиент 255","mail@birdyx.ru","79008889900","Сайт","Завершено","да",4]
[44021,{"$f":"DAY('База заказов'!$A257)","v":9},{"$f":"'База заказов'!$A257","v":"2020-07-09"},{"$f":"YEAR('База заказов'!$A257)","v":2020},"Мишин М.","Монтаж потолочного плинтуса",null,29100,null,{"$f":"SUM(Table[[#This Row],[Наличн]:[Безнал]])-SUM(Table[[#This Row],[Наличн]:[Безнал]])*Table[[#This Row],[Скидка]]","v":29100},44021,{"$f":"DAY(Table[[#This Row],[Дата визита]])","v":9},{"$f":"MONTH(Table[[#This Row],[Дата визита]])","v":"1900-01-07"},{"$f":"YEAR(Table[[#This Row],[Дата визита]])","v":2020},{"$f":"WEEKNUM(Table[[#This Row],[Дата визита]])","v":28},"12:00:00","Ростов-на-Дону, Стартовая 20","Белозеров В.","Клиент 256","mail@birdyx.ru","79008889900","Сайт","Завершено","да",4]
[44022,{"$f":"DAY('База заказов'!$A258)","v":10},{"$f":"'База заказов'!$A258","v":"2020-07-10"},{"$f":"YEAR('База заказов'!$A258)","v":2020},"Иванов И.","Демонтаж душевого поддона",null,24400,null,{"$f":"SUM(Table[[#This Row],[Наличн]:[Безнал]])-SUM(Table[[#This Row],[Наличн]:[Безнал]])*Table[[#This Row],[Скидка]]","v":24400},44022,{"$f":"DAY(Table[[#This Row],[Дата визита]])","v":10},{"$f":"MONTH(Table[[#This Row],[Дата визита]])","v":"1900-01-07"},{"$f":"YEAR(Table[[#This Row],[Дата визита]])","v":2020},{"$f":"WEEKNUM(Table[[#This Row],[Дата визита]])","v":28},"16:00:00","Ростов-на-Дону, Стартовая 22","Устинов С.","Клиент 257","mail@birdyx.ru","79008889900","Сайт","Завершено","да",4]
[44023,{"$f":"DAY('База заказов'!$A259)","v":11},{"$f":"'База заказов'!$A259","v":"2020-07-11"},{"$f":"YEAR('База заказов'!$A259)","v":2020},"Петров В.","Демонтаж входной двери",15200,null,null,{"$f":"SUM(Table[[#This Row],[Наличн]:[Безнал]])-SUM(Table[[#This Row],[Наличн]:[Безнал]])*Table[[#This Row],[Скидка]]","v":15200},44023,{"$f":"DAY(Table[[#This Row],[Дата визита]])","v":11},{"$f":"MONTH(Table[[#This Row],[Дата визита]])","v":"1900-01-07"},{"$f":"YEAR(Table[[#This Row],[Дата визита]])","v":2020},{"$f":"WEEKNUM(Table[[#This Row],[Дата визита]])","v":28},"18:00:00","Ростов-на-Дону, Жданова 15","Белозеров В.","Клиент 258","mail@birdyx.ru","79008889900","Авито","Завершено","да",4]
[44024,{"$f":"DAY('База заказов'!$A260)","v":12},{"$f":"'База заказов'!$A260","v":"2020-07-12"},{"$f":"YEAR('База заказов'!$A260)","v":2020},"Гончарова Н.","Установка порожка",31800,null,null,{"$f":"SUM(Table[[#This Row],[Наличн]:[Безнал]])-SUM(Table[[#This Row],[Наличн]:[Безнал]])*Table[[#This Row],[Скидка]]","v":31800},44024,{"$f":"DAY(Table[[#This Row],[Дата визита]])","v":12},{"$f":"MONTH(Table[[#This Row],[Дата визита]])","v":"1900-01-07"},{"$f":"YEAR(Table[[#This Row],[Дата визита]])","v":2020},{"$f":"WEEKNUM(Table[[#This Row],[Дата визита]])","v":29},"10:00:00","Ростов-на-Дону, ул. Пацаева, д. 2","Беспалов Г.","Клиент 259","mail@birdyx.ru","79008889900","Сайт","Завершено","да",4]
[44025,{"$f":"DAY('База заказов'!$A261)","v":13},{"$f":"'База заказов'!$A261","v":"2020-07-13"},{"$f":"YEAR('База заказов'!$A261)","v":2020},"Гончарова Н.","Демонтаж оконного блока",32900,null,null,{"$f":"SUM(Table[[#This Row],[Наличн]:[Безнал]])-SUM(Table[[#This Row],[Наличн]:[Безнал]])*Table[[#This Row],[Скидка]]","v":32900},44025,{"$f":"DAY(Table[[#This Row],[Дата визита]])","v":13},{"$f":"MONTH(Table[[#This Row],[Дата визита]])","v":"1900-01-07"},{"$f":"YEAR(Table[[#This Row],[Дата визита]])","v":2020},{"$f":"WEEKNUM(Table[[#This Row],[Дата визита]])","v":29},"12:00:00","Ростов-на-Дону, ул. 14 Линия, д. 33","Шарапов В.","Клиент 260","mail@birdyx.ru","79008889900","Сайт","Завершено","да",3]
[44026,{"$f":"DAY('База заказов'!$A262)","v":14},{"$f":"'База заказов'!$A262","v":"2020-07-14"},{"$f":"YEAR('База заказов'!$A262)","v":2020},"Мишин М.","Укладка керамической плитки, керамогранита на пол с затиркой",11900,null,0.15,{"$f":"SUM(Table[[#This Row],[Наличн]:[Безнал]])-SUM(Table[[#This Row],[Наличн]:[Безнал]])*Table[[#This Row],[Скидка]]","v":10115},44026,{"$f":"DAY(Table[[#This Row],[Дата визита]])","v":14},{"$f":"MONTH(Table[[#This Row],[Дата визита]])","v":"1900-01-07"},{"$f":"YEAR(Table[[#This Row],[Дата визита]])","v":2020},{"$f":"WEEKNUM(Table[[#This Row],[Дата визита]])","v":29},"16:00:00","Ростов-на-Дону, пер. Беломорский, д. 94","Белоусов В.","Клиент 261","mail@birdyx.ru","79008889900","Авито","Завершено","да",4]
[44027,{"$f":"DAY('База заказов'!$A263)","v":15},{"$f":"'База заказов'!$A263","v":"2020-07-15"},{"$f":"YEAR('База заказов'!$A263)","v":2020},"Иванов И.","Укладка массивной доски",24800,null,null,{"$f":"SUM(Table[[#This Row],[Наличн]:[Безнал]])-SUM(Table[[#This Row],[Наличн]:[Безнал]])*Table[[#This Row],[Скидка]]","v":24800},44027,{"$f":"DAY(Table[[#This Row],[Дата визита]])","v":15},{"$f":"MONTH(Table[[#This Row],[Дата визита]])","v":"1900-01-07"},{"$f":"YEAR(Table[[#This Row],[Дата визита]])","v":2020},{"$f":"WEEKNUM(Table[[#This Row],[Дата визита]])","v":29},"18:00:00","Ростов-На-Дону, ул. Извилистая, д. 13/2","Шарапов В.","Клиент 262","mail@birdyx.ru","79008889900","Сайт","Завершено","да",2]
[44028,{"$f":"DAY('База заказов'!$A264)","v":16},{"$f":"'База заказов'!$A264","v":"2020-07-16"},{"$f":"YEAR('База заказов'!$A264)","v":2020},"Петров В.","Демонтаж входной двери",32100,null,null,{"$f":"SUM(Table[[#This Row],[Наличн]:[Безнал]])-SUM(Table[[#This Row],[Наличн]:[Безнал]])*Table[[#This Row],[Скидка]]","v":32100},44028,{"$f":"DAY(Table[[#This Row],[Дата визита]])","v":16},{"$f":"MONTH(Table[[#This Row],[Дата визита]])","v":"1900-01-07"},{"$f":"YEAR(Table[[#This Row],[Дата визита]])","v":2020},{"$f":"WEEKNUM(Table[[#This Row],[Дата визита]])","v":29},"10:00:00","Ростов-на-Дону, пер. Братский, д. 36","Белоусов В.","Клиент 263","mail@birdyx.ru","79008889900","По совету","Завершено","да",5]
[44029,{"$f":"DAY('База заказов'!$A265)","v":17},{"$f":"'База заказов'!$A265","v":"2020-07-17"},{"$f":"YEAR('База заказов'!$A265)","v":2020},"Иванов И.","Укладка массивной доски",30100,null,null,{"$f":"SUM(Table[[#This Row],[Наличн]:[Безнал]])-SUM(Table[[#This Row],[Наличн]:[Безнал]])*Table[[#This Row],[Скидка]]","v":30100},44031,{"$f":"DAY(Table[[#This Row],[Дата визита]])","v":19},{"$f":"MONTH(Table[[#This Row],[Дата визита]])","v":"1900-01-07"},{"$f":"YEAR(Table[[#This Row],[Дата визита]])","v":2020},{"$f":"WEEKNUM(Table[[#This Row],[Дата визита]])","v":30},"12:00:00","Ростов-На-Дону, ул. Андрея Сладкова, д. 87","Беспалов Г.","Клиент 264","mail@birdyx.ru","79008889900","Яндекс","Завершено","да",3]
[44030,{"$f":"DAY('База заказов'!$A266)","v":18},{"$f":"'База заказов'!$A266","v":"2020-07-18"},{"$f":"YEAR('База заказов'!$A266)","v":2020},"Гончарова Н.","Нанесение декоративной штукатурки ",15600,null,null,{"$f":"SUM(Table[[#This Row],[Наличн]:[Безнал]])-SUM(Table[[#This Row],[Наличн]:[Безнал]])*Table[[#This Row],[Скидка]]","v":15600},44031,{"$f":"DAY(Table[[#This Row],[Дата визита]])","v":19},{"$f":"MONTH(Table[[#This Row],[Дата визита]])","v":"1900-01-07"},{"$f":"YEAR(Table[[#This Row],[Дата визита]])","v":2020},{"$f":"WEEKNUM(Table[[#This Row],[Дата визита]])","v":30},"16:00:00","Ростов-на-Дону, ул. 339-й Стрелковой Дивизии, д. 33","Минин В.","Клиент 265","mail@birdyx.ru","79008889900","Инстаграм","Завершено","да",2]
[44031,{"$f":"DAY('База заказов'!$A267)","v":19},{"$f":"'База заказов'!$A267","v":"2020-07-19"},{"$f":"YEAR('База заказов'!$A267)","v":2020},"Мишин М.","Поклейка обоев ",16900,null,null,{"$f":"SUM(Table[[#This Row],[Наличн]:[Безнал]])-SUM(Table[[#This Row],[Наличн]:[Безнал]])*Table[[#This Row],[Скидка]]","v":16900},44031,{"$f":"DAY(Table[[#This Row],[Дата визита]])","v":19},{"$f":"MONTH(Table[[#This Row],[Дата визита]])","v":"1900-01-07"},{"$f":"YEAR(Table[[#This Row],[Дата визита]])","v":2020},{"$f":"WEEKNUM(Table[[#This Row],[Дата визита]])","v":30},"18:00:00","Ростов-на-Дону, Ленина 1","Субботин С.","Клиент 266","mail@birdyx.ru","79008889900","Яндекс","Завершено","да",4]
[44032,{"$f":"DAY('База заказов'!$A268)","v":20},{"$f":"'База заказов'!$A268","v":"2020-07-20"},{"$f":"YEAR('База заказов'!$A268)","v":2020},"Иванов И.","Демонтаж входной двери",32400,null,null,{"$f":"SUM(Table[[#This Row],[Наличн]:[Безнал]])-SUM(Table[[#This Row],[Наличн]:[Безнал]])*Table[[#This Row],[Скидка]]","v":32400},44032,{"$f":"DAY(Table[[#This Row],[Дата визита]])","v":20},{"$f":"MONTH(Table[[#This Row],[Дата визита]])","v":"1900-01-07"},{"$f":"YEAR(Table[[#This Row],[Дата визита]])","v":2020},{"$f":"WEEKNUM(Table[[#This Row],[Дата визита]])","v":30},"10:00:00","Ростов-на-Дону, Михаила Нагибина 32","Субботин С.","Клиент 267","mail@birdyx.ru","79008889900","Сайт","Завершено","да",5]
[44033,{"$f":"DAY('База заказов'!$A269)","v":21},{"$f":"'База заказов'!$A269","v":"2020-07-21"},{"$f":"YEAR('База заказов'!$A269)","v":2020},"Петров В.","Выкройка и монтаж дополнительных углов",31200,null,null,{"$f":"SUM(Table[[#This Row],[Наличн]:[Безнал]])-SUM(Table[[#This Row],[Наличн]:[Безнал]])*Table[[#This Row],[Скидка]]","v":31200},44033,{"$f":"DAY(Table[[#This Row],[Дата визита]])","v":21},{"$f":"MONTH(Table[[#This Row],[Дата визита]])","v":"1900-01-07"},{"$f":"YEAR(Table[[#This Row],[Дата визита]])","v":2020},{"$f":"WEEKNUM(Table[[#This Row],[Дата визита]])","v":30},"12:00:00","Ростов-на-Дону, Михаила Нагибина 32","Белоусов В.","Клиент 268","mail@birdyx.ru","79008889900","Авито","Завершено","да",5]
[44034,{"$f":"DAY('База заказов'!$A270)","v":22},{"$f":"'База заказов'!$A270","v":"2020-07-22"},{"$f":"YEAR('База заказов'!$A270)","v":2020},"Гончарова Н.","Выкройка и монтаж дополнительных углов",32700,null,null,{"$f":"SUM(Table[[#This Row],[Наличн]:[Безнал]])-SUM(Table[[#This Row],[Наличн]:[Безнал]])*Table[[#This Row],[Скидка]]","v":32700},44034,{"$f":"DAY(Table[[#This Row],[Дата визита]])","v":22},{"$f":"MONTH(Table[[#This Row],[Дата визита]])","v":"1900-01-07"},{"$f":"YEAR(Table[[#This Row],[Дата визита]])","v":2020},{"$f":"WEEKNUM(Table[[#This Row],[Дата визита]])","v":30},"16:00:00","Ростов-на-Дону, ул. Таганрогская, д. 149/1 К 35","Белозеров В.","Клиент 269","mail@birdyx.ru","79008889900","Сайт","Завершено","да",5]
[44035,{"$f":"DAY('База заказов'!$A271)","v":23},{"$f":"'База заказов'!$A271","v":"2020-07-23"},{"$f":"YEAR('База заказов'!$A271)","v":2020},"Гончарова Н.","Укладка паркетной доски на клей",19400,null,null,{"$f":"SUM(Table[[#This Row],[Наличн]:[Безнал]])-SUM(Table[[#This Row],[Наличн]:[Безнал]])*Table[[#This Row],[Скидка]]","v":19400},44035,{"$f":"DAY(Table[[#This Row],[Дата визита]])","v":23},{"$f":"MONTH(Table[[#This Row],[Дата визита]])","v":"1900-01-07"},{"$f":"YEAR(Table[[#This Row],[Дата визита]])","v":2020},{"$f":"WEEKNUM(Table[[#This Row],[Дата визита]])","v":30},"18:00:00","Ростов-На-Дону, ул. Большая Садовая, д. 115","Беспалов Г.","Клиент 270","mail@birdyx.ru","79008889900","Авито","Завершено","да",5]
[44036,{"$f":"DAY('База заказов'!$A272)","v":24},{"$f":"'База заказов'!$A272","v":"2020-07-24"},{"$f":"YEAR('База заказов'!$A272)","v":2020},"Мишин М.","Нанесение декоративной штукатурки ",34100,null,null,{"$f":"SUM(Table[[#This Row],[Наличн]:[Безнал]])-SUM(Table[[#This Row],[Наличн]:[Безнал]])*Table[[#This Row],[Скидка]]","v":34100},44036,{"$f":"DAY(Table[[#This Row],[Дата визита]])","v":24},{"$f":"MONTH(Table[[#This Row],[Дата визита]])","v":"1900-01-07"},{"$f":"YEAR(Table[[#This Row],[Дата визита]])","v":2020},{"$f":"WEEKNUM(Table[[#This Row],[Дата визита]])","v":30},"10:00:00","Ростов-на-Дону, ул. Большая Садовая, д. 69","Белозеров В.","Клиент 271","mail@birdyx.ru","79008889900","Авито","Завершено","да",5]
[44037,{"$f":"DAY('База заказов'!$A273)","v":25},{"$f":"'База заказов'!$A273","v":"2020-07-25"},{"$f":"YEAR('База заказов'!$A273)","v":2020},"Иванов И.","Демонтаж входной двери",null,14400,null,{"$f":"SUM(Table[[#This Row],[Наличн]:[Безнал]])-SUM(Table[[#This Row],[Наличн]:[Безнал]])*Table[[#This Row],[Скидка]]","v":14400},44037,{"$f":"DAY(Table[[#This Row],[Дата визита]])","v":25},{"$f":"MONTH(Table[[#This Row],[Дата визита]])","v":"1900-01-07"},{"$f":"YEAR(Table[[#This Row],[Дата визита]])","v":2020},{"$f":"WEEKNUM(Table[[#This Row],[Дата визита]])","v":30},"12:00:00","Ростов-на-Дону, пер. Университетский, д. 133","Устинов С.","Клиент 272","mail@birdyx.ru","79008889900","Авито","Завершено","да",5]
[44038,{"$f":"DAY('База заказов'!$A274)","v":26},{"$f":"'База заказов'!$A274","v":"2020-07-26"},{"$f":"YEAR('База заказов'!$A274)","v":2020},"Петров В.","Укладка фанеры в 1 слой",null,12600,null,{"$f":"SUM(Table[[#This Row],[Наличн]:[Безнал]])-SUM(Table[[#This Row],[Наличн]:[Безнал]])*Table[[#This Row],[Скидка]]","v":12600},44038,{"$f":"DAY(Table[[#This Row],[Дата визита]])","v":26},{"$f":"MONTH(Table[[#This Row],[Дата визита]])","v":"1900-01-07"},{"$f":"YEAR(Table[[#This Row],[Дата визита]])","v":2020},{"$f":"WEEKNUM(Table[[#This Row],[Дата визита]])","v":31},"16:00:00","Ростов-на-Дону, пер. Соборный, д. 26","Минин В.","Клиент 273","mail@birdyx.ru","79008889900","Сайт","Завершено","да",4]
[44039,{"$f":"DAY('База заказов'!$A275)","v":27},{"$f":"'База заказов'!$A275","v":"2020-07-27"},{"$f":"YEAR('База заказов'!$A275)","v":2020},"Иванов И.","Укладка линолеума на клей",null,21500,null,{"$f":"SUM(Table[[#This Row],[Наличн]:[Безнал]])-SUM(Table[[#This Row],[Наличн]:[Безнал]])*Table[[#This Row],[Скидка]]","v":21500},44039,{"$f":"DAY(Table[[#This Row],[Дата визита]])","v":27},{"$f":"MONTH(Table[[#This Row],[Дата визита]])","v":"1900-01-07"},{"$f":"YEAR(Table[[#This Row],[Дата визита]])","v":2020},{"$f":"WEEKNUM(Table[[#This Row],[Дата визита]])","v":31},"18:00:00","Ростов-на-Дону, проспект Сиверса, д. 1","Субботин С.","Клиент 274","mail@birdyx.ru","79008889900","Сайт","Завершено","да",4]
[44039,{"$f":"DAY('База заказов'!$A276)","v":27},{"$f":"'База заказов'!$A276","v":"2020-07-27"},{"$f":"YEAR('База заказов'!$A276)","v":2020},"Гончарова Н.","Демонтаж входной двери",null,11200,null,{"$f":"SUM(Table[[#This Row],[Наличн]:[Безнал]])-SUM(Table[[#This Row],[Наличн]:[Безнал]])*Table[[#This Row],[Скидка]]","v":11200},44039,{"$f":"DAY(Table[[#This Row],[Дата визита]])","v":27},{"$f":"MONTH(Table[[#This Row],[Дата визита]])","v":"1900-01-07"},{"$f":"YEAR(Table[[#This Row],[Дата визита]])","v":2020},{"$f":"WEEKNUM(Table[[#This Row],[Дата визита]])","v":31},"10:00:00","Ростов-на-Дону, ул. Большая Садовая, д. 105/42","Субботин С.","Клиент 275","mail@birdyx.ru","79008889900","Авито","Завершено","да",4]
[44039,{"$f":"DAY('База заказов'!$A277)","v":27},{"$f":"'База заказов'!$A277","v":"2020-07-27"},{"$f":"YEAR('База заказов'!$A277)","v":2020},"Мишин М.","Нанесение декоративной штукатурки ",null,38500,0.15,{"$f":"SUM(Table[[#This Row],[Наличн]:[Безнал]])-SUM(Table[[#This Row],[Наличн]:[Безнал]])*Table[[#This Row],[Скидка]]","v":32725},44039,{"$f":"DAY(Table[[#This Row],[Дата визита]])","v":27},{"$f":"MONTH(Table[[#This Row],[Дата визита]])","v":"1900-01-07"},{"$f":"YEAR(Table[[#This Row],[Дата визита]])","v":2020},{"$f":"WEEKNUM(Table[[#This Row],[Дата визита]])","v":31},"12:00:00","Ростов-на-Дону, ул. Максима Горького, д. 149","Белоусов В.","Клиент 276","mail@birdyx.ru","79008889900","Сайт","Завершено","да",4]
[44042,{"$f":"DAY('База заказов'!$A278)","v":30},{"$f":"'База заказов'!$A278","v":"2020-07-30"},{"$f":"YEAR('База заказов'!$A278)","v":2020},"Иванов И.","Монтаж потолочного плинтуса",null,17500,null,{"$f":"SUM(Table[[#This Row],[Наличн]:[Безнал]])-SUM(Table[[#This Row],[Наличн]:[Безнал]])*Table[[#This Row],[Скидка]]","v":17500},44042,{"$f":"DAY(Table[[#This Row],[Дата визита]])","v":30},{"$f":"MONTH(Table[[#This Row],[Дата визита]])","v":"1900-01-07"},{"$f":"YEAR(Table[[#This Row],[Дата визита]])","v":2020},{"$f":"WEEKNUM(Table[[#This Row],[Дата визита]])","v":31},"16:00:00","Ростов-на-Дону, проспект Буденновский, д. 97","Белозеров В.","Клиент 277","mail@birdyx.ru","79008889900","По совету","Завершено","да",4]
[44043,{"$f":"DAY('База заказов'!$A279)","v":31},{"$f":"'База заказов'!$A279","v":"2020-07-31"},{"$f":"YEAR('База заказов'!$A279)","v":2020},"Петров В.","Укладка фанеры в 1 слой",null,31900,null,{"$f":"SUM(Table[[#This Row],[Наличн]:[Безнал]])-SUM(Table[[#This Row],[Наличн]:[Безнал]])*Table[[#This Row],[Скидка]]","v":31900},44043,{"$f":"DAY(Table[[#This Row],[Дата визита]])","v":31},{"$f":"MONTH(Table[[#This Row],[Дата визита]])","v":"1900-01-07"},{"$f":"YEAR(Table[[#This Row],[Дата визита]])","v":2020},{"$f":"WEEKNUM(Table[[#This Row],[Дата визита]])","v":31},"18:00:00","Ростов-на-Дону, ул. Советская, д. 26/1","Беспалов Г.","Клиент 278","mail@birdyx.ru","79008889900","Яндекс","Завершено","да",4]
[44044,{"$f":"DAY('База заказов'!$A280)","v":1},{"$f":"'База заказов'!$A280","v":"2020-08-01"},{"$f":"YEAR('База заказов'!$A280)","v":2020},"Гончарова Н.","Демонтаж входной двери",null,18000,null,{"$f":"SUM(Table[[#This Row],[Наличн]:[Безнал]])-SUM(Table[[#This Row],[Наличн]:[Безнал]])*Table[[#This Row],[Скидка]]","v":18000},44044,{"$f":"DAY(Table[[#This Row],[Дата визита]])","v":1},{"$f":"MONTH(Table[[#This Row],[Дата визита]])","v":"1900-01-08"},{"$f":"YEAR(Table[[#This Row],[Дата визита]])","v":2020},{"$f":"WEEKNUM(Table[[#This Row],[Дата визита]])","v":31},"09:00:00","Ростов-на-Дону, ул. Мечникова, д. 43","Белозеров В.","Клиент 279","mail@birdyx.ru","79008889900","Инстаграм","Завершено","да",4]
[44045,{"$f":"DAY('База заказов'!$A281)","v":2},{"$f":"'База заказов'!$A281","v":"2020-08-02"},{"$f":"YEAR('База заказов'!$A281)","v":2020},"Иванов И.","Демонтаж раковины",null,18000,null,{"$f":"SUM(Table[[#This Row],[Наличн]:[Безнал]])-SUM(Table[[#This Row],[Наличн]:[Безнал]])*Table[[#This Row],[Скидка]]","v":18000},44045,{"$f":"DAY(Table[[#This Row],[Дата визита]])","v":2},{"$f":"MONTH(Table[[#This Row],[Дата визита]])","v":"1900-01-08"},{"$f":"YEAR(Table[[#This Row],[Дата визита]])","v":2020},{"$f":"WEEKNUM(Table[[#This Row],[Дата визита]])","v":32},"11:00:00","Ростов-на-Дону, пер. Островского, д. 47","Белозеров В.","Клиент 280","mail@birdyx.ru","79008889900","Яндекс","Завершено","да",4]
[44046,{"$f":"DAY('База заказов'!$A282)","v":3},{"$f":"'База заказов'!$A282","v":"2020-08-03"},{"$f":"YEAR('База заказов'!$A282)","v":2020},"Петров В.","Демонтаж душевой кабины",18300,null,null,{"$f":"SUM(Table[[#This Row],[Наличн]:[Безнал]])-SUM(Table[[#This Row],[Наличн]:[Безнал]])*Table[[#This Row],[Скидка]]","v":18300},44046,{"$f":"DAY(Table[[#This Row],[Дата визита]])","v":3},{"$f":"MONTH(Table[[#This Row],[Дата визита]])","v":"1900-01-08"},{"$f":"YEAR(Table[[#This Row],[Дата визита]])","v":2020},{"$f":"WEEKNUM(Table[[#This Row],[Дата визита]])","v":32},"15:00:00","Ростов-на-Дону, ул. Пушкинская, д. 225","Беспалов Г.","Клиент 281","mail@birdyx.ru","79008889900","Сайт","Завершено","да",4]
[44047,{"$f":"DAY('База заказов'!$A283)","v":4},{"$f":"'База заказов'!$A283","v":"2020-08-04"},{"$f":"YEAR('База заказов'!$A283)","v":2020},"Иванов И.","Укладка кварцвиниловой плитки на клей",20500,null,null,{"$f":"SUM(Table[[#This Row],[Наличн]:[Безнал]])-SUM(Table[[#This Row],[Наличн]:[Безнал]])*Table[[#This Row],[Скидка]]","v":20500},44047,{"$f":"DAY(Table[[#This Row],[Дата визита]])","v":4},{"$f":"MONTH(Table[[#This Row],[Дата визита]])","v":"1900-01-08"},{"$f":"YEAR(Table[[#This Row],[Дата визита]])","v":2020},{"$f":"WEEKNUM(Table[[#This Row],[Дата визита]])","v":32},"17:00:00","Ростов-На-Дону, ул. Ченцова, д. 57/81","Шарапов В.","Клиент 282","mail@birdyx.ru","79008889900","Авито","Завершено","да",4]
[44047,{"$f":"DAY('База заказов'!$A284)","v":4},{"$f":"'База заказов'!$A284","v":"2020-08-04"},{"$f":"YEAR('База заказов'!$A284)","v":2020},"Гончарова Н.","Укладка паркетной доски на клей",18700,null,0.15,{"$f":"SUM(Table[[#This Row],[Наличн]:[Безнал]])-SUM(Table[[#This Row],[Наличн]:[Безнал]])*Table[[#This Row],[Скидка]]","v":15895},44047,{"$f":"DAY(Table[[#This Row],[Дата визита]])","v":4},{"$f":"MONTH(Table[[#This Row],[Дата визита]])","v":"1900-01-08"},{"$f":"YEAR(Table[[#This Row],[Дата визита]])","v":2020},{"$f":"WEEKNUM(Table[[#This Row],[Дата визита]])","v":32},"09:00:00","Ростов-на-Дону, ул. Текучева, д. 135","Белоусов В.","Клиент 283","mail@birdyx.ru","79008889900","Авито","Завершено","да",4]
[44047,{"$f":"DAY('База заказов'!$A285)","v":4},{"$f":"'База заказов'!$A285","v":"2020-08-04"},{"$f":"YEAR('База заказов'!$A285)","v":2020},"Мишин М.","Укладка кварцвиниловой плитки на подложку",11100,null,null,{"$f":"SUM(Table[[#This Row],[Наличн]:[Безнал]])-SUM(Table[[#This Row],[Наличн]:[Безнал]])*Table[[#This Row],[Скидка]]","v":11100},44047,{"$f":"DAY(Table[[#This Row],[Дата визита]])","v":4},{"$f":"MONTH(Table[[#This Row],[Дата визита]])","v":"1900-01-08"},{"$f":"YEAR(Table[[#This Row],[Дата визита]])","v":2020},{"$f":"WEEKNUM(Table[[#This Row],[Дата визита]])","v":32},"11:00:00","Ростов-на-Дону, пер. Газетный, д. 99","Шарапов В.","Клиент 284","mail@birdyx.ru","79008889900","Сайт","Завершено","да",4]
[44050,{"$f":"DAY('База заказов'!$A286)","v":7},{"$f":"'База заказов'!$A286","v":"2020-08-07"},{"$f":"YEAR('База заказов'!$A286)","v":2020},"Иванов И.","Укладка паркетной доски на подложку",12700,null,null,{"$f":"SUM(Table[[#This Row],[Наличн]:[Безнал]])-SUM(Table[[#This Row],[Наличн]:[Безнал]])*Table[[#This Row],[Скидка]]","v":12700},44050,{"$f":"DAY(Table[[#This Row],[Дата визита]])","v":7},{"$f":"MONTH(Table[[#This Row],[Дата визита]])","v":"1900-01-08"},{"$f":"YEAR(Table[[#This Row],[Дата визита]])","v":2020},{"$f":"WEEKNUM(Table[[#This Row],[Дата визита]])","v":32},"15:00:00","Ростов-на-Дону, проспект Кировский, д. 90","Белоусов В.","Клиент 285","mail@birdyx.ru","79008889900","Инстаграм","Отмена","да",5]
[44051,{"$f":"DAY('База заказов'!$A287)","v":8},{"$f":"'База заказов'!$A287","v":"2020-08-08"},{"$f":"YEAR('База заказов'!$A287)","v":2020},"Петров В.","Укладка массивной доски",null,25500,null,{"$f":"SUM(Table[[#This Row],[Наличн]:[Безнал]])-SUM(Table[[#This Row],[Наличн]:[Безнал]])*Table[[#This Row],[Скидка]]","v":25500},44051,{"$f":"DAY(Table[[#This Row],[Дата визита]])","v":8},{"$f":"MONTH(Table[[#This Row],[Дата визита]])","v":"1900-01-08"},{"$f":"YEAR(Table[[#This Row],[Дата визита]])","v":2020},{"$f":"WEEKNUM(Table[[#This Row],[Дата визита]])","v":32},"17:00:00","Ростов-на-Дону, ул. 14 Линия, д. 14","Беспалов Г.","Клиент 286","mail@birdyx.ru","79008889900","Яндекс","Завершено","да",3]
[44052,{"$f":"DAY('База заказов'!$A288)","v":9},{"$f":"'База заказов'!$A288","v":"2020-08-09"},{"$f":"YEAR('База заказов'!$A288)","v":2020},"Гончарова Н.","Монтаж потолочного плинтуса",21700,null,null,{"$f":"SUM(Table[[#This Row],[Наличн]:[Безнал]])-SUM(Table[[#This Row],[Наличн]:[Безнал]])*Table[[#This Row],[Скидка]]","v":21700},44052,{"$f":"DAY(Table[[#This Row],[Дата визита]])","v":9},{"$f":"MONTH(Table[[#This Row],[Дата визита]])","v":"1900-01-08"},{"$f":"YEAR(Table[[#This Row],[Дата визита]])","v":2020},{"$f":"WEEKNUM(Table[[#This Row],[Дата визита]])","v":33},"09:00:00","Ростов-на-Дону, ул. Береговая, д. 30","Минин В.","Клиент 287","mail@birdyx.ru","79008889900","По совету","Завершено","да",4]
[44053,{"$f":"DAY('База заказов'!$A289)","v":10},{"$f":"'База заказов'!$A289","v":"2020-08-10"},{"$f":"YEAR('База заказов'!$A289)","v":2020},"Гончарова Н.","Укладка массивной доски",21600,null,null,{"$f":"SUM(Table[[#This Row],[Наличн]:[Безнал]])-SUM(Table[[#This Row],[Наличн]:[Безнал]])*Table[[#This Row],[Скидка]]","v":21600},44053,{"$f":"DAY(Table[[#This Row],[Дата визита]])","v":10},{"$f":"MONTH(Table[[#This Row],[Дата визита]])","v":"1900-01-08"},{"$f":"YEAR(Table[[#This Row],[Дата визита]])","v":2020},{"$f":"WEEKNUM(Table[[#This Row],[Дата визита]])","v":33},"11:00:00","Ростов-на-Дону, ул. Большая Садовая, д. 77","Субботин С.","Клиент 288","mail@birdyx.ru","79008889900","Авито","Завершено","да",4]
[44053,{"$f":"DAY('База заказов'!$A290)","v":10},{"$f":"'База заказов'!$A290","v":"2020-08-10"},{"$f":"YEAR('База заказов'!$A290)","v":2020},"Мишин М.","Монтаж потолочного плинтуса",28900,null,null,{"$f":"SUM(Table[[#This Row],[Наличн]:[Безнал]])-SUM(Table[[#This Row],[Наличн]:[Безнал]])*Table[[#This Row],[Скидка]]","v":28900},44053,{"$f":"DAY(Table[[#This Row],[Дата визита]])","v":10},{"$f":"MONTH(Table[[#This Row],[Дата визита]])","v":"1900-01-08"},{"$f":"YEAR(Table[[#This Row],[Дата визита]])","v":2020},{"$f":"WEEKNUM(Table[[#This Row],[Дата визита]])","v":33},"15:00:00","Ростов-на-Дону, ул. 6-я линия, д. 4","Субботин С.","Клиент 289","mail@birdyx.ru","79008889900","Сайт","Завершено","да",5]
[44053,{"$f":"DAY('База заказов'!$A291)","v":10},{"$f":"'База заказов'!$A291","v":"2020-08-10"},{"$f":"YEAR('База заказов'!$A291)","v":2020},"Иванов И.","Выкройка и монтаж дополнительных углов",34100,null,0.15,{"$f":"SUM(Table[[#This Row],[Наличн]:[Безнал]])-SUM(Table[[#This Row],[Наличн]:[Безнал]])*Table[[#This Row],[Скидка]]","v":28985},44053,{"$f":"DAY(Table[[#This Row],[Дата визита]])","v":10},{"$f":"MONTH(Table[[#This Row],[Дата визита]])","v":"1900-01-08"},{"$f":"YEAR(Table[[#This Row],[Дата визита]])","v":2020},{"$f":"WEEKNUM(Table[[#This Row],[Дата визита]])","v":33},"17:00:00","Ростов-на-Дону, ул. Гагринская, д. 46","Белоусов В.","Клиент 290","mail@birdyx.ru","79008889900","Авито","Завершено","да",3]
[44056,{"$f":"DAY('База заказов'!$A292)","v":13},{"$f":"'База заказов'!$A292","v":"2020-08-13"},{"$f":"YEAR('База заказов'!$A292)","v":2020},"Петров В.","Укладка паркетной доски на подложку",31600,null,null,{"$f":"SUM(Table[[#This Row],[Наличн]:[Безнал]])-SUM(Table[[#This Row],[Наличн]:[Безнал]])*Table[[#This Row],[Скидка]]","v":31600},44056,{"$f":"DAY(Table[[#This Row],[Дата визита]])","v":13},{"$f":"MONTH(Table[[#This Row],[Дата визита]])","v":"1900-01-08"},{"$f":"YEAR(Table[[#This Row],[Дата визита]])","v":2020},{"$f":"WEEKNUM(Table[[#This Row],[Дата визита]])","v":33},"09:00:00","Ростов-на-Дону, ул. Вятская, д. 37/1","Белозеров В.","Клиент 291","mail@birdyx.ru","79008889900","Авито","Завершено","да",2]
[44057,{"$f":"DAY('База заказов'!$A293)","v":14},{"$f":"'База заказов'!$A293","v":"2020-08-14"},{"$f":"YEAR('База заказов'!$A293)","v":2020},"Иванов И.","Демонтаж балконного блока",14500,null,null,{"$f":"SUM(Table[[#This Row],[Наличн]:[Безнал]])-SUM(Table[[#This Row],[Наличн]:[Безнал]])*Table[[#This Row],[Скидка]]","v":14500},44057,{"$f":"DAY(Table[[#This Row],[Дата визита]])","v":14},{"$f":"MONTH(Table[[#This Row],[Дата визита]])","v":"1900-01-08"},{"$f":"YEAR(Table[[#This Row],[Дата визита]])","v":2020},{"$f":"WEEKNUM(Table[[#This Row],[Дата визита]])","v":33},"11:00:00","Ростов-на-Дону, ул. Станиславского, д. 58","Беспалов Г.","Клиент 292","mail@birdyx.ru","79008889900","Авито","Завершено","да",4]
[44058,{"$f":"DAY('База заказов'!$A294)","v":15},{"$f":"'База заказов'!$A294","v":"2020-08-15"},{"$f":"YEAR('База заказов'!$A294)","v":2020},"Иванов И.","Демонтаж входной двери",20400,null,null,{"$f":"SUM(Table[[#This Row],[Наличн]:[Безнал]])-SUM(Table[[#This Row],[Наличн]:[Безнал]])*Table[[#This Row],[Скидка]]","v":20400},44058,{"$f":"DAY(Table[[#This Row],[Дата визита]])","v":15},{"$f":"MONTH(Table[[#This Row],[Дата визита]])","v":"1900-01-08"},{"$f":"YEAR(Table[[#This Row],[Дата визита]])","v":2020},{"$f":"WEEKNUM(Table[[#This Row],[Дата визита]])","v":33},"15:00:00","Ростов-на-Дону, пер. Нефтяной, д. 4 А","Белозеров В.","Клиент 293","mail@birdyx.ru","79008889900","Сайт","Завершено","да",5]
[44059,{"$f":"DAY('База заказов'!$A295)","v":16},{"$f":"'База заказов'!$A295","v":"2020-08-16"},{"$f":"YEAR('База заказов'!$A295)","v":2020},"Петров В.","Демонтаж входной двери",26700,null,null,{"$f":"SUM(Table[[#This Row],[Наличн]:[Безнал]])-SUM(Table[[#This Row],[Наличн]:[Безнал]])*Table[[#This Row],[Скидка]]","v":26700},44059,{"$f":"DAY(Table[[#This Row],[Дата визита]])","v":16},{"$f":"MONTH(Table[[#This Row],[Дата визита]])","v":"1900-01-08"},{"$f":"YEAR(Table[[#This Row],[Дата визита]])","v":2020},{"$f":"WEEKNUM(Table[[#This Row],[Дата визита]])","v":34},"17:00:00","Ростов-на-Дону, ул. Станиславского, д. 167/25","Устинов С.","Клиент 294","mail@birdyx.ru","79008889900","Сайт","Завершено","да",5]
[44060,{"$f":"DAY('База заказов'!$A296)","v":17},{"$f":"'База заказов'!$A296","v":"2020-08-17"},{"$f":"YEAR('База заказов'!$A296)","v":2020},"Иванов И.","Монтаж потолочного плинтуса",7400,null,null,{"$f":"SUM(Table[[#This Row],[Наличн]:[Безнал]])-SUM(Table[[#This Row],[Наличн]:[Безнал]])*Table[[#This Row],[Скидка]]","v":7400},44060,{"$f":"DAY(Table[[#This Row],[Дата визита]])","v":17},{"$f":"MONTH(Table[[#This Row],[Дата визита]])","v":"1900-01-08"},{"$f":"YEAR(Table[[#This Row],[Дата визита]])","v":2020},{"$f":"WEEKNUM(Table[[#This Row],[Дата визита]])","v":34},"10:00:00","Ростов-на-Дону, проспект Соколова, д. 85","Минин В.","Клиент 295","mail@birdyx.ru","79008889900","Авито","Завершено","да",5]
[44061,{"$f":"DAY('База заказов'!$A297)","v":18},{"$f":"'База заказов'!$A297","v":"2020-08-18"},{"$f":"YEAR('База заказов'!$A297)","v":2020},"Гончарова Н.","Демонтаж входной двери",14500,null,null,{"$f":"SUM(Table[[#This Row],[Наличн]:[Безнал]])-SUM(Table[[#This Row],[Наличн]:[Безнал]])*Table[[#This Row],[Скидка]]","v":14500},44061,{"$f":"DAY(Table[[#This Row],[Дата визита]])","v":18},{"$f":"MONTH(Table[[#This Row],[Дата визита]])","v":"1900-01-08"},{"$f":"YEAR(Table[[#This Row],[Дата визита]])","v":2020},{"$f":"WEEKNUM(Table[[#This Row],[Дата визита]])","v":34},"12:00:00","Ростов-на-Дону, ул. Московская, д. 80","Субботин С.","Клиент 296","mail@birdyx.ru","79008889900","Сайт","Завершено","да",5]
[44062,{"$f":"DAY('База заказов'!$A298)","v":19},{"$f":"'База заказов'!$A298","v":"2020-08-19"},{"$f":"YEAR('База заказов'!$A298)","v":2020},"Мишин М.","Демонтаж душевой кабины",16200,null,null,{"$f":"SUM(Table[[#This Row],[Наличн]:[Безнал]])-SUM(Table[[#This Row],[Наличн]:[Безнал]])*Table[[#This Row],[Скидка]]","v":16200},44062,{"$f":"DAY(Table[[#This Row],[Дата визита]])","v":19},{"$f":"MONTH(Table[[#This Row],[Дата визита]])","v":"1900-01-08"},{"$f":"YEAR(Table[[#This Row],[Дата визита]])","v":2020},{"$f":"WEEKNUM(Table[[#This Row],[Дата визита]])","v":34},"16:00:00","Ростов-на-Дону, ул. Текучева, д. 151/2","Субботин С.","Клиент 297","mail@birdyx.ru","79008889900","По совету","Завершено","да",5]
[44063,{"$f":"DAY('База заказов'!$A299)","v":20},{"$f":"'База заказов'!$A299","v":"2020-08-20"},{"$f":"YEAR('База заказов'!$A299)","v":2020},"Иванов И.","Демонтаж входной двери",26100,null,0.15,{"$f":"SUM(Table[[#This Row],[Наличн]:[Безнал]])-SUM(Table[[#This Row],[Наличн]:[Безнал]])*Table[[#This Row],[Скидка]]","v":22185},44063,{"$f":"DAY(Table[[#This Row],[Дата визита]])","v":20},{"$f":"MONTH(Table[[#This Row],[Дата визита]])","v":"1900-01-08"},{"$f":"YEAR(Table[[#This Row],[Дата визита]])","v":2020},{"$f":"WEEKNUM(Table[[#This Row],[Дата визита]])","v":34},"18:00:00","Ростов-На-Дону, ул. Тургеневская, д. 73","Белоусов В.","Клиент 298","mail@birdyx.ru","79008889900","Яндекс","Завершено","да",5]
[44064,{"$f":"DAY('База заказов'!$A300)","v":21},{"$f":"'База заказов'!$A300","v":"2020-08-21"},{"$f":"YEAR('База заказов'!$A300)","v":2020},"Петров В.","Демонтаж входной двери",null,29000,null,{"$f":"SUM(Table[[#This Row],[Наличн]:[Безнал]])-SUM(Table[[#This Row],[Наличн]:[Безнал]])*Table[[#This Row],[Скидка]]","v":29000},44066,{"$f":"DAY(Table[[#This Row],[Дата визита]])","v":23},{"$f":"MONTH(Table[[#This Row],[Дата визита]])","v":"1900-01-08"},{"$f":"YEAR(Table[[#This Row],[Дата визита]])","v":2020},{"$f":"WEEKNUM(Table[[#This Row],[Дата визита]])","v":35},"10:00:00","Ростов-на-Дону, бульвар Комарова, д. 20/1","Белозеров В.","Клиент 299","mail@birdyx.ru","79008889900","Инстаграм","Завершено","да",4]
[44065,{"$f":"DAY('База заказов'!$A301)","v":22},{"$f":"'База заказов'!$A301","v":"2020-08-22"},{"$f":"YEAR('База заказов'!$A301)","v":2020},"Гончарова Н.","Укладка керамической плитки, керамогранита на пол с затиркой",null,34800,null,{"$f":"SUM(Table[[#This Row],[Наличн]:[Безнал]])-SUM(Table[[#This Row],[Наличн]:[Безнал]])*Table[[#This Row],[Скидка]]","v":34800},44066,{"$f":"DAY(Table[[#This Row],[Дата визита]])","v":23},{"$f":"MONTH(Table[[#This Row],[Дата визита]])","v":"1900-01-08"},{"$f":"YEAR(Table[[#This Row],[Дата визита]])","v":2020},{"$f":"WEEKNUM(Table[[#This Row],[Дата визита]])","v":35},"12:00:00","Ростов-на-Дону, ул. Пушкинская, д. 225/41/224","Беспалов Г.","Клиент 300","mail@birdyx.ru","79008889900","Яндекс","Завершено","да",4]
[44066,{"$f":"DAY('База заказов'!$A302)","v":23},{"$f":"'База заказов'!$A302","v":"2020-08-23"},{"$f":"YEAR('База заказов'!$A302)","v":2020},"Гончарова Н.","Укладка массивной доски",null,16700,null,{"$f":"SUM(Table[[#This Row],[Наличн]:[Безнал]])-SUM(Table[[#This Row],[Наличн]:[Безнал]])*Table[[#This Row],[Скидка]]","v":16700},44066,{"$f":"DAY(Table[[#This Row],[Дата визита]])","v":23},{"$f":"MONTH(Table[[#This Row],[Дата визита]])","v":"1900-01-08"},{"$f":"YEAR(Table[[#This Row],[Дата визита]])","v":2020},{"$f":"WEEKNUM(Table[[#This Row],[Дата визита]])","v":35},"16:00:00","Ростов-На-Дону, ул. Пушкинская, д. 1/36","Белозеров В.","Клиент 301","mail@birdyx.ru","79008889900","Сайт","Завершено","да",4]
[44067,{"$f":"DAY('База заказов'!$A303)","v":24},{"$f":"'База заказов'!$A303","v":"2020-08-24"},{"$f":"YEAR('База заказов'!$A303)","v":2020},"Иванов И.","Демонтаж входной двери",10600,null,null,{"$f":"SUM(Table[[#This Row],[Наличн]:[Безнал]])-SUM(Table[[#This Row],[Наличн]:[Безнал]])*Table[[#This Row],[Скидка]]","v":10600},44067,{"$f":"DAY(Table[[#This Row],[Дата визита]])","v":24},{"$f":"MONTH(Table[[#This Row],[Дата визита]])","v":"1900-01-08"},{"$f":"YEAR(Table[[#This Row],[Дата визита]])","v":2020},{"$f":"WEEKNUM(Table[[#This Row],[Дата визита]])","v":35},"18:00:00","Ростов-на-Дону, пер. Газетный, д. 92/85","Белозеров В.","Клиент 302","mail@birdyx.ru","79008889900","Авито","Завершено","да",4]
[44068,{"$f":"DAY('База заказов'!$A304)","v":25},{"$f":"'База заказов'!$A304","v":"2020-08-25"},{"$f":"YEAR('База заказов'!$A304)","v":2020},"Петров В.","Укладка массивной доски",22800,null,null,{"$f":"SUM(Table[[#This Row],[Наличн]:[Безнал]])-SUM(Table[[#This Row],[Наличн]:[Безнал]])*Table[[#This Row],[Скидка]]","v":22800},44068,{"$f":"DAY(Table[[#This Row],[Дата визита]])","v":25},{"$f":"MONTH(Table[[#This Row],[Дата визита]])","v":"1900-01-08"},{"$f":"YEAR(Table[[#This Row],[Дата визита]])","v":2020},{"$f":"WEEKNUM(Table[[#This Row],[Дата визита]])","v":35},"10:00:00","Ростов-на-Дону, проспект Буденновский, д. 106/2","Беспалов Г.","Клиент 303","mail@birdyx.ru","79008889900","Авито","Завершено","да",4]
[44069,{"$f":"DAY('База заказов'!$A305)","v":26},{"$f":"'База заказов'!$A305","v":"2020-08-26"},{"$f":"YEAR('База заказов'!$A305)","v":2020},"Иванов И.","Нанесение декоративной штукатурки ",null,28900,null,{"$f":"SUM(Table[[#This Row],[Наличн]:[Безнал]])-SUM(Table[[#This Row],[Наличн]:[Безнал]])*Table[[#This Row],[Скидка]]","v":28900},44069,{"$f":"DAY(Table[[#This Row],[Дата визита]])","v":26},{"$f":"MONTH(Table[[#This Row],[Дата визита]])","v":"1900-01-08"},{"$f":"YEAR(Table[[#This Row],[Дата визита]])","v":2020},{"$f":"WEEKNUM(Table[[#This Row],[Дата визита]])","v":35},"12:00:00","Ростов-на-Дону, ул. Пушкинская, д. 104/32","Шарапов В.","Клиент 304","mail@birdyx.ru","79008889900","Сайт","Завершено","да",4]
[44070,{"$f":"DAY('База заказов'!$A306)","v":27},{"$f":"'База заказов'!$A306","v":"2020-08-27"},{"$f":"YEAR('База заказов'!$A306)","v":2020},"Гончарова Н.","Поклейка обоев ",34000,null,null,{"$f":"SUM(Table[[#This Row],[Наличн]:[Безнал]])-SUM(Table[[#This Row],[Наличн]:[Безнал]])*Table[[#This Row],[Скидка]]","v":34000},44070,{"$f":"DAY(Table[[#This Row],[Дата визита]])","v":27},{"$f":"MONTH(Table[[#This Row],[Дата визита]])","v":"1900-01-08"},{"$f":"YEAR(Table[[#This Row],[Дата визита]])","v":2020},{"$f":"WEEKNUM(Table[[#This Row],[Дата визита]])","v":35},"16:00:00","Ростов-на-Дону, ул. Республиканская, д. 1/8","Белоусов В.","Клиент 305","mail@birdyx.ru","79008889900","Инстаграм","Завершено","да",4]
[44071,{"$f":"DAY('База заказов'!$A307)","v":28},{"$f":"'База заказов'!$A307","v":"2020-08-28"},{"$f":"YEAR('База заказов'!$A307)","v":2020},"Мишин М.","Укладка паркетной доски на клей",null,25700,null,{"$f":"SUM(Table[[#This Row],[Наличн]:[Безнал]])-SUM(Table[[#This Row],[Наличн]:[Безнал]])*Table[[#This Row],[Скидка]]","v":25700},44071,{"$f":"DAY(Table[[#This Row],[Дата визита]])","v":28},{"$f":"MONTH(Table[[#This Row],[Дата визита]])","v":"1900-01-08"},{"$f":"YEAR(Table[[#This Row],[Дата визита]])","v":2020},{"$f":"WEEKNUM(Table[[#This Row],[Дата визита]])","v":35},"18:00:00","Ростов-на-Дону, ул. Красноармейская, д. 33","Шарапов В.","Клиент 306","mail@birdyx.ru","79008889900","Яндекс","Завершено","да",4]
[44071,{"$f":"DAY('База заказов'!$A308)","v":28},{"$f":"'База заказов'!$A308","v":"2020-08-28"},{"$f":"YEAR('База заказов'!$A308)","v":2020},"Иванов И.","Демонтаж входной двери",null,24800,null,{"$f":"SUM(Table[[#This Row],[Наличн]:[Безнал]])-SUM(Table[[#This Row],[Наличн]:[Безнал]])*Table[[#This Row],[Скидка]]","v":24800},44071,{"$f":"DAY(Table[[#This Row],[Дата визита]])","v":28},{"$f":"MONTH(Table[[#This Row],[Дата визита]])","v":"1900-01-08"},{"$f":"YEAR(Table[[#This Row],[Дата визита]])","v":2020},{"$f":"WEEKNUM(Table[[#This Row],[Дата визита]])","v":35},"10:00:00","Ростов-на-Дону, ул. Максима Горького, д. 11/43","Белоусов В.","Клиент 307","mail@birdyx.ru","79008889900","По совету","Завершено","да",4]
[44071,{"$f":"DAY('База заказов'!$A309)","v":28},{"$f":"'База заказов'!$A309","v":"2020-08-28"},{"$f":"YEAR('База заказов'!$A309)","v":2020},"Петров В.","Выкройка и монтаж дополнительных углов",null,22000,0.15,{"$f":"SUM(Table[[#This Row],[Наличн]:[Безнал]])-SUM(Table[[#This Row],[Наличн]:[Безнал]])*Table[[#This Row],[Скидка]]","v":18700},44071,{"$f":"DAY(Table[[#This Row],[Дата визита]])","v":28},{"$f":"MONTH(Table[[#This Row],[Дата визита]])","v":"1900-01-08"},{"$f":"YEAR(Table[[#This Row],[Дата визита]])","v":2020},{"$f":"WEEKNUM(Table[[#This Row],[Дата визита]])","v":35},"12:00:00","Ростов-на-Дону, ул. Алма-Атинская, д. 29/2 А","Беспалов Г.","Клиент 308","mail@birdyx.ru","79008889900","Сайт","Завершено","да",4]
[44074,{"$f":"DAY('База заказов'!$A310)","v":31},{"$f":"'База заказов'!$A310","v":"2020-08-31"},{"$f":"YEAR('База заказов'!$A310)","v":2020},"Гончарова Н.","Укладка паркетной доски на клей",null,27000,null,{"$f":"SUM(Table[[#This Row],[Наличн]:[Безнал]])-SUM(Table[[#This Row],[Наличн]:[Безнал]])*Table[[#This Row],[Скидка]]","v":27000},44074,{"$f":"DAY(Table[[#This Row],[Дата визита]])","v":31},{"$f":"MONTH(Table[[#This Row],[Дата визита]])","v":"1900-01-08"},{"$f":"YEAR(Table[[#This Row],[Дата визита]])","v":2020},{"$f":"WEEKNUM(Table[[#This Row],[Дата визита]])","v":36},"16:00:00","Ростов-на-Дону, ул. Малиновского, д. 68/1","Минин В.","Клиент 309","mail@birdyx.ru","79008889900","Сайт","Завершено","да",4]
[44075,{"$f":"DAY('База заказов'!$A311)","v":1},{"$f":"'База заказов'!$A311","v":"2020-09-01"},{"$f":"YEAR('База заказов'!$A311)","v":2020},"Иванов И.","Нанесение декоративной штукатурки ",null,27500,null,{"$f":"SUM(Table[[#This Row],[Наличн]:[Безнал]])-SUM(Table[[#This Row],[Наличн]:[Безнал]])*Table[[#This Row],[Скидка]]","v":27500},44075,{"$f":"DAY(Table[[#This Row],[Дата визита]])","v":1},{"$f":"MONTH(Table[[#This Row],[Дата визита]])","v":"1900-01-09"},{"$f":"YEAR(Table[[#This Row],[Дата визита]])","v":2020},{"$f":"WEEKNUM(Table[[#This Row],[Дата визита]])","v":36},"18:00:00","Ростов-на-Дону, ул. Береговая, д. 5","Субботин С.","Клиент 310","mail@birdyx.ru","79008889900","Сайт","Завершено","да",4]
[44076,{"$f":"DAY('База заказов'!$A312)","v":2},{"$f":"'База заказов'!$A312","v":"2020-09-02"},{"$f":"YEAR('База заказов'!$A312)","v":2020},"Петров В.","Демонтаж входной двери",null,14200,null,{"$f":"SUM(Table[[#This Row],[Наличн]:[Безнал]])-SUM(Table[[#This Row],[Наличн]:[Безнал]])*Table[[#This Row],[Скидка]]","v":14200},44076,{"$f":"DAY(Table[[#This Row],[Дата визита]])","v":2},{"$f":"MONTH(Table[[#This Row],[Дата визита]])","v":"1900-01-09"},{"$f":"YEAR(Table[[#This Row],[Дата визита]])","v":2020},{"$f":"WEEKNUM(Table[[#This Row],[Дата визита]])","v":36},"10:00:00","Ростов-на-Дону, пл. Гагарина, д. 1","Субботин С.","Клиент 311","mail@birdyx.ru","79008889900","Сайт","Завершено","да",5]
[44077,{"$f":"DAY('База заказов'!$A313)","v":3},{"$f":"'База заказов'!$A313","v":"2020-09-03"},{"$f":"YEAR('База заказов'!$A313)","v":2020},"Иванов И.","Укладка фанеры в 1 слой",null,29400,null,{"$f":"SUM(Table[[#This Row],[Наличн]:[Безнал]])-SUM(Table[[#This Row],[Наличн]:[Безнал]])*Table[[#This Row],[Скидка]]","v":29400},44077,{"$f":"DAY(Table[[#This Row],[Дата визита]])","v":3},{"$f":"MONTH(Table[[#This Row],[Дата визита]])","v":"1900-01-09"},{"$f":"YEAR(Table[[#This Row],[Дата визита]])","v":2020},{"$f":"WEEKNUM(Table[[#This Row],[Дата визита]])","v":36},"12:00:00","Ростов-на-Дону, ул. Механизаторов, д. 6А","Белоусов В.","Клиент 312","mail@birdyx.ru","79008889900","Сайт","Завершено","да",5]
[44078,{"$f":"DAY('База заказов'!$A314)","v":4},{"$f":"'База заказов'!$A314","v":"2020-09-04"},{"$f":"YEAR('База заказов'!$A314)","v":2020},"Гончарова Н.","Укладка линолеума на клей",null,23300,null,{"$f":"SUM(Table[[#This Row],[Наличн]:[Безнал]])-SUM(Table[[#This Row],[Наличн]:[Безнал]])*Table[[#This Row],[Скидка]]","v":23300},44078,{"$f":"DAY(Table[[#This Row],[Дата визита]])","v":4},{"$f":"MONTH(Table[[#This Row],[Дата визита]])","v":"1900-01-09"},{"$f":"YEAR(Table[[#This Row],[Дата визита]])","v":2020},{"$f":"WEEKNUM(Table[[#This Row],[Дата визита]])","v":36},"16:00:00","Ростов-На-Дону, проспект Буденновский, д. 3/3","Белозеров В.","Клиент 313","mail@birdyx.ru","79008889900","Сайт","Завершено","да",5]
[44079,{"$f":"DAY('База заказов'!$A315)","v":5},{"$f":"'База заказов'!$A315","v":"2020-09-05"},{"$f":"YEAR('База заказов'!$A315)","v":2020},"Мишин М.","Укладка паркетной доски на клей",null,21400,null,{"$f":"SUM(Table[[#This Row],[Наличн]:[Безнал]])-SUM(Table[[#This Row],[Наличн]:[Безнал]])*Table[[#This Row],[Скидка]]","v":21400},44079,{"$f":"DAY(Table[[#This Row],[Дата визита]])","v":5},{"$f":"MONTH(Table[[#This Row],[Дата визита]])","v":"1900-01-09"},{"$f":"YEAR(Table[[#This Row],[Дата визита]])","v":2020},{"$f":"WEEKNUM(Table[[#This Row],[Дата визита]])","v":36},"18:00:00","Ростов-на-Дону, ул. Обороны, д. 40/17","Беспалов Г.","Клиент 314","mail@birdyx.ru","79008889900","Сайт","Завершено","да",5]
[44080,{"$f":"DAY('База заказов'!$A316)","v":6},{"$f":"'База заказов'!$A316","v":"2020-09-06"},{"$f":"YEAR('База заказов'!$A316)","v":2020},"Иванов И.","Нанесение декоративной штукатурки ",null,30900,null,{"$f":"SUM(Table[[#This Row],[Наличн]:[Безнал]])-SUM(Table[[#This Row],[Наличн]:[Безнал]])*Table[[#This Row],[Скидка]]","v":30900},44080,{"$f":"DAY(Table[[#This Row],[Дата визита]])","v":6},{"$f":"MONTH(Table[[#This Row],[Дата визита]])","v":"1900-01-09"},{"$f":"YEAR(Table[[#This Row],[Дата визита]])","v":2020},{"$f":"WEEKNUM(Table[[#This Row],[Дата визита]])","v":37},"10:00:00","Ростов-на-Дону, ул. Судостроительная, д. 55","Белозеров В.","Клиент 315","mail@birdyx.ru","79008889900","Сайт","Завершено","да",5]
[44081,{"$f":"DAY('База заказов'!$A317)","v":7},{"$f":"'База заказов'!$A317","v":"2020-09-07"},{"$f":"YEAR('База заказов'!$A317)","v":2020},"Петров В.","Монтаж потолочного плинтуса",null,18400,null,{"$f":"SUM(Table[[#This Row],[Наличн]:[Безнал]])-SUM(Table[[#This Row],[Наличн]:[Безнал]])*Table[[#This Row],[Скидка]]","v":18400},44081,{"$f":"DAY(Table[[#This Row],[Дата визита]])","v":7},{"$f":"MONTH(Table[[#This Row],[Дата визита]])","v":"1900-01-09"},{"$f":"YEAR(Table[[#This Row],[Дата визита]])","v":2020},{"$f":"WEEKNUM(Table[[#This Row],[Дата визита]])","v":37},"12:00:00","Ростов-На-Дону, пер. Семашко, д. 46/1","Устинов С.","Клиент 316","mail@birdyx.ru","79008889900","Сайт","Завершено","да",5]
[44082,{"$f":"DAY('База заказов'!$A318)","v":8},{"$f":"'База заказов'!$A318","v":"2020-09-08"},{"$f":"YEAR('База заказов'!$A318)","v":2020},"Гончарова Н.","Демонтаж входной двери",null,38100,null,{"$f":"SUM(Table[[#This Row],[Наличн]:[Безнал]])-SUM(Table[[#This Row],[Наличн]:[Безнал]])*Table[[#This Row],[Скидка]]","v":38100},44084,{"$f":"DAY(Table[[#This Row],[Дата визита]])","v":10},{"$f":"MONTH(Table[[#This Row],[Дата визита]])","v":"1900-01-09"},{"$f":"YEAR(Table[[#This Row],[Дата визита]])","v":2020},{"$f":"WEEKNUM(Table[[#This Row],[Дата визита]])","v":37},"16:00:00","Ростов-на-Дону, проспект Соколова, д. 11/Б","Минин В.","Клиент 317","mail@birdyx.ru","79008889900","Сайт","Завершено","да",3]
[44083,{"$f":"DAY('База заказов'!$A319)","v":9},{"$f":"'База заказов'!$A319","v":"2020-09-09"},{"$f":"YEAR('База заказов'!$A319)","v":2020},"Гончарова Н.","Укладка кварцвиниловой плитки на подложку",null,17900,0.15,{"$f":"SUM(Table[[#This Row],[Наличн]:[Безнал]])-SUM(Table[[#This Row],[Наличн]:[Безнал]])*Table[[#This Row],[Скидка]]","v":15215},44084,{"$f":"DAY(Table[[#This Row],[Дата визита]])","v":10},{"$f":"MONTH(Table[[#This Row],[Дата визита]])","v":"1900-01-09"},{"$f":"YEAR(Table[[#This Row],[Дата визита]])","v":2020},{"$f":"WEEKNUM(Table[[#This Row],[Дата визита]])","v":37},"18:00:00","Ростов-на-Дону, ул. Ларина, д. 41/19","Субботин С.","Клиент 318","mail@birdyx.ru","79008889900","Сайт","Завершено","да",4]
[44084,{"$f":"DAY('База заказов'!$A320)","v":10},{"$f":"'База заказов'!$A320","v":"2020-09-10"},{"$f":"YEAR('База заказов'!$A320)","v":2020},"Мишин М.","Демонтаж раковины",null,7600,null,{"$f":"SUM(Table[[#This Row],[Наличн]:[Безнал]])-SUM(Table[[#This Row],[Наличн]:[Безнал]])*Table[[#This Row],[Скидка]]","v":7600},44084,{"$f":"DAY(Table[[#This Row],[Дата визита]])","v":10},{"$f":"MONTH(Table[[#This Row],[Дата визита]])","v":"1900-01-09"},{"$f":"YEAR(Table[[#This Row],[Дата визита]])","v":2020},{"$f":"WEEKNUM(Table[[#This Row],[Дата визита]])","v":37},"10:00:00","Ростов-на-Дону, проспект Коммунистический, д. 20/4","Субботин С.","Клиент 319","mail@birdyx.ru","79008889900","Сайт","Завершено","да",4]
[44085,{"$f":"DAY('База заказов'!$A321)","v":11},{"$f":"'База заказов'!$A321","v":"2020-09-11"},{"$f":"YEAR('База заказов'!$A321)","v":2020},"Иванов И.","Демонтаж душевой кабины",null,23900,null,{"$f":"SUM(Table[[#This Row],[Наличн]:[Безнал]])-SUM(Table[[#This Row],[Наличн]:[Безнал]])*Table[[#This Row],[Скидка]]","v":23900},44085,{"$f":"DAY(Table[[#This Row],[Дата визита]])","v":11},{"$f":"MONTH(Table[[#This Row],[Дата визита]])","v":"1900-01-09"},{"$f":"YEAR(Table[[#This Row],[Дата визита]])","v":2020},{"$f":"WEEKNUM(Table[[#This Row],[Дата визита]])","v":37},"12:00:00","Ростов-на-Дону, ул. Цезаря Куникова, д. 32/А","Белоусов В.","Клиент 320","mail@birdyx.ru","79008889900","Сайт","Завершено","да",5]
[44086,{"$f":"DAY('База заказов'!$A322)","v":12},{"$f":"'База заказов'!$A322","v":"2020-09-12"},{"$f":"YEAR('База заказов'!$A322)","v":2020},"Петров В.","Укладка кварцвиниловой плитки на клей",38600,null,null,{"$f":"SUM(Table[[#This Row],[Наличн]:[Безнал]])-SUM(Table[[#This Row],[Наличн]:[Безнал]])*Table[[#This Row],[Скидка]]","v":38600},44086,{"$f":"DAY(Table[[#This Row],[Дата визита]])","v":12},{"$f":"MONTH(Table[[#This Row],[Дата визита]])","v":"1900-01-09"},{"$f":"YEAR(Table[[#This Row],[Дата визита]])","v":2020},{"$f":"WEEKNUM(Table[[#This Row],[Дата визита]])","v":37},"16:00:00","Ростов-на-Дону, ул. Красноармейская, д. 21","Белозеров В.","Клиент 321","mail@birdyx.ru","79008889900","Сайт","Завершено","да",3]
[44087,{"$f":"DAY('База заказов'!$A323)","v":13},{"$f":"'База заказов'!$A323","v":"2020-09-13"},{"$f":"YEAR('База заказов'!$A323)","v":2020},"Иванов И.","Укладка паркетной доски на клей",null,19500,null,{"$f":"SUM(Table[[#This Row],[Наличн]:[Безнал]])-SUM(Table[[#This Row],[Наличн]:[Безнал]])*Table[[#This Row],[Скидка]]","v":19500},44087,{"$f":"DAY(Table[[#This Row],[Дата визита]])","v":13},{"$f":"MONTH(Table[[#This Row],[Дата визита]])","v":"1900-01-09"},{"$f":"YEAR(Table[[#This Row],[Дата визита]])","v":2020},{"$f":"WEEKNUM(Table[[#This Row],[Дата визита]])","v":38},"18:00:00","Ростов-на-Дону, проспект 40-летия Победы, д. 95/3","Беспалов Г.","Клиент 322","mail@birdyx.ru","79008889900","Сайт","Завершено","да",2]
[44088,{"$f":"DAY('База заказов'!$A324)","v":14},{"$f":"'База заказов'!$A324","v":"2020-09-14"},{"$f":"YEAR('База заказов'!$A324)","v":2020},"Гончарова Н.","Укладка кварцвиниловой плитки на подложку",null,30500,null,{"$f":"SUM(Table[[#This Row],[Наличн]:[Безнал]])-SUM(Table[[#This Row],[Наличн]:[Безнал]])*Table[[#This Row],[Скидка]]","v":30500},44088,{"$f":"DAY(Table[[#This Row],[Дата визита]])","v":14},{"$f":"MONTH(Table[[#This Row],[Дата визита]])","v":"1900-01-09"},{"$f":"YEAR(Table[[#This Row],[Дата визита]])","v":2020},{"$f":"WEEKNUM(Table[[#This Row],[Дата визита]])","v":38},"10:00:00","Ростов-на-Дону, ул. Станиславского, д. 58","Белозеров В.","Клиент 323","mail@birdyx.ru","79008889900","Сайт","Завершено","да",4]
[44089,{"$f":"DAY('База заказов'!$A325)","v":15},{"$f":"'База заказов'!$A325","v":"2020-09-15"},{"$f":"YEAR('База заказов'!$A325)","v":2020},"Мишин М.","Укладка паркетной доски на подложку",null,30100,null,{"$f":"SUM(Table[[#This Row],[Наличн]:[Безнал]])-SUM(Table[[#This Row],[Наличн]:[Безнал]])*Table[[#This Row],[Скидка]]","v":30100},44089,{"$f":"DAY(Table[[#This Row],[Дата визита]])","v":15},{"$f":"MONTH(Table[[#This Row],[Дата визита]])","v":"1900-01-09"},{"$f":"YEAR(Table[[#This Row],[Дата визита]])","v":2020},{"$f":"WEEKNUM(Table[[#This Row],[Дата визита]])","v":38},"12:00:00","Ростов-на-Дону, проспект Буденновский, 86/197","Устинов С.","Клиент 324","mail@birdyx.ru","79008889900","Инстаграм","Завершено","да",5]
[44090,{"$f":"DAY('База заказов'!$A326)","v":16},{"$f":"'База заказов'!$A326","v":"2020-09-16"},{"$f":"YEAR('База заказов'!$A326)","v":2020},"Иванов И.","Укладка массивной доски",null,14800,null,{"$f":"SUM(Table[[#This Row],[Наличн]:[Безнал]])-SUM(Table[[#This Row],[Наличн]:[Безнал]])*Table[[#This Row],[Скидка]]","v":14800},44090,{"$f":"DAY(Table[[#This Row],[Дата визита]])","v":16},{"$f":"MONTH(Table[[#This Row],[Дата визита]])","v":"1900-01-09"},{"$f":"YEAR(Table[[#This Row],[Дата визита]])","v":2020},{"$f":"WEEKNUM(Table[[#This Row],[Дата визита]])","v":38},"16:00:00","Ростов-на-Дону, ул. Липовая, 5","Белозеров В.","Клиент 325","mail@birdyx.ru","79008889900","Яндекс","Завершено","да",5]
[44091,{"$f":"DAY('База заказов'!$A327)","v":17},{"$f":"'База заказов'!$A327","v":"2020-09-17"},{"$f":"YEAR('База заказов'!$A327)","v":2020},"Петров В.","Монтаж потолочного плинтуса",null,17200,null,{"$f":"SUM(Table[[#This Row],[Наличн]:[Безнал]])-SUM(Table[[#This Row],[Наличн]:[Безнал]])*Table[[#This Row],[Скидка]]","v":17200},44091,{"$f":"DAY(Table[[#This Row],[Дата визита]])","v":17},{"$f":"MONTH(Table[[#This Row],[Дата визита]])","v":"1900-01-09"},{"$f":"YEAR(Table[[#This Row],[Дата визита]])","v":2020},{"$f":"WEEKNUM(Table[[#This Row],[Дата визита]])","v":38},"18:00:00","Ростов-на-Дону, ул. Станиславского, д. 58","Беспалов Г.","Клиент 326","mail@birdyx.ru","79008889900","По совету","Завершено","да",5]
[44092,{"$f":"DAY('База заказов'!$A328)","v":18},{"$f":"'База заказов'!$A328","v":"2020-09-18"},{"$f":"YEAR('База заказов'!$A328)","v":2020},"Гончарова Н.","Укладка массивной доски",null,18300,0.15,{"$f":"SUM(Table[[#This Row],[Наличн]:[Безнал]])-SUM(Table[[#This Row],[Наличн]:[Безнал]])*Table[[#This Row],[Скидка]]","v":15555},44092,{"$f":"DAY(Table[[#This Row],[Дата визита]])","v":18},{"$f":"MONTH(Table[[#This Row],[Дата визита]])","v":"1900-01-09"},{"$f":"YEAR(Table[[#This Row],[Дата визита]])","v":2020},{"$f":"WEEKNUM(Table[[#This Row],[Дата визита]])","v":38},"09:00:00","Ростов-на-Дону, ул. Беляева, д. 22А","Шарапов В.","Клиент 327","mail@birdyx.ru","79008889900","Авито","Завершено","да",5]
[44093,{"$f":"DAY('База заказов'!$A329)","v":19},{"$f":"'База заказов'!$A329","v":"2020-09-19"},{"$f":"YEAR('База заказов'!$A329)","v":2020},"Гончарова Н.","Монтаж потолочного плинтуса",null,14000,null,{"$f":"SUM(Table[[#This Row],[Наличн]:[Безнал]])-SUM(Table[[#This Row],[Наличн]:[Безнал]])*Table[[#This Row],[Скидка]]","v":14000},44093,{"$f":"DAY(Table[[#This Row],[Дата визита]])","v":19},{"$f":"MONTH(Table[[#This Row],[Дата визита]])","v":"1900-01-09"},{"$f":"YEAR(Table[[#This Row],[Дата визита]])","v":2020},{"$f":"WEEKNUM(Table[[#This Row],[Дата визита]])","v":38},"11:00:00","Ростов-на-Дону, ул. 22 Линия, д. 34","Белоусов В.","Клиент 328","mail@birdyx.ru","79008889900","Сайт","Завершено","да",5]
[44094,{"$f":"DAY('База заказов'!$A330)","v":20},{"$f":"'База заказов'!$A330","v":"2020-09-20"},{"$f":"YEAR('База заказов'!$A330)","v":2020},"Мишин М.","Выкройка и монтаж дополнительных углов",null,33100,null,{"$f":"SUM(Table[[#This Row],[Наличн]:[Безнал]])-SUM(Table[[#This Row],[Наличн]:[Безнал]])*Table[[#This Row],[Скидка]]","v":33100},44094,{"$f":"DAY(Table[[#This Row],[Дата визита]])","v":20},{"$f":"MONTH(Table[[#This Row],[Дата визита]])","v":"1900-01-09"},{"$f":"YEAR(Table[[#This Row],[Дата визита]])","v":2020},{"$f":"WEEKNUM(Table[[#This Row],[Дата визита]])","v":39},"15:00:00","Ростов-На-Дону, проспект Шолохова, д. 288","Шарапов В.","Клиент 329","mail@birdyx.ru","79008889900","Инстаграм","Завершено","да",2]
[44095,{"$f":"DAY('База заказов'!$A331)","v":21},{"$f":"'База заказов'!$A331","v":"2020-09-21"},{"$f":"YEAR('База заказов'!$A331)","v":2020},"Иванов И.","Укладка паркетной доски на подложку",null,15600,null,{"$f":"SUM(Table[[#This Row],[Наличн]:[Безнал]])-SUM(Table[[#This Row],[Наличн]:[Безнал]])*Table[[#This Row],[Скидка]]","v":15600},44095,{"$f":"DAY(Table[[#This Row],[Дата визита]])","v":21},{"$f":"MONTH(Table[[#This Row],[Дата визита]])","v":"1900-01-09"},{"$f":"YEAR(Table[[#This Row],[Дата визита]])","v":2020},{"$f":"WEEKNUM(Table[[#This Row],[Дата визита]])","v":39},"17:00:00","Ростов-на-Дону, проспект Кировский, д. 57","Белоусов В.","Клиент 330","mail@birdyx.ru","79008889900","Инстаграм","Завершено","да",4]
[44095,{"$f":"DAY('База заказов'!$A332)","v":21},{"$f":"'База заказов'!$A332","v":"2020-09-21"},{"$f":"YEAR('База заказов'!$A332)","v":2020},"Петров В.","Демонтаж балконного блока",null,13400,null,{"$f":"SUM(Table[[#This Row],[Наличн]:[Безнал]])-SUM(Table[[#This Row],[Наличн]:[Безнал]])*Table[[#This Row],[Скидка]]","v":13400},44095,{"$f":"DAY(Table[[#This Row],[Дата визита]])","v":21},{"$f":"MONTH(Table[[#This Row],[Дата визита]])","v":"1900-01-09"},{"$f":"YEAR(Table[[#This Row],[Дата визита]])","v":2020},{"$f":"WEEKNUM(Table[[#This Row],[Дата визита]])","v":39},"09:00:00","Ростов-на-Дону, Стартовая 20","Беспалов Г.","Клиент 331","mail@birdyx.ru","79008889900","Инстаграм","Завершено","да",4]
[44097,{"$f":"DAY('База заказов'!$A333)","v":23},{"$f":"'База заказов'!$A333","v":"2020-09-23"},{"$f":"YEAR('База заказов'!$A333)","v":2020},"Иванов И.","Демонтаж входной двери",null,19200,null,{"$f":"SUM(Table[[#This Row],[Наличн]:[Безнал]])-SUM(Table[[#This Row],[Наличн]:[Безнал]])*Table[[#This Row],[Скидка]]","v":19200},44097,{"$f":"DAY(Table[[#This Row],[Дата визита]])","v":23},{"$f":"MONTH(Table[[#This Row],[Дата визита]])","v":"1900-01-09"},{"$f":"YEAR(Table[[#This Row],[Дата визита]])","v":2020},{"$f":"WEEKNUM(Table[[#This Row],[Дата визита]])","v":39},"11:00:00","Ростов-на-Дону, Стартовая 22","Минин В.","Клиент 332","mail@birdyx.ru","79008889900","Сайт","Завершено","да",4]
[44098,{"$f":"DAY('База заказов'!$A334)","v":24},{"$f":"'База заказов'!$A334","v":"2020-09-24"},{"$f":"YEAR('База заказов'!$A334)","v":2020},"Гончарова Н.","Укладка массивной доски",null,38300,null,{"$f":"SUM(Table[[#This Row],[Наличн]:[Безнал]])-SUM(Table[[#This Row],[Наличн]:[Безнал]])*Table[[#This Row],[Скидка]]","v":38300},44098,{"$f":"DAY(Table[[#This Row],[Дата визита]])","v":24},{"$f":"MONTH(Table[[#This Row],[Дата визита]])","v":"1900-01-09"},{"$f":"YEAR(Table[[#This Row],[Дата визита]])","v":2020},{"$f":"WEEKNUM(Table[[#This Row],[Дата визита]])","v":39},"15:00:00","Ростов-на-Дону, Жданова 15","Субботин С.","Клиент 333","mail@birdyx.ru","79008889900","Сайт","Завершено","да",4]
[44099,{"$f":"DAY('База заказов'!$A335)","v":25},{"$f":"'База заказов'!$A335","v":"2020-09-25"},{"$f":"YEAR('База заказов'!$A335)","v":2020},"Мишин М.","Монтаж потолочного плинтуса",null,15500,null,{"$f":"SUM(Table[[#This Row],[Наличн]:[Безнал]])-SUM(Table[[#This Row],[Наличн]:[Безнал]])*Table[[#This Row],[Скидка]]","v":15500},44099,{"$f":"DAY(Table[[#This Row],[Дата визита]])","v":25},{"$f":"MONTH(Table[[#This Row],[Дата визита]])","v":"1900-01-09"},{"$f":"YEAR(Table[[#This Row],[Дата визита]])","v":2020},{"$f":"WEEKNUM(Table[[#This Row],[Дата визита]])","v":39},"17:00:00","Ростов-на-Дону, ул. Пацаева, д. 2","Субботин С.","Клиент 334","mail@birdyx.ru","79008889900","Авито","Завершено","да",4]
[44100,{"$f":"DAY('База заказов'!$A336)","v":26},{"$f":"'База заказов'!$A336","v":"2020-09-26"},{"$f":"YEAR('База заказов'!$A336)","v":2020},"Иванов И.","Демонтаж душевого поддона",19500,null,null,{"$f":"SUM(Table[[#This Row],[Наличн]:[Безнал]])-SUM(Table[[#This Row],[Наличн]:[Безнал]])*Table[[#This Row],[Скидка]]","v":19500},44100,{"$f":"DAY(Table[[#This Row],[Дата визита]])","v":26},{"$f":"MONTH(Table[[#This Row],[Дата визита]])","v":"1900-01-09"},{"$f":"YEAR(Table[[#This Row],[Дата визита]])","v":2020},{"$f":"WEEKNUM(Table[[#This Row],[Дата визита]])","v":39},"09:00:00","Ростов-на-Дону, ул. 14 Линия, д. 33","Белоусов В.","Клиент 335","mail@birdyx.ru","79008889900","Сайт","Завершено","да",4]
[44101,{"$f":"DAY('База заказов'!$A337)","v":27},{"$f":"'База заказов'!$A337","v":"2020-09-27"},{"$f":"YEAR('База заказов'!$A337)","v":2020},"Петров В.","Демонтаж душевой кабины","",16700,null,{"$f":"SUM(Table[[#This Row],[Наличн]:[Безнал]])-SUM(Table[[#This Row],[Наличн]:[Безнал]])*Table[[#This Row],[Скидка]]","v":16700},44101,{"$f":"DAY(Table[[#This Row],[Дата визита]])","v":27},{"$f":"MONTH(Table[[#This Row],[Дата визита]])","v":"1900-01-09"},{"$f":"YEAR(Table[[#This Row],[Дата визита]])","v":2020},{"$f":"WEEKNUM(Table[[#This Row],[Дата визита]])","v":40},"11:00:00","Ростов-на-Дону, пер. Беломорский, д. 94","Белозеров В.","Клиент 336","mail@birdyx.ru","79008889900","По совету","Завершено","да",4]
[44102,{"$f":"DAY('База заказов'!$A338)","v":28},{"$f":"'База заказов'!$A338","v":"2020-09-28"},{"$f":"YEAR('База заказов'!$A338)","v":2020},"Гончарова Н.","Демонтаж входной двери","",17100,null,{"$f":"SUM(Table[[#This Row],[Наличн]:[Безнал]])-SUM(Table[[#This Row],[Наличн]:[Безнал]])*Table[[#This Row],[Скидка]]","v":17100},44102,{"$f":"DAY(Table[[#This Row],[Дата визита]])","v":28},{"$f":"MONTH(Table[[#This Row],[Дата визита]])","v":"1900-01-09"},{"$f":"YEAR(Table[[#This Row],[Дата визита]])","v":2020},{"$f":"WEEKNUM(Table[[#This Row],[Дата визита]])","v":40},"15:00:00","Ростов-На-Дону, ул. Извилистая, д. 13/2","Беспалов Г.","Клиент 337","mail@birdyx.ru","79008889900","Яндекс","Завершено","да",4]
[44103,{"$f":"DAY('База заказов'!$A339)","v":29},{"$f":"'База заказов'!$A339","v":"2020-09-29"},{"$f":"YEAR('База заказов'!$A339)","v":2020},"Иванов И.","Демонтаж оконного блока","",37600,0.15,{"$f":"SUM(Table[[#This Row],[Наличн]:[Безнал]])-SUM(Table[[#This Row],[Наличн]:[Безнал]])*Table[[#This Row],[Скидка]]","v":31960},44103,{"$f":"DAY(Table[[#This Row],[Дата визита]])","v":29},{"$f":"MONTH(Table[[#This Row],[Дата визита]])","v":"1900-01-09"},{"$f":"YEAR(Table[[#This Row],[Дата визита]])","v":2020},{"$f":"WEEKNUM(Table[[#This Row],[Дата визита]])","v":40},"17:00:00","Ростов-на-Дону, пер. Братский, д. 36","Белозеров В.","Клиент 338","mail@birdyx.ru","79008889900","Инстаграм","Отмена","да",4]
[44104,{"$f":"DAY('База заказов'!$A340)","v":30},{"$f":"'База заказов'!$A340","v":"2020-09-30"},{"$f":"YEAR('База заказов'!$A340)","v":2020},"Петров В.","Укладка керамической плитки, керамогранита на пол с затиркой","",36600,0.15,{"$f":"SUM(Table[[#This Row],[Наличн]:[Безнал]])-SUM(Table[[#This Row],[Наличн]:[Безнал]])*Table[[#This Row],[Скидка]]","v":31110},44104,{"$f":"DAY(Table[[#This Row],[Дата визита]])","v":30},{"$f":"MONTH(Table[[#This Row],[Дата визита]])","v":"1900-01-09"},{"$f":"YEAR(Table[[#This Row],[Дата визита]])","v":2020},{"$f":"WEEKNUM(Table[[#This Row],[Дата визита]])","v":40},"09:00:00","Ростов-На-Дону, ул. Андрея Сладкова, д. 87","Устинов С.","Клиент 339","mail@birdyx.ru","79008889900","Яндекс","Завершено","да",4]
[44105,{"$f":"DAY('База заказов'!$A341)","v":1},{"$f":"'База заказов'!$A341","v":"2020-10-01"},{"$f":"YEAR('База заказов'!$A341)","v":2020},"Иванов И.","Укладка массивной доски","",19700,0.15,{"$f":"SUM(Table[[#This Row],[Наличн]:[Безнал]])-SUM(Table[[#This Row],[Наличн]:[Безнал]])*Table[[#This Row],[Скидка]]","v":16745},44105,{"$f":"DAY(Table[[#This Row],[Дата визита]])","v":1},{"$f":"MONTH(Table[[#This Row],[Дата визита]])","v":"1900-01-10"},{"$f":"YEAR(Table[[#This Row],[Дата визита]])","v":2020},{"$f":"WEEKNUM(Table[[#This Row],[Дата визита]])","v":40},"11:00:00","Ростов-на-Дону, ул. 339-й Стрелковой Дивизии, д. 33","Минин В.","Клиент 340","mail@birdyx.ru","79008889900","Сайт","Завершено","да",4]
[44106,{"$f":"DAY('База заказов'!$A342)","v":2},{"$f":"'База заказов'!$A342","v":"2020-10-02"},{"$f":"YEAR('База заказов'!$A342)","v":2020},"Гончарова Н.","Нанесение декоративной штукатурки ","",18000,0.15,{"$f":"SUM(Table[[#This Row],[Наличн]:[Безнал]])-SUM(Table[[#This Row],[Наличн]:[Безнал]])*Table[[#This Row],[Скидка]]","v":15300},44106,{"$f":"DAY(Table[[#This Row],[Дата визита]])","v":2},{"$f":"MONTH(Table[[#This Row],[Дата визита]])","v":"1900-01-10"},{"$f":"YEAR(Table[[#This Row],[Дата визита]])","v":2020},{"$f":"WEEKNUM(Table[[#This Row],[Дата визита]])","v":40},"15:00:00","Ростов-на-Дону, Ленина 1","Субботин С.","Клиент 341","mail@birdyx.ru","79008889900","Инстаграм","Завершено","да",4]
[44107,{"$f":"DAY('База заказов'!$A343)","v":3},{"$f":"'База заказов'!$A343","v":"2020-10-03"},{"$f":"YEAR('База заказов'!$A343)","v":2020},"Мишин М.","Укладка массивной доски","",26800,null,{"$f":"SUM(Table[[#This Row],[Наличн]:[Безнал]])-SUM(Table[[#This Row],[Наличн]:[Безнал]])*Table[[#This Row],[Скидка]]","v":26800},44107,{"$f":"DAY(Table[[#This Row],[Дата визита]])","v":3},{"$f":"MONTH(Table[[#This Row],[Дата визита]])","v":"1900-01-10"},{"$f":"YEAR(Table[[#This Row],[Дата визита]])","v":2020},{"$f":"WEEKNUM(Table[[#This Row],[Дата визита]])","v":40},"17:00:00","Ростов-на-Дону, Михаила Нагибина 32","Субботин С.","Клиент 342","mail@birdyx.ru","79008889900","Инстаграм","Завершено","да",5]
[44108,{"$f":"DAY('База заказов'!$A344)","v":4},{"$f":"'База заказов'!$A344","v":"2020-10-04"},{"$f":"YEAR('База заказов'!$A344)","v":2020},"Иванов И.","Демонтаж входной двери","",23200,null,{"$f":"SUM(Table[[#This Row],[Наличн]:[Безнал]])-SUM(Table[[#This Row],[Наличн]:[Безнал]])*Table[[#This Row],[Скидка]]","v":23200},44108,{"$f":"DAY(Table[[#This Row],[Дата визита]])","v":4},{"$f":"MONTH(Table[[#This Row],[Дата визита]])","v":"1900-01-10"},{"$f":"YEAR(Table[[#This Row],[Дата визита]])","v":2020},{"$f":"WEEKNUM(Table[[#This Row],[Дата визита]])","v":41},"10:00:00","Ростов-на-Дону, Михаила Нагибина 32","Белоусов В.","Клиент 343","mail@birdyx.ru","79008889900","Сайт","Завершено","да",5]
[44108,{"$f":"DAY('База заказов'!$A345)","v":4},{"$f":"'База заказов'!$A345","v":"2020-10-04"},{"$f":"YEAR('База заказов'!$A345)","v":2020},"Петров В.","Поклейка обоев ","",10900,null,{"$f":"SUM(Table[[#This Row],[Наличн]:[Безнал]])-SUM(Table[[#This Row],[Наличн]:[Безнал]])*Table[[#This Row],[Скидка]]","v":10900},44108,{"$f":"DAY(Table[[#This Row],[Дата визита]])","v":4},{"$f":"MONTH(Table[[#This Row],[Дата визита]])","v":"1900-01-10"},{"$f":"YEAR(Table[[#This Row],[Дата визита]])","v":2020},{"$f":"WEEKNUM(Table[[#This Row],[Дата визита]])","v":41},"12:00:00","Ростов-на-Дону, ул. Таганрогская, д. 149/1 К 35","Белозеров В.","Клиент 344","mail@birdyx.ru","79008889900","Инстаграм","Завершено","да",3]
[44110,{"$f":"DAY('База заказов'!$A346)","v":6},{"$f":"'База заказов'!$A346","v":"2020-10-06"},{"$f":"YEAR('База заказов'!$A346)","v":2020},"Гончарова Н.","Укладка паркетной доски на клей","",17000,null,{"$f":"SUM(Table[[#This Row],[Наличн]:[Безнал]])-SUM(Table[[#This Row],[Наличн]:[Безнал]])*Table[[#This Row],[Скидка]]","v":17000},44110,{"$f":"DAY(Table[[#This Row],[Дата визита]])","v":6},{"$f":"MONTH(Table[[#This Row],[Дата визита]])","v":"1900-01-10"},{"$f":"YEAR(Table[[#This Row],[Дата визита]])","v":2020},{"$f":"WEEKNUM(Table[[#This Row],[Дата визита]])","v":41},"16:00:00","Ростов-На-Дону, ул. Большая Садовая, д. 115","Беспалов Г.","Клиент 345","mail@birdyx.ru","79008889900","Яндекс","Завершено","да",4]
[44111,{"$f":"DAY('База заказов'!$A347)","v":7},{"$f":"'База заказов'!$A347","v":"2020-10-07"},{"$f":"YEAR('База заказов'!$A347)","v":2020},"Гончарова Н.","Выкройка и монтаж дополнительных углов","",19800,null,{"$f":"SUM(Table[[#This Row],[Наличн]:[Безнал]])-SUM(Table[[#This Row],[Наличн]:[Безнал]])*Table[[#This Row],[Скидка]]","v":19800},44111,{"$f":"DAY(Table[[#This Row],[Дата визита]])","v":7},{"$f":"MONTH(Table[[#This Row],[Дата визита]])","v":"1900-01-10"},{"$f":"YEAR(Table[[#This Row],[Дата визита]])","v":2020},{"$f":"WEEKNUM(Table[[#This Row],[Дата визита]])","v":41},"18:00:00","Ростов-на-Дону, ул. Большая Садовая, д. 69","Белозеров В.","Клиент 346","mail@birdyx.ru","79008889900","По совету","Завершено","да",4]
[44112,{"$f":"DAY('База заказов'!$A348)","v":8},{"$f":"'База заказов'!$A348","v":"2020-10-08"},{"$f":"YEAR('База заказов'!$A348)","v":2020},"Мишин М.","Выкройка и монтаж дополнительных углов","",19300,null,{"$f":"SUM(Table[[#This Row],[Наличн]:[Безнал]])-SUM(Table[[#This Row],[Наличн]:[Безнал]])*Table[[#This Row],[Скидка]]","v":19300},44112,{"$f":"DAY(Table[[#This Row],[Дата визита]])","v":8},{"$f":"MONTH(Table[[#This Row],[Дата визита]])","v":"1900-01-10"},{"$f":"YEAR(Table[[#This Row],[Дата визита]])","v":2020},{"$f":"WEEKNUM(Table[[#This Row],[Дата визита]])","v":41},"10:00:00","Ростов-на-Дону, пер. Университетский, д. 133","Устинов С.","Клиент 347","mail@birdyx.ru","79008889900","Авито","Завершено","да",5]
[44113,{"$f":"DAY('База заказов'!$A349)","v":9},{"$f":"'База заказов'!$A349","v":"2020-10-09"},{"$f":"YEAR('База заказов'!$A349)","v":2020},"Иванов И.","Укладка паркетной доски на клей","",18000,null,{"$f":"SUM(Table[[#This Row],[Наличн]:[Безнал]])-SUM(Table[[#This Row],[Наличн]:[Безнал]])*Table[[#This Row],[Скидка]]","v":18000},44113,{"$f":"DAY(Table[[#This Row],[Дата визита]])","v":9},{"$f":"MONTH(Table[[#This Row],[Дата визита]])","v":"1900-01-10"},{"$f":"YEAR(Table[[#This Row],[Дата визита]])","v":2020},{"$f":"WEEKNUM(Table[[#This Row],[Дата визита]])","v":41},"12:00:00","Ростов-на-Дону, пер. Соборный, д. 26","Минин В.","Клиент 348","mail@birdyx.ru","79008889900","Сайт","Завершено","да",3]
[44114,{"$f":"DAY('База заказов'!$A350)","v":10},{"$f":"'База заказов'!$A350","v":"2020-10-10"},{"$f":"YEAR('База заказов'!$A350)","v":2020},"Петров В.","Нанесение декоративной штукатурки ","",23800,null,{"$f":"SUM(Table[[#This Row],[Наличн]:[Безнал]])-SUM(Table[[#This Row],[Наличн]:[Безнал]])*Table[[#This Row],[Скидка]]","v":23800},44114,{"$f":"DAY(Table[[#This Row],[Дата визита]])","v":10},{"$f":"MONTH(Table[[#This Row],[Дата визита]])","v":"1900-01-10"},{"$f":"YEAR(Table[[#This Row],[Дата визита]])","v":2020},{"$f":"WEEKNUM(Table[[#This Row],[Дата визита]])","v":41},"16:00:00","Ростов-на-Дону, проспект Сиверса, д. 1","Белозеров В.","Клиент 349","mail@birdyx.ru","79008889900","Инстаграм","Завершено","да",2]
[44115,{"$f":"DAY('База заказов'!$A351)","v":11},{"$f":"'База заказов'!$A351","v":"2020-10-11"},{"$f":"YEAR('База заказов'!$A351)","v":2020},"Иванов И.","Монтаж потолочного плинтуса",32400,"",null,{"$f":"SUM(Table[[#This Row],[Наличн]:[Безнал]])-SUM(Table[[#This Row],[Наличн]:[Безнал]])*Table[[#This Row],[Скидка]]","v":32400},44115,{"$f":"DAY(Table[[#This Row],[Дата визита]])","v":11},{"$f":"MONTH(Table[[#This Row],[Дата визита]])","v":"1900-01-10"},{"$f":"YEAR(Table[[#This Row],[Дата визита]])","v":2020},{"$f":"WEEKNUM(Table[[#This Row],[Дата визита]])","v":42},"18:00:00","Ростов-на-Дону, ул. Большая Садовая, д. 105/42","Беспалов Г.","Клиент 350","mail@birdyx.ru","79008889900","Инстаграм","Завершено","да",4]
[44116,{"$f":"DAY('База заказов'!$A352)","v":12},{"$f":"'База заказов'!$A352","v":"2020-10-12"},{"$f":"YEAR('База заказов'!$A352)","v":2020},"Гончарова Н.","Укладка фанеры в 1 слой",29000,"",null,{"$f":"SUM(Table[[#This Row],[Наличн]:[Безнал]])-SUM(Table[[#This Row],[Наличн]:[Безнал]])*Table[[#This Row],[Скидка]]","v":29000},44116,{"$f":"DAY(Table[[#This Row],[Дата визита]])","v":12},{"$f":"MONTH(Table[[#This Row],[Дата визита]])","v":"1900-01-10"},{"$f":"YEAR(Table[[#This Row],[Дата визита]])","v":2020},{"$f":"WEEKNUM(Table[[#This Row],[Дата визита]])","v":42},"10:00:00","Ростов-на-Дону, ул. Максима Горького, д. 149","Шарапов В.","Клиент 351","mail@birdyx.ru","79008889900","Инстаграм","Завершено","да",5]
[44117,{"$f":"DAY('База заказов'!$A353)","v":13},{"$f":"'База заказов'!$A353","v":"2020-10-13"},{"$f":"YEAR('База заказов'!$A353)","v":2020},"Мишин М.","Укладка паркетной доски на клей",26600,"",null,{"$f":"SUM(Table[[#This Row],[Наличн]:[Безнал]])-SUM(Table[[#This Row],[Наличн]:[Безнал]])*Table[[#This Row],[Скидка]]","v":26600},44117,{"$f":"DAY(Table[[#This Row],[Дата визита]])","v":13},{"$f":"MONTH(Table[[#This Row],[Дата визита]])","v":"1900-01-10"},{"$f":"YEAR(Table[[#This Row],[Дата визита]])","v":2020},{"$f":"WEEKNUM(Table[[#This Row],[Дата визита]])","v":42},"12:00:00","Ростов-на-Дону, проспект Буденновский, д. 97","Белоусов В.","Клиент 352","mail@birdyx.ru","79008889900","Сайт","Завершено","да",5]
[44118,{"$f":"DAY('База заказов'!$A354)","v":14},{"$f":"'База заказов'!$A354","v":"2020-10-14"},{"$f":"YEAR('База заказов'!$A354)","v":2020},"Иванов И.","Нанесение декоративной штукатурки ",null,27300,null,{"$f":"SUM(Table[[#This Row],[Наличн]:[Безнал]])-SUM(Table[[#This Row],[Наличн]:[Безнал]])*Table[[#This Row],[Скидка]]","v":27300},44118,{"$f":"DAY(Table[[#This Row],[Дата визита]])","v":14},{"$f":"MONTH(Table[[#This Row],[Дата визита]])","v":"1900-01-10"},{"$f":"YEAR(Table[[#This Row],[Дата визита]])","v":2020},{"$f":"WEEKNUM(Table[[#This Row],[Дата визита]])","v":42},"16:00:00","Ростов-на-Дону, ул. Советская, д. 26/1","Шарапов В.","Клиент 353","mail@birdyx.ru","79008889900","Сайт","Завершено","да",5]
[44119,{"$f":"DAY('База заказов'!$A355)","v":15},{"$f":"'База заказов'!$A355","v":"2020-10-15"},{"$f":"YEAR('База заказов'!$A355)","v":2020},"Иванов И.","Монтаж потолочного плинтуса",null,29400,null,{"$f":"SUM(Table[[#This Row],[Наличн]:[Безнал]])-SUM(Table[[#This Row],[Наличн]:[Безнал]])*Table[[#This Row],[Скидка]]","v":29400},44121,{"$f":"DAY(Table[[#This Row],[Дата визита]])","v":17},{"$f":"MONTH(Table[[#This Row],[Дата визита]])","v":"1900-01-10"},{"$f":"YEAR(Table[[#This Row],[Дата визита]])","v":2020},{"$f":"WEEKNUM(Table[[#This Row],[Дата визита]])","v":42},"18:00:00","Ростов-на-Дону, ул. Мечникова, д. 43","Белоусов В.","Клиент 354","mail@birdyx.ru","79008889900","Авито","Завершено","да",5]
[44120,{"$f":"DAY('База заказов'!$A356)","v":16},{"$f":"'База заказов'!$A356","v":"2020-10-16"},{"$f":"YEAR('База заказов'!$A356)","v":2020},"Петров В.","Укладка фанеры в 1 слой",null,37200,null,{"$f":"SUM(Table[[#This Row],[Наличн]:[Безнал]])-SUM(Table[[#This Row],[Наличн]:[Безнал]])*Table[[#This Row],[Скидка]]","v":37200},44121,{"$f":"DAY(Table[[#This Row],[Дата визита]])","v":17},{"$f":"MONTH(Table[[#This Row],[Дата визита]])","v":"1900-01-10"},{"$f":"YEAR(Table[[#This Row],[Дата визита]])","v":2020},{"$f":"WEEKNUM(Table[[#This Row],[Дата визита]])","v":42},"10:00:00","Ростов-на-Дону, пер. Островского, д. 47","Беспалов Г.","Клиент 355","mail@birdyx.ru","79008889900","Сайт","Завершено","да",5]
[44121,{"$f":"DAY('База заказов'!$A357)","v":17},{"$f":"'База заказов'!$A357","v":"2020-10-17"},{"$f":"YEAR('База заказов'!$A357)","v":2020},"Иванов И.","Укладка кварцвиниловой плитки на подложку",null,17700,null,{"$f":"SUM(Table[[#This Row],[Наличн]:[Безнал]])-SUM(Table[[#This Row],[Наличн]:[Безнал]])*Table[[#This Row],[Скидка]]","v":17700},44121,{"$f":"DAY(Table[[#This Row],[Дата визита]])","v":17},{"$f":"MONTH(Table[[#This Row],[Дата визита]])","v":"1900-01-10"},{"$f":"YEAR(Table[[#This Row],[Дата визита]])","v":2020},{"$f":"WEEKNUM(Table[[#This Row],[Дата визита]])","v":42},"12:00:00","Ростов-на-Дону, ул. Пушкинская, д. 225","Минин В.","Клиент 356","mail@birdyx.ru","79008889900","По совету","Завершено","да",5]
[44122,{"$f":"DAY('База заказов'!$A358)","v":18},{"$f":"'База заказов'!$A358","v":"2020-10-18"},{"$f":"YEAR('База заказов'!$A358)","v":2020},"Гончарова Н.","Демонтаж раковины",null,10100,null,{"$f":"SUM(Table[[#This Row],[Наличн]:[Безнал]])-SUM(Table[[#This Row],[Наличн]:[Безнал]])*Table[[#This Row],[Скидка]]","v":10100},44122,{"$f":"DAY(Table[[#This Row],[Дата визита]])","v":18},{"$f":"MONTH(Table[[#This Row],[Дата визита]])","v":"1900-01-10"},{"$f":"YEAR(Table[[#This Row],[Дата визита]])","v":2020},{"$f":"WEEKNUM(Table[[#This Row],[Дата визита]])","v":43},"16:00:00","Ростов-На-Дону, ул. Ченцова, д. 57/81","Субботин С.","Клиент 357","mail@birdyx.ru","79008889900","Яндекс","Завершено","да",4]
[44123,{"$f":"DAY('База заказов'!$A359)","v":19},{"$f":"'База заказов'!$A359","v":"2020-10-19"},{"$f":"YEAR('База заказов'!$A359)","v":2020},"Мишин М.","Демонтаж входной двери",null,6100,null,{"$f":"SUM(Table[[#This Row],[Наличн]:[Безнал]])-SUM(Table[[#This Row],[Наличн]:[Безнал]])*Table[[#This Row],[Скидка]]","v":6100},44123,{"$f":"DAY(Table[[#This Row],[Дата визита]])","v":19},{"$f":"MONTH(Table[[#This Row],[Дата визита]])","v":"1900-01-10"},{"$f":"YEAR(Table[[#This Row],[Дата визита]])","v":2020},{"$f":"WEEKNUM(Table[[#This Row],[Дата визита]])","v":43},"18:00:00","Ростов-на-Дону, ул. Текучева, д. 135","Субботин С.","Клиент 358","mail@birdyx.ru","79008889900","Инстаграм","Завершено","да",4]
[44124,{"$f":"DAY('База заказов'!$A360)","v":20},{"$f":"'База заказов'!$A360","v":"2020-10-20"},{"$f":"YEAR('База заказов'!$A360)","v":2020},"Иванов И.","Укладка кварцвиниловой плитки на клей",null,18600,0.15,{"$f":"SUM(Table[[#This Row],[Наличн]:[Безнал]])-SUM(Table[[#This Row],[Наличн]:[Безнал]])*Table[[#This Row],[Скидка]]","v":15810},44124,{"$f":"DAY(Table[[#This Row],[Дата визита]])","v":20},{"$f":"MONTH(Table[[#This Row],[Дата визита]])","v":"1900-01-10"},{"$f":"YEAR(Table[[#This Row],[Дата визита]])","v":2020},{"$f":"WEEKNUM(Table[[#This Row],[Дата визита]])","v":43},"10:00:00","Ростов-на-Дону, пер. Газетный, д. 99","Белоусов В.","Клиент 359","mail@birdyx.ru","79008889900","Яндекс","Завершено","да",4]
[44125,{"$f":"DAY('База заказов'!$A361)","v":21},{"$f":"'База заказов'!$A361","v":"2020-10-21"},{"$f":"YEAR('База заказов'!$A361)","v":2020},"Петров В.","Укладка паркетной доски на клей",null,38300,0.15,{"$f":"SUM(Table[[#This Row],[Наличн]:[Безнал]])-SUM(Table[[#This Row],[Наличн]:[Безнал]])*Table[[#This Row],[Скидка]]","v":32555},44125,{"$f":"DAY(Table[[#This Row],[Дата визита]])","v":21},{"$f":"MONTH(Table[[#This Row],[Дата визита]])","v":"1900-01-10"},{"$f":"YEAR(Table[[#This Row],[Дата визита]])","v":2020},{"$f":"WEEKNUM(Table[[#This Row],[Дата визита]])","v":43},"12:00:00","Ростов-на-Дону, проспект Кировский, д. 90","Белозеров В.","Клиент 360","mail@birdyx.ru","79008889900","Сайт","Завершено","да",4]
[44126,{"$f":"DAY('База заказов'!$A362)","v":22},{"$f":"'База заказов'!$A362","v":"2020-10-22"},{"$f":"YEAR('База заказов'!$A362)","v":2020},"Гончарова Н.","Укладка кварцвиниловой плитки на подложку",null,7600,0.15,{"$f":"SUM(Table[[#This Row],[Наличн]:[Безнал]])-SUM(Table[[#This Row],[Наличн]:[Безнал]])*Table[[#This Row],[Скидка]]","v":6460},44126,{"$f":"DAY(Table[[#This Row],[Дата визита]])","v":22},{"$f":"MONTH(Table[[#This Row],[Дата визита]])","v":"1900-01-10"},{"$f":"YEAR(Table[[#This Row],[Дата визита]])","v":2020},{"$f":"WEEKNUM(Table[[#This Row],[Дата визита]])","v":43},"16:00:00","Ростов-на-Дону, ул. 14 Линия, д. 14","Беспалов Г.","Клиент 361","mail@birdyx.ru","79008889900","Инстаграм","Завершено","да",4]
[44127,{"$f":"DAY('База заказов'!$A363)","v":23},{"$f":"'База заказов'!$A363","v":"2020-10-23"},{"$f":"YEAR('База заказов'!$A363)","v":2020},"Гончарова Н.","Укладка паркетной доски на подложку",null,26200,0.15,{"$f":"SUM(Table[[#This Row],[Наличн]:[Безнал]])-SUM(Table[[#This Row],[Наличн]:[Безнал]])*Table[[#This Row],[Скидка]]","v":22270},44127,{"$f":"DAY(Table[[#This Row],[Дата визита]])","v":23},{"$f":"MONTH(Table[[#This Row],[Дата визита]])","v":"1900-01-10"},{"$f":"YEAR(Table[[#This Row],[Дата визита]])","v":2020},{"$f":"WEEKNUM(Table[[#This Row],[Дата визита]])","v":43},"18:00:00","Ростов-на-Дону, ул. Береговая, д. 30","Белозеров В.","Клиент 362","mail@birdyx.ru","79008889900","Инстаграм","Завершено","да",4]
[44128,{"$f":"DAY('База заказов'!$A364)","v":24},{"$f":"'База заказов'!$A364","v":"2020-10-24"},{"$f":"YEAR('База заказов'!$A364)","v":2020},"Иванов И.","Укладка массивной доски",null,37000,null,{"$f":"SUM(Table[[#This Row],[Наличн]:[Безнал]])-SUM(Table[[#This Row],[Наличн]:[Безнал]])*Table[[#This Row],[Скидка]]","v":37000},44128,{"$f":"DAY(Table[[#This Row],[Дата визита]])","v":24},{"$f":"MONTH(Table[[#This Row],[Дата визита]])","v":"1900-01-10"},{"$f":"YEAR(Table[[#This Row],[Дата визита]])","v":2020},{"$f":"WEEKNUM(Table[[#This Row],[Дата визита]])","v":43},"10:00:00","Ростов-на-Дону, ул. Большая Садовая, д. 77","Устинов С.","Клиент 363","mail@birdyx.ru","79008889900","Сайт","Завершено","да",4]
[44128,{"$f":"DAY('База заказов'!$A365)","v":24},{"$f":"'База заказов'!$A365","v":"2020-10-24"},{"$f":"YEAR('База заказов'!$A365)","v":2020},"Петров В.","Монтаж потолочного плинтуса",null,15700,null,{"$f":"SUM(Table[[#This Row],[Наличн]:[Безнал]])-SUM(Table[[#This Row],[Наличн]:[Безнал]])*Table[[#This Row],[Скидка]]","v":15700},44128,{"$f":"DAY(Table[[#This Row],[Дата визита]])","v":24},{"$f":"MONTH(Table[[#This Row],[Дата визита]])","v":"1900-01-10"},{"$f":"YEAR(Table[[#This Row],[Дата визита]])","v":2020},{"$f":"WEEKNUM(Table[[#This Row],[Дата визита]])","v":43},"12:00:00","Ростов-на-Дону, ул. 6-я линия, д. 4","Минин В.","Клиент 364","mail@birdyx.ru","79008889900","Сайт","Завершено","да",4]
[44130,{"$f":"DAY('База заказов'!$A366)","v":26},{"$f":"'База заказов'!$A366","v":"2020-10-26"},{"$f":"YEAR('База заказов'!$A366)","v":2020},"Иванов И.","Укладка массивной доски",null,12000,null,{"$f":"SUM(Table[[#This Row],[Наличн]:[Безнал]])-SUM(Table[[#This Row],[Наличн]:[Безнал]])*Table[[#This Row],[Скидка]]","v":12000},44130,{"$f":"DAY(Table[[#This Row],[Дата визита]])","v":26},{"$f":"MONTH(Table[[#This Row],[Дата визита]])","v":"1900-01-10"},{"$f":"YEAR(Table[[#This Row],[Дата визита]])","v":2020},{"$f":"WEEKNUM(Table[[#This Row],[Дата визита]])","v":44},"16:00:00","Ростов-на-Дону, ул. Гагринская, д. 46","Субботин С.","Клиент 365","mail@birdyx.ru","79008889900","Инстаграм","Завершено","да",4]
[44131,{"$f":"DAY('База заказов'!$A367)","v":27},{"$f":"'База заказов'!$A367","v":"2020-10-27"},{"$f":"YEAR('База заказов'!$A367)","v":2020},"Гончарова Н.","Монтаж потолочного плинтуса",null,31500,null,{"$f":"SUM(Table[[#This Row],[Наличн]:[Безнал]])-SUM(Table[[#This Row],[Наличн]:[Безнал]])*Table[[#This Row],[Скидка]]","v":31500},44131,{"$f":"DAY(Table[[#This Row],[Дата визита]])","v":27},{"$f":"MONTH(Table[[#This Row],[Дата визита]])","v":"1900-01-10"},{"$f":"YEAR(Table[[#This Row],[Дата визита]])","v":2020},{"$f":"WEEKNUM(Table[[#This Row],[Дата визита]])","v":44},"18:00:00","Ростов-на-Дону, ул. Вятская, д. 37/1","Субботин С.","Клиент 366","mail@birdyx.ru","79008889900","Инстаграм","Завершено","да",4]
[44132,{"$f":"DAY('База заказов'!$A368)","v":28},{"$f":"'База заказов'!$A368","v":"2020-10-28"},{"$f":"YEAR('База заказов'!$A368)","v":2020},"Мишин М.","Выкройка и монтаж дополнительных углов",18800,null,null,{"$f":"SUM(Table[[#This Row],[Наличн]:[Безнал]])-SUM(Table[[#This Row],[Наличн]:[Безнал]])*Table[[#This Row],[Скидка]]","v":18800},44132,{"$f":"DAY(Table[[#This Row],[Дата визита]])","v":28},{"$f":"MONTH(Table[[#This Row],[Дата визита]])","v":"1900-01-10"},{"$f":"YEAR(Table[[#This Row],[Дата визита]])","v":2020},{"$f":"WEEKNUM(Table[[#This Row],[Дата визита]])","v":44},"10:00:00","Ростов-на-Дону, ул. Станиславского, д. 58","Белоусов В.","Клиент 367","mail@birdyx.ru","79008889900","Инстаграм","Завершено","да",4]
[44133,{"$f":"DAY('База заказов'!$A369)","v":29},{"$f":"'База заказов'!$A369","v":"2020-10-29"},{"$f":"YEAR('База заказов'!$A369)","v":2020},"Иванов И.","Укладка паркетной доски на подложку",29400,null,null,{"$f":"SUM(Table[[#This Row],[Наличн]:[Безнал]])-SUM(Table[[#This Row],[Наличн]:[Безнал]])*Table[[#This Row],[Скидка]]","v":29400},44133,{"$f":"DAY(Table[[#This Row],[Дата визита]])","v":29},{"$f":"MONTH(Table[[#This Row],[Дата визита]])","v":"1900-01-10"},{"$f":"YEAR(Table[[#This Row],[Дата визита]])","v":2020},{"$f":"WEEKNUM(Table[[#This Row],[Дата визита]])","v":44},"12:00:00","Ростов-на-Дону, пер. Нефтяной, д. 4 А","Белозеров В.","Клиент 368","mail@birdyx.ru","79008889900","Сайт","Завершено","да",4]
[44134,{"$f":"DAY('База заказов'!$A370)","v":30},{"$f":"'База заказов'!$A370","v":"2020-10-30"},{"$f":"YEAR('База заказов'!$A370)","v":2020},"Петров В.","Демонтаж балконного блока",null,7100,null,{"$f":"SUM(Table[[#This Row],[Наличн]:[Безнал]])-SUM(Table[[#This Row],[Наличн]:[Безнал]])*Table[[#This Row],[Скидка]]","v":7100},44134,{"$f":"DAY(Table[[#This Row],[Дата визита]])","v":30},{"$f":"MONTH(Table[[#This Row],[Дата визита]])","v":"1900-01-10"},{"$f":"YEAR(Table[[#This Row],[Дата визита]])","v":2020},{"$f":"WEEKNUM(Table[[#This Row],[Дата визита]])","v":44},"16:00:00","Ростов-на-Дону, ул. Станиславского, д. 167/25","Беспалов Г.","Клиент 369","mail@birdyx.ru","79008889900","Сайт","Завершено","да",5]
[44135,{"$f":"DAY('База заказов'!$A371)","v":31},{"$f":"'База заказов'!$A371","v":"2020-10-31"},{"$f":"YEAR('База заказов'!$A371)","v":2020},"Гончарова Н.","Укладка паркетной доски на клей",null,28000,null,{"$f":"SUM(Table[[#This Row],[Наличн]:[Безнал]])-SUM(Table[[#This Row],[Наличн]:[Безнал]])*Table[[#This Row],[Скидка]]","v":28000},44135,{"$f":"DAY(Table[[#This Row],[Дата визита]])","v":31},{"$f":"MONTH(Table[[#This Row],[Дата визита]])","v":"1900-01-10"},{"$f":"YEAR(Table[[#This Row],[Дата визита]])","v":2020},{"$f":"WEEKNUM(Table[[#This Row],[Дата визита]])","v":44},"18:00:00","Ростов-на-Дону, проспект Соколова, д. 85","Белозеров В.","Клиент 370","mail@birdyx.ru","79008889900","Авито","Завершено","да",4]
[44136,{"$f":"DAY('База заказов'!$A372)","v":1},{"$f":"'База заказов'!$A372","v":"2020-11-01"},{"$f":"YEAR('База заказов'!$A372)","v":2020},"Иванов И.","Укладка массивной доски",null,10700,null,{"$f":"SUM(Table[[#This Row],[Наличн]:[Безнал]])-SUM(Table[[#This Row],[Наличн]:[Безнал]])*Table[[#This Row],[Скидка]]","v":10700},44136,{"$f":"DAY(Table[[#This Row],[Дата визита]])","v":1},{"$f":"MONTH(Table[[#This Row],[Дата визита]])","v":"1900-01-11"},{"$f":"YEAR(Table[[#This Row],[Дата визита]])","v":2020},{"$f":"WEEKNUM(Table[[#This Row],[Дата визита]])","v":45},"10:00:00","Ростов-на-Дону, ул. Московская, д. 80","Устинов С.","Клиент 371","mail@birdyx.ru","79008889900","Сайт","Завершено","да",4]
[44137,{"$f":"DAY('База заказов'!$A373)","v":2},{"$f":"'База заказов'!$A373","v":"2020-11-02"},{"$f":"YEAR('База заказов'!$A373)","v":2020},"Петров В.","Монтаж потолочного плинтуса",null,33000,null,{"$f":"SUM(Table[[#This Row],[Наличн]:[Безнал]])-SUM(Table[[#This Row],[Наличн]:[Безнал]])*Table[[#This Row],[Скидка]]","v":33000},44137,{"$f":"DAY(Table[[#This Row],[Дата визита]])","v":2},{"$f":"MONTH(Table[[#This Row],[Дата визита]])","v":"1900-01-11"},{"$f":"YEAR(Table[[#This Row],[Дата визита]])","v":2020},{"$f":"WEEKNUM(Table[[#This Row],[Дата визита]])","v":45},"12:00:00","Ростов-на-Дону, ул. Текучева, д. 151/2","Минин В.","Клиент 372","mail@birdyx.ru","79008889900","По совету","Завершено","да",4]
[44138,{"$f":"DAY('База заказов'!$A374)","v":3},{"$f":"'База заказов'!$A374","v":"2020-11-03"},{"$f":"YEAR('База заказов'!$A374)","v":2020},"Иванов И.","Демонтаж душевого поддона",null,40000,null,{"$f":"SUM(Table[[#This Row],[Наличн]:[Безнал]])-SUM(Table[[#This Row],[Наличн]:[Безнал]])*Table[[#This Row],[Скидка]]","v":40000},44138,{"$f":"DAY(Table[[#This Row],[Дата визита]])","v":3},{"$f":"MONTH(Table[[#This Row],[Дата визита]])","v":"1900-01-11"},{"$f":"YEAR(Table[[#This Row],[Дата визита]])","v":2020},{"$f":"WEEKNUM(Table[[#This Row],[Дата визита]])","v":45},"16:00:00","Ростов-На-Дону, ул. Тургеневская, д. 73","Субботин С.","Клиент 373","mail@birdyx.ru","79008889900","Яндекс","Завершено","да",4]
[44139,{"$f":"DAY('База заказов'!$A375)","v":4},{"$f":"'База заказов'!$A375","v":"2020-11-04"},{"$f":"YEAR('База заказов'!$A375)","v":2020},"Гончарова Н.","Демонтаж душевой кабины",null,34800,0.15,{"$f":"SUM(Table[[#This Row],[Наличн]:[Безнал]])-SUM(Table[[#This Row],[Наличн]:[Безнал]])*Table[[#This Row],[Скидка]]","v":29580},44139,{"$f":"DAY(Table[[#This Row],[Дата визита]])","v":4},{"$f":"MONTH(Table[[#This Row],[Дата визита]])","v":"1900-01-11"},{"$f":"YEAR(Table[[#This Row],[Дата визита]])","v":2020},{"$f":"WEEKNUM(Table[[#This Row],[Дата визита]])","v":45},"18:00:00","Ростов-на-Дону, бульвар Комарова, д. 20/1","Белоусов В.","Клиент 374","mail@birdyx.ru","79008889900","Инстаграм","Завершено","да",5]
[44140,{"$f":"DAY('База заказов'!$A376)","v":5},{"$f":"'База заказов'!$A376","v":"2020-11-05"},{"$f":"YEAR('База заказов'!$A376)","v":2020},"Мишин М.","Установка порожка",null,25300,null,{"$f":"SUM(Table[[#This Row],[Наличн]:[Безнал]])-SUM(Table[[#This Row],[Наличн]:[Безнал]])*Table[[#This Row],[Скидка]]","v":25300},44140,{"$f":"DAY(Table[[#This Row],[Дата визита]])","v":5},{"$f":"MONTH(Table[[#This Row],[Дата визита]])","v":"1900-01-11"},{"$f":"YEAR(Table[[#This Row],[Дата визита]])","v":2020},{"$f":"WEEKNUM(Table[[#This Row],[Дата визита]])","v":45},"09:00:00","Ростов-на-Дону, ул. Пушкинская, д. 225/41/224","Белозеров В.","Клиент 375","mail@birdyx.ru","79008889900","Яндекс","Завершено","да",5]
[44141,{"$f":"DAY('База заказов'!$A377)","v":6},{"$f":"'База заказов'!$A377","v":"2020-11-06"},{"$f":"YEAR('База заказов'!$A377)","v":2020},"Иванов И.","Демонтаж оконного блока",8500,null,null,{"$f":"SUM(Table[[#This Row],[Наличн]:[Безнал]])-SUM(Table[[#This Row],[Наличн]:[Безнал]])*Table[[#This Row],[Скидка]]","v":8500},44141,{"$f":"DAY(Table[[#This Row],[Дата визита]])","v":6},{"$f":"MONTH(Table[[#This Row],[Дата визита]])","v":"1900-01-11"},{"$f":"YEAR(Table[[#This Row],[Дата визита]])","v":2020},{"$f":"WEEKNUM(Table[[#This Row],[Дата визита]])","v":45},"11:00:00","Ростов-На-Дону, ул. Пушкинская, д. 1/36","Беспалов Г.","Клиент 376","mail@birdyx.ru","79008889900","Сайт","Завершено","да",3]
[44142,{"$f":"DAY('База заказов'!$A378)","v":7},{"$f":"'База заказов'!$A378","v":"2020-11-07"},{"$f":"YEAR('База заказов'!$A378)","v":2020},"Петров В.","Укладка керамической плитки, керамогранита на пол с затиркой",39000,null,null,{"$f":"SUM(Table[[#This Row],[Наличн]:[Безнал]])-SUM(Table[[#This Row],[Наличн]:[Безнал]])*Table[[#This Row],[Скидка]]","v":39000},44142,{"$f":"DAY(Table[[#This Row],[Дата визита]])","v":7},{"$f":"MONTH(Table[[#This Row],[Дата визита]])","v":"1900-01-11"},{"$f":"YEAR(Table[[#This Row],[Дата визита]])","v":2020},{"$f":"WEEKNUM(Table[[#This Row],[Дата визита]])","v":45},"15:00:00","Ростов-на-Дону, пер. Газетный, д. 92/85","Белозеров В.","Клиент 377","mail@birdyx.ru","79008889900","Инстаграм","Завершено","да",4]
[44143,{"$f":"DAY('База заказов'!$A379)","v":8},{"$f":"'База заказов'!$A379","v":"2020-11-08"},{"$f":"YEAR('База заказов'!$A379)","v":2020},"Гончарова Н.","Демонтаж входной двери",null,6400,null,{"$f":"SUM(Table[[#This Row],[Наличн]:[Безнал]])-SUM(Table[[#This Row],[Наличн]:[Безнал]])*Table[[#This Row],[Скидка]]","v":6400},44143,{"$f":"DAY(Table[[#This Row],[Дата визита]])","v":8},{"$f":"MONTH(Table[[#This Row],[Дата визита]])","v":"1900-01-11"},{"$f":"YEAR(Table[[#This Row],[Дата визита]])","v":2020},{"$f":"WEEKNUM(Table[[#This Row],[Дата визита]])","v":46},"17:00:00","Ростов-на-Дону, проспект Буденновский, д. 106/2","Устинов С.","Клиент 378","mail@birdyx.ru","79008889900","Инстаграм","Завершено","да",4]
[44144,{"$f":"DAY('База заказов'!$A380)","v":9},{"$f":"'База заказов'!$A380","v":"2020-11-09"},{"$f":"YEAR('База заказов'!$A380)","v":2020},"Гончарова Н.","Нанесение декоративной штукатурки ",null,13900,null,{"$f":"SUM(Table[[#This Row],[Наличн]:[Безнал]])-SUM(Table[[#This Row],[Наличн]:[Безнал]])*Table[[#This Row],[Скидка]]","v":13900},44144,{"$f":"DAY(Table[[#This Row],[Дата визита]])","v":9},{"$f":"MONTH(Table[[#This Row],[Дата визита]])","v":"1900-01-11"},{"$f":"YEAR(Table[[#This Row],[Дата визита]])","v":2020},{"$f":"WEEKNUM(Table[[#This Row],[Дата визита]])","v":46},"09:00:00","Ростов-на-Дону, ул. Пушкинская, д. 104/32","Белозеров В.","Клиент 379","mail@birdyx.ru","79008889900","Сайт","Завершено","да",5]
[44145,{"$f":"DAY('База заказов'!$A381)","v":10},{"$f":"'База заказов'!$A381","v":"2020-11-10"},{"$f":"YEAR('База заказов'!$A381)","v":2020},"Мишин М.","Укладка массивной доски",null,32600,null,{"$f":"SUM(Table[[#This Row],[Наличн]:[Безнал]])-SUM(Table[[#This Row],[Наличн]:[Безнал]])*Table[[#This Row],[Скидка]]","v":32600},44145,{"$f":"DAY(Table[[#This Row],[Дата визита]])","v":10},{"$f":"MONTH(Table[[#This Row],[Дата визита]])","v":"1900-01-11"},{"$f":"YEAR(Table[[#This Row],[Дата визита]])","v":2020},{"$f":"WEEKNUM(Table[[#This Row],[Дата визита]])","v":46},"11:00:00","Ростов-на-Дону, ул. Республиканская, д. 1/8","Беспалов Г.","Клиент 380","mail@birdyx.ru","79008889900","Инстаграм","Завершено","да",3]
[44146,{"$f":"DAY('База заказов'!$A382)","v":11},{"$f":"'База заказов'!$A382","v":"2020-11-11"},{"$f":"YEAR('База заказов'!$A382)","v":2020},"Иванов И.","Нанесение декоративной штукатурки ",null,10100,null,{"$f":"SUM(Table[[#This Row],[Наличн]:[Безнал]])-SUM(Table[[#This Row],[Наличн]:[Безнал]])*Table[[#This Row],[Скидка]]","v":10100},44146,{"$f":"DAY(Table[[#This Row],[Дата визита]])","v":11},{"$f":"MONTH(Table[[#This Row],[Дата визита]])","v":"1900-01-11"},{"$f":"YEAR(Table[[#This Row],[Дата визита]])","v":2020},{"$f":"WEEKNUM(Table[[#This Row],[Дата визита]])","v":46},"15:00:00","Ростов-на-Дону, ул. Красноармейская, д. 33","Шарапов В.","Клиент 381","mail@birdyx.ru","79008889900","Яндекс","Завершено","да",2]
[44147,{"$f":"DAY('База заказов'!$A383)","v":12},{"$f":"'База заказов'!$A383","v":"2020-11-12"},{"$f":"YEAR('База заказов'!$A383)","v":2020},"Петров В.","Поклейка обоев ",null,15000,0.15,{"$f":"SUM(Table[[#This Row],[Наличн]:[Безнал]])-SUM(Table[[#This Row],[Наличн]:[Безнал]])*Table[[#This Row],[Скидка]]","v":12750},44147,{"$f":"DAY(Table[[#This Row],[Дата визита]])","v":12},{"$f":"MONTH(Table[[#This Row],[Дата визита]])","v":"1900-01-11"},{"$f":"YEAR(Table[[#This Row],[Дата визита]])","v":2020},{"$f":"WEEKNUM(Table[[#This Row],[Дата визита]])","v":46},"17:00:00","Ростов-на-Дону, ул. Максима Горького, д. 11/43","Белоусов В.","Клиент 382","mail@birdyx.ru","79008889900","По совету","Отмена","да",4]
[44148,{"$f":"DAY('База заказов'!$A384)","v":13},{"$f":"'База заказов'!$A384","v":"2020-11-13"},{"$f":"YEAR('База заказов'!$A384)","v":2020},"Иванов И.","Укладка паркетной доски на клей",null,34900,null,{"$f":"SUM(Table[[#This Row],[Наличн]:[Безнал]])-SUM(Table[[#This Row],[Наличн]:[Безнал]])*Table[[#This Row],[Скидка]]","v":34900},44148,{"$f":"DAY(Table[[#This Row],[Дата визита]])","v":13},{"$f":"MONTH(Table[[#This Row],[Дата визита]])","v":"1900-01-11"},{"$f":"YEAR(Table[[#This Row],[Дата визита]])","v":2020},{"$f":"WEEKNUM(Table[[#This Row],[Дата визита]])","v":46},"09:00:00","Ростов-на-Дону, ул. Алма-Атинская, д. 29/2 А","Шарапов В.","Клиент 383","mail@birdyx.ru","79008889900","Авито","Завершено","да",5]
[44149,{"$f":"DAY('База заказов'!$A385)","v":14},{"$f":"'База заказов'!$A385","v":"2020-11-14"},{"$f":"YEAR('База заказов'!$A385)","v":2020},"Гончарова Н.","Выкройка и монтаж дополнительных углов",null,23600,null,{"$f":"SUM(Table[[#This Row],[Наличн]:[Безнал]])-SUM(Table[[#This Row],[Наличн]:[Безнал]])*Table[[#This Row],[Скидка]]","v":23600},44149,{"$f":"DAY(Table[[#This Row],[Дата визита]])","v":14},{"$f":"MONTH(Table[[#This Row],[Дата визита]])","v":"1900-01-11"},{"$f":"YEAR(Table[[#This Row],[Дата визита]])","v":2020},{"$f":"WEEKNUM(Table[[#This Row],[Дата визита]])","v":46},"11:00:00","Ростов-на-Дону, ул. Малиновского, д. 68/1","Белоусов В.","Клиент 384","mail@birdyx.ru","79008889900","Сайт","Завершено","да",5]
[44150,{"$f":"DAY('База заказов'!$A386)","v":15},{"$f":"'База заказов'!$A386","v":"2020-11-15"},{"$f":"YEAR('База заказов'!$A386)","v":2020},"Мишин М.","Демонтаж входной двери",null,6700,null,{"$f":"SUM(Table[[#This Row],[Наличн]:[Безнал]])-SUM(Table[[#This Row],[Наличн]:[Безнал]])*Table[[#This Row],[Скидка]]","v":6700},44150,{"$f":"DAY(Table[[#This Row],[Дата визита]])","v":15},{"$f":"MONTH(Table[[#This Row],[Дата визита]])","v":"1900-01-11"},{"$f":"YEAR(Table[[#This Row],[Дата визита]])","v":2020},{"$f":"WEEKNUM(Table[[#This Row],[Дата визита]])","v":47},"15:00:00","Ростов-на-Дону, ул. Береговая, д. 5","Беспалов Г.","Клиент 385","mail@birdyx.ru","79008889900","Сайт","Завершено","да",5]
[44151,{"$f":"DAY('База заказов'!$A387)","v":16},{"$f":"'База заказов'!$A387","v":"2020-11-16"},{"$f":"YEAR('База заказов'!$A387)","v":2020},"Иванов И.","Укладка паркетной доски на клей",null,10400,null,{"$f":"SUM(Table[[#This Row],[Наличн]:[Безнал]])-SUM(Table[[#This Row],[Наличн]:[Безнал]])*Table[[#This Row],[Скидка]]","v":10400},44151,{"$f":"DAY(Table[[#This Row],[Дата визита]])","v":16},{"$f":"MONTH(Table[[#This Row],[Дата визита]])","v":"1900-01-11"},{"$f":"YEAR(Table[[#This Row],[Дата визита]])","v":2020},{"$f":"WEEKNUM(Table[[#This Row],[Дата визита]])","v":47},"17:00:00","Ростов-на-Дону, пл. Гагарина, д. 1","Минин В.","Клиент 386","mail@birdyx.ru","79008889900","Сайт","Завершено","да",5]
[44151,{"$f":"DAY('База заказов'!$A388)","v":16},{"$f":"'База заказов'!$A388","v":"2020-11-16"},{"$f":"YEAR('База заказов'!$A388)","v":2020},"Петров В.","Нанесение декоративной штукатурки ",null,15000,0.15,{"$f":"SUM(Table[[#This Row],[Наличн]:[Безнал]])-SUM(Table[[#This Row],[Наличн]:[Безнал]])*Table[[#This Row],[Скидка]]","v":12750},44151,{"$f":"DAY(Table[[#This Row],[Дата визита]])","v":16},{"$f":"MONTH(Table[[#This Row],[Дата визита]])","v":"1900-01-11"},{"$f":"YEAR(Table[[#This Row],[Дата визита]])","v":2020},{"$f":"WEEKNUM(Table[[#This Row],[Дата визита]])","v":47},"09:00:00","Ростов-на-Дону, ул. Механизаторов, д. 6А","Субботин С.","Клиент 387","mail@birdyx.ru","79008889900","Сайт","Завершено","да",5]
[44153,{"$f":"DAY('База заказов'!$A389)","v":18},{"$f":"'База заказов'!$A389","v":"2020-11-18"},{"$f":"YEAR('База заказов'!$A389)","v":2020},"Гончарова Н.","Монтаж потолочного плинтуса",null,24800,null,{"$f":"SUM(Table[[#This Row],[Наличн]:[Безнал]])-SUM(Table[[#This Row],[Наличн]:[Безнал]])*Table[[#This Row],[Скидка]]","v":24800},44153,{"$f":"DAY(Table[[#This Row],[Дата визита]])","v":18},{"$f":"MONTH(Table[[#This Row],[Дата визита]])","v":"1900-01-11"},{"$f":"YEAR(Table[[#This Row],[Дата визита]])","v":2020},{"$f":"WEEKNUM(Table[[#This Row],[Дата визита]])","v":47},"11:00:00","Ростов-На-Дону, проспект Буденновский, д. 3/3","Субботин С.","Клиент 388","mail@birdyx.ru","79008889900","Сайт","Завершено","да",5]
[44154,{"$f":"DAY('База заказов'!$A390)","v":19},{"$f":"'База заказов'!$A390","v":"2020-11-19"},{"$f":"YEAR('База заказов'!$A390)","v":2020},"Гончарова Н.","Укладка фанеры в 1 слой",null,10900,null,{"$f":"SUM(Table[[#This Row],[Наличн]:[Безнал]])-SUM(Table[[#This Row],[Наличн]:[Безнал]])*Table[[#This Row],[Скидка]]","v":10900},44154,{"$f":"DAY(Table[[#This Row],[Дата визита]])","v":19},{"$f":"MONTH(Table[[#This Row],[Дата визита]])","v":"1900-01-11"},{"$f":"YEAR(Table[[#This Row],[Дата визита]])","v":2020},{"$f":"WEEKNUM(Table[[#This Row],[Дата визита]])","v":47},"15:00:00","Ростов-на-Дону, ул. Обороны, д. 40/17","Белоусов В.","Клиент 389","mail@birdyx.ru","79008889900","Сайт","Завершено","да",4]
[44155,{"$f":"DAY('База заказов'!$A391)","v":20},{"$f":"'База заказов'!$A391","v":"2020-11-20"},{"$f":"YEAR('База заказов'!$A391)","v":2020},"Мишин М.","Укладка линолеума на клей",22000,null,null,{"$f":"SUM(Table[[#This Row],[Наличн]:[Безнал]])-SUM(Table[[#This Row],[Наличн]:[Безнал]])*Table[[#This Row],[Скидка]]","v":22000},44155,{"$f":"DAY(Table[[#This Row],[Дата визита]])","v":20},{"$f":"MONTH(Table[[#This Row],[Дата визита]])","v":"1900-01-11"},{"$f":"YEAR(Table[[#This Row],[Дата визита]])","v":2020},{"$f":"WEEKNUM(Table[[#This Row],[Дата визита]])","v":47},"17:00:00","Ростов-на-Дону, ул. Судостроительная, д. 55","Белозеров В.","Клиент 390","mail@birdyx.ru","79008889900","Инстаграм","Завершено","да",4]
[44156,{"$f":"DAY('База заказов'!$A392)","v":21},{"$f":"'База заказов'!$A392","v":"2020-11-21"},{"$f":"YEAR('База заказов'!$A392)","v":2020},"Иванов И.","Демонтаж душевой кабины",6200,null,null,{"$f":"SUM(Table[[#This Row],[Наличн]:[Безнал]])-SUM(Table[[#This Row],[Наличн]:[Безнал]])*Table[[#This Row],[Скидка]]","v":6200},44156,{"$f":"DAY(Table[[#This Row],[Дата визита]])","v":21},{"$f":"MONTH(Table[[#This Row],[Дата визита]])","v":"1900-01-11"},{"$f":"YEAR(Table[[#This Row],[Дата визита]])","v":2020},{"$f":"WEEKNUM(Table[[#This Row],[Дата визита]])","v":47},"10:00:00","Ростов-На-Дону, пер. Семашко, д. 46/1","Беспалов Г.","Клиент 391","mail@birdyx.ru","79008889900","Сайт","Завершено","да",4]
[44157,{"$f":"DAY('База заказов'!$A393)","v":22},{"$f":"'База заказов'!$A393","v":"2020-11-22"},{"$f":"YEAR('База заказов'!$A393)","v":2020},"Петров В.","Демонтаж входной двери",null,15900,null,{"$f":"SUM(Table[[#This Row],[Наличн]:[Безнал]])-SUM(Table[[#This Row],[Наличн]:[Безнал]])*Table[[#This Row],[Скидка]]","v":15900},44157,{"$f":"DAY(Table[[#This Row],[Дата визита]])","v":22},{"$f":"MONTH(Table[[#This Row],[Дата визита]])","v":"1900-01-11"},{"$f":"YEAR(Table[[#This Row],[Дата визита]])","v":2020},{"$f":"WEEKNUM(Table[[#This Row],[Дата визита]])","v":48},"12:00:00","Ростов-на-Дону, проспект Соколова, д. 11/Б","Белозеров В.","Клиент 392","mail@birdyx.ru","79008889900","По совету","Завершено","да",4]
[44158,{"$f":"DAY('База заказов'!$A394)","v":23},{"$f":"'База заказов'!$A394","v":"2020-11-23"},{"$f":"YEAR('База заказов'!$A394)","v":2020},"Иванов И.","Демонтаж оконного блока",null,36800,null,{"$f":"SUM(Table[[#This Row],[Наличн]:[Безнал]])-SUM(Table[[#This Row],[Наличн]:[Безнал]])*Table[[#This Row],[Скидка]]","v":36800},44158,{"$f":"DAY(Table[[#This Row],[Дата визита]])","v":23},{"$f":"MONTH(Table[[#This Row],[Дата визита]])","v":"1900-01-11"},{"$f":"YEAR(Table[[#This Row],[Дата визита]])","v":2020},{"$f":"WEEKNUM(Table[[#This Row],[Дата визита]])","v":48},"16:00:00","Ростов-на-Дону, ул. Ларина, д. 41/19","Устинов С.","Клиент 393","mail@birdyx.ru","79008889900","Яндекс","Завершено","да",4]
[44159,{"$f":"DAY('База заказов'!$A395)","v":24},{"$f":"'База заказов'!$A395","v":"2020-11-24"},{"$f":"YEAR('База заказов'!$A395)","v":2020},"Гончарова Н.","Изготовление и монтаж натяжных потолков (матовый, глянцевый)",null,21800,null,{"$f":"SUM(Table[[#This Row],[Наличн]:[Безнал]])-SUM(Table[[#This Row],[Наличн]:[Безнал]])*Table[[#This Row],[Скидка]]","v":21800},44159,{"$f":"DAY(Table[[#This Row],[Дата визита]])","v":24},{"$f":"MONTH(Table[[#This Row],[Дата визита]])","v":"1900-01-11"},{"$f":"YEAR(Table[[#This Row],[Дата визита]])","v":2020},{"$f":"WEEKNUM(Table[[#This Row],[Дата визита]])","v":48},"18:00:00","Ростов-на-Дону, проспект Коммунистический, д. 20/4","Минин В.","Клиент 394","mail@birdyx.ru","79008889900","Инстаграм","Завершено","да",4]
[44160,{"$f":"DAY('База заказов'!$A396)","v":25},{"$f":"'База заказов'!$A396","v":"2020-11-25"},{"$f":"YEAR('База заказов'!$A396)","v":2020},"Мишин М.","Укладка паркетной доски на подложку",null,26500,null,{"$f":"SUM(Table[[#This Row],[Наличн]:[Безнал]])-SUM(Table[[#This Row],[Наличн]:[Безнал]])*Table[[#This Row],[Скидка]]","v":26500},44160,{"$f":"DAY(Table[[#This Row],[Дата визита]])","v":25},{"$f":"MONTH(Table[[#This Row],[Дата визита]])","v":"1900-01-11"},{"$f":"YEAR(Table[[#This Row],[Дата визита]])","v":2020},{"$f":"WEEKNUM(Table[[#This Row],[Дата визита]])","v":48},"10:00:00","Ростов-на-Дону, ул. Цезаря Куникова, д. 32/А","Субботин С.","Клиент 395","mail@birdyx.ru","79008889900","Яндекс","Завершено","да",4]
[44161,{"$f":"DAY('База заказов'!$A397)","v":26},{"$f":"'База заказов'!$A397","v":"2020-11-26"},{"$f":"YEAR('База заказов'!$A397)","v":2020},"Иванов И.","Укладка паркетной доски на подложку",null,32700,null,{"$f":"SUM(Table[[#This Row],[Наличн]:[Безнал]])-SUM(Table[[#This Row],[Наличн]:[Безнал]])*Table[[#This Row],[Скидка]]","v":32700},44161,{"$f":"DAY(Table[[#This Row],[Дата визита]])","v":26},{"$f":"MONTH(Table[[#This Row],[Дата визита]])","v":"1900-01-11"},{"$f":"YEAR(Table[[#This Row],[Дата визита]])","v":2020},{"$f":"WEEKNUM(Table[[#This Row],[Дата визита]])","v":48},"12:00:00","Ростов-на-Дону, ул. Красноармейская, д. 21","Субботин С.","Клиент 396","mail@birdyx.ru","79008889900","Сайт","Завершено","да",4]
[44162,{"$f":"DAY('База заказов'!$A398)","v":27},{"$f":"'База заказов'!$A398","v":"2020-11-27"},{"$f":"YEAR('База заказов'!$A398)","v":2020},"Петров В.","Укладка массивной доски",null,37500,null,{"$f":"SUM(Table[[#This Row],[Наличн]:[Безнал]])-SUM(Table[[#This Row],[Наличн]:[Безнал]])*Table[[#This Row],[Скидка]]","v":37500},44162,{"$f":"DAY(Table[[#This Row],[Дата визита]])","v":27},{"$f":"MONTH(Table[[#This Row],[Дата визита]])","v":"1900-01-11"},{"$f":"YEAR(Table[[#This Row],[Дата визита]])","v":2020},{"$f":"WEEKNUM(Table[[#This Row],[Дата визита]])","v":48},"16:00:00","Ростов-на-Дону, проспект 40-летия Победы, д. 95/3","Белоусов В.","Клиент 397","mail@birdyx.ru","79008889900","Инстаграм","Завершено","да",4]
[44163,{"$f":"DAY('База заказов'!$A399)","v":28},{"$f":"'База заказов'!$A399","v":"2020-11-28"},{"$f":"YEAR('База заказов'!$A399)","v":2020},"Гончарова Н.","Нанесение декоративной штукатурки ",null,19900,null,{"$f":"SUM(Table[[#This Row],[Наличн]:[Безнал]])-SUM(Table[[#This Row],[Наличн]:[Безнал]])*Table[[#This Row],[Скидка]]","v":19900},44163,{"$f":"DAY(Table[[#This Row],[Дата визита]])","v":28},{"$f":"MONTH(Table[[#This Row],[Дата визита]])","v":"1900-01-11"},{"$f":"YEAR(Table[[#This Row],[Дата визита]])","v":2020},{"$f":"WEEKNUM(Table[[#This Row],[Дата визита]])","v":48},"18:00:00","Ростов-на-Дону, ул. Станиславского, д. 58","Белозеров В.","Клиент 398","mail@birdyx.ru","79008889900","Авито","Завершено","да",4]
[44164,{"$f":"DAY('База заказов'!$A400)","v":29},{"$f":"'База заказов'!$A400","v":"2020-11-29"},{"$f":"YEAR('База заказов'!$A400)","v":2020},"Иванов И.","Поклейка обоев ",null,26900,null,{"$f":"SUM(Table[[#This Row],[Наличн]:[Безнал]])-SUM(Table[[#This Row],[Наличн]:[Безнал]])*Table[[#This Row],[Скидка]]","v":26900},44164,{"$f":"DAY(Table[[#This Row],[Дата визита]])","v":29},{"$f":"MONTH(Table[[#This Row],[Дата визита]])","v":"1900-01-11"},{"$f":"YEAR(Table[[#This Row],[Дата визита]])","v":2020},{"$f":"WEEKNUM(Table[[#This Row],[Дата визита]])","v":49},"10:00:00","Ростов-на-Дону, проспект Буденновский, 86/197","Беспалов Г.","Клиент 399","mail@birdyx.ru","79008889900","Сайт","Завершено","да",4]
[44165,{"$f":"DAY('База заказов'!$A401)","v":30},{"$f":"'База заказов'!$A401","v":"2020-11-30"},{"$f":"YEAR('База заказов'!$A401)","v":2020},"Петров В.","Укладка паркетной доски на клей",null,10400,null,{"$f":"SUM(Table[[#This Row],[Наличн]:[Безнал]])-SUM(Table[[#This Row],[Наличн]:[Безнал]])*Table[[#This Row],[Скидка]]","v":10400},44165,{"$f":"DAY(Table[[#This Row],[Дата визита]])","v":30},{"$f":"MONTH(Table[[#This Row],[Дата визита]])","v":"1900-01-11"},{"$f":"YEAR(Table[[#This Row],[Дата визита]])","v":2020},{"$f":"WEEKNUM(Table[[#This Row],[Дата визита]])","v":49},"12:00:00","Ростов-на-Дону, ул. Липовая, 5","Белозеров В.","Клиент 400","mail@birdyx.ru","79008889900","Инстаграм","Завершено","да",4]
[44166,{"$f":"DAY('База заказов'!$A402)","v":1},{"$f":"'База заказов'!$A402","v":"2020-12-01"},{"$f":"YEAR('База заказов'!$A402)","v":2020},"Иванов И.","Выкройка и монтаж дополнительных углов",null,19900,null,{"$f":"SUM(Table[[#This Row],[Наличн]:[Безнал]])-SUM(Table[[#This Row],[Наличн]:[Безнал]])*Table[[#This Row],[Скидка]]","v":19900},44166,{"$f":"DAY(Table[[#This Row],[Дата визита]])","v":1},{"$f":"MONTH(Table[[#This Row],[Дата визита]])","v":"1900-01-12"},{"$f":"YEAR(Table[[#This Row],[Дата визита]])","v":2020},{"$f":"WEEKNUM(Table[[#This Row],[Дата визита]])","v":49},"16:00:00","Ростов-на-Дону, ул. Станиславского, д. 58","Устинов С.","Клиент 401","mail@birdyx.ru","79008889900","Яндекс","Завершено","да",5]
[44167,{"$f":"DAY('База заказов'!$A403)","v":2},{"$f":"'База заказов'!$A403","v":"2020-12-02"},{"$f":"YEAR('База заказов'!$A403)","v":2020},"Гончарова Н.","Выкройка и монтаж дополнительных углов",null,19800,null,{"$f":"SUM(Table[[#This Row],[Наличн]:[Безнал]])-SUM(Table[[#This Row],[Наличн]:[Безнал]])*Table[[#This Row],[Скидка]]","v":19800},44167,{"$f":"DAY(Table[[#This Row],[Дата визита]])","v":2},{"$f":"MONTH(Table[[#This Row],[Дата визита]])","v":"1900-01-12"},{"$f":"YEAR(Table[[#This Row],[Дата визита]])","v":2020},{"$f":"WEEKNUM(Table[[#This Row],[Дата визита]])","v":49},"18:00:00","Ростов-на-Дону, ул. Беляева, д. 22А","Минин В.","Клиент 402","mail@birdyx.ru","79008889900","По совету","Завершено","да",5]
[44168,{"$f":"DAY('База заказов'!$A404)","v":3},{"$f":"'База заказов'!$A404","v":"2020-12-03"},{"$f":"YEAR('База заказов'!$A404)","v":2020},"Мишин М.","Укладка паркетной доски на клей",null,35700,null,{"$f":"SUM(Table[[#This Row],[Наличн]:[Безнал]])-SUM(Table[[#This Row],[Наличн]:[Безнал]])*Table[[#This Row],[Скидка]]","v":35700},44168,{"$f":"DAY(Table[[#This Row],[Дата визита]])","v":3},{"$f":"MONTH(Table[[#This Row],[Дата визита]])","v":"1900-01-12"},{"$f":"YEAR(Table[[#This Row],[Дата визита]])","v":2020},{"$f":"WEEKNUM(Table[[#This Row],[Дата визита]])","v":49},"09:00:00","Ростов-на-Дону, ул. 22 Линия, д. 34","Белозеров В.","Клиент 403","mail@birdyx.ru","79008889900","Инстаграм","Завершено","да",5]
[44169,{"$f":"DAY('База заказов'!$A405)","v":4},{"$f":"'База заказов'!$A405","v":"2020-12-04"},{"$f":"YEAR('База заказов'!$A405)","v":2020},"Иванов И.","Нанесение декоративной штукатурки ",null,8700,0.15,{"$f":"SUM(Table[[#This Row],[Наличн]:[Безнал]])-SUM(Table[[#This Row],[Наличн]:[Безнал]])*Table[[#This Row],[Скидка]]","v":7395},44169,{"$f":"DAY(Table[[#This Row],[Дата визита]])","v":4},{"$f":"MONTH(Table[[#This Row],[Дата визита]])","v":"1900-01-12"},{"$f":"YEAR(Table[[#This Row],[Дата визита]])","v":2020},{"$f":"WEEKNUM(Table[[#This Row],[Дата визита]])","v":49},"11:00:00","Ростов-На-Дону, проспект Шолохова, д. 288","Беспалов Г.","Клиент 404","mail@birdyx.ru","79008889900","Сайт","Завершено","да",5]
[44170,{"$f":"DAY('База заказов'!$A406)","v":5},{"$f":"'База заказов'!$A406","v":"2020-12-05"},{"$f":"YEAR('База заказов'!$A406)","v":2020},"Петров В.","Монтаж потолочного плинтуса",null,26800,0.15,{"$f":"SUM(Table[[#This Row],[Наличн]:[Безнал]])-SUM(Table[[#This Row],[Наличн]:[Безнал]])*Table[[#This Row],[Скидка]]","v":22780},44170,{"$f":"DAY(Table[[#This Row],[Дата визита]])","v":5},{"$f":"MONTH(Table[[#This Row],[Дата визита]])","v":"1900-01-12"},{"$f":"YEAR(Table[[#This Row],[Дата визита]])","v":2020},{"$f":"WEEKNUM(Table[[#This Row],[Дата визита]])","v":49},"15:00:00","Ростов-на-Дону, проспект Кировский, д. 57","Шарапов В.","Клиент 405","mail@birdyx.ru","79008889900","Сайт","Завершено","да",5]
[44170,{"$f":"DAY('База заказов'!$A407)","v":5},{"$f":"'База заказов'!$A407","v":"2020-12-05"},{"$f":"YEAR('База заказов'!$A407)","v":2020},"Гончарова Н.","Укладка фанеры в 1 слой",null,11100,0.15,{"$f":"SUM(Table[[#This Row],[Наличн]:[Безнал]])-SUM(Table[[#This Row],[Наличн]:[Безнал]])*Table[[#This Row],[Скидка]]","v":9435},44170,{"$f":"DAY(Table[[#This Row],[Дата визита]])","v":5},{"$f":"MONTH(Table[[#This Row],[Дата визита]])","v":"1900-01-12"},{"$f":"YEAR(Table[[#This Row],[Дата визита]])","v":2020},{"$f":"WEEKNUM(Table[[#This Row],[Дата визита]])","v":49},"17:00:00","Ростов-на-Дону, Стартовая 20","Белоусов В.","Клиент 406","mail@birdyx.ru","79008889900","Сайт","Завершено","да",5]
[44172,{"$f":"DAY('База заказов'!$A408)","v":7},{"$f":"'База заказов'!$A408","v":"2020-12-07"},{"$f":"YEAR('База заказов'!$A408)","v":2020},"Гончарова Н.","Укладка линолеума на клей",null,32500,0.15,{"$f":"SUM(Table[[#This Row],[Наличн]:[Безнал]])-SUM(Table[[#This Row],[Наличн]:[Безнал]])*Table[[#This Row],[Скидка]]","v":27625},44172,{"$f":"DAY(Table[[#This Row],[Дата визита]])","v":7},{"$f":"MONTH(Table[[#This Row],[Дата визита]])","v":"1900-01-12"},{"$f":"YEAR(Table[[#This Row],[Дата визита]])","v":2020},{"$f":"WEEKNUM(Table[[#This Row],[Дата визита]])","v":50},"10:00:00","Ростов-на-Дону, Стартовая 22","Шарапов В.","Клиент 407","mail@birdyx.ru","79008889900","Сайт","Завершено","да",5]
[44173,{"$f":"DAY('База заказов'!$A409)","v":8},{"$f":"'База заказов'!$A409","v":"2020-12-08"},{"$f":"YEAR('База заказов'!$A409)","v":2020},"Мишин М.","Демонтаж душевой кабины",null,7100,0.15,{"$f":"SUM(Table[[#This Row],[Наличн]:[Безнал]])-SUM(Table[[#This Row],[Наличн]:[Безнал]])*Table[[#This Row],[Скидка]]","v":6035},44173,{"$f":"DAY(Table[[#This Row],[Дата визита]])","v":8},{"$f":"MONTH(Table[[#This Row],[Дата визита]])","v":"1900-01-12"},{"$f":"YEAR(Table[[#This Row],[Дата визита]])","v":2020},{"$f":"WEEKNUM(Table[[#This Row],[Дата визита]])","v":50},"12:00:00","Ростов-на-Дону, Жданова 15","Белоусов В.","Клиент 408","mail@birdyx.ru","79008889900","Сайт","Завершено","да",4]
[44174,{"$f":"DAY('База заказов'!$A410)","v":9},{"$f":"'База заказов'!$A410","v":"2020-12-09"},{"$f":"YEAR('База заказов'!$A410)","v":2020},"Иванов И.","Демонтаж входной двери",null,20300,0.15,{"$f":"SUM(Table[[#This Row],[Наличн]:[Безнал]])-SUM(Table[[#This Row],[Наличн]:[Безнал]])*Table[[#This Row],[Скидка]]","v":17255},44174,{"$f":"DAY(Table[[#This Row],[Дата визита]])","v":9},{"$f":"MONTH(Table[[#This Row],[Дата визита]])","v":"1900-01-12"},{"$f":"YEAR(Table[[#This Row],[Дата визита]])","v":2020},{"$f":"WEEKNUM(Table[[#This Row],[Дата визита]])","v":50},"16:00:00","Ростов-на-Дону, ул. Пацаева, д. 2","Беспалов Г.","Клиент 409","mail@birdyx.ru","79008889900","Сайт","Завершено","да",4]
[44175,{"$f":"DAY('База заказов'!$A411)","v":10},{"$f":"'База заказов'!$A411","v":"2020-12-10"},{"$f":"YEAR('База заказов'!$A411)","v":2020},"Петров В.","Демонтаж оконного блока",15100,null,null,{"$f":"SUM(Table[[#This Row],[Наличн]:[Безнал]])-SUM(Table[[#This Row],[Наличн]:[Безнал]])*Table[[#This Row],[Скидка]]","v":15100},44175,{"$f":"DAY(Table[[#This Row],[Дата визита]])","v":10},{"$f":"MONTH(Table[[#This Row],[Дата визита]])","v":"1900-01-12"},{"$f":"YEAR(Table[[#This Row],[Дата визита]])","v":2020},{"$f":"WEEKNUM(Table[[#This Row],[Дата визита]])","v":50},"18:00:00","Ростов-на-Дону, ул. 14 Линия, д. 33","Минин В.","Клиент 410","mail@birdyx.ru","79008889900","Авито","Завершено","да",4]
[44176,{"$f":"DAY('База заказов'!$A412)","v":11},{"$f":"'База заказов'!$A412","v":"2020-12-11"},{"$f":"YEAR('База заказов'!$A412)","v":2020},"Иванов И.","Укладка массивной доски",36900,null,null,{"$f":"SUM(Table[[#This Row],[Наличн]:[Безнал]])-SUM(Table[[#This Row],[Наличн]:[Безнал]])*Table[[#This Row],[Скидка]]","v":36900},44176,{"$f":"DAY(Table[[#This Row],[Дата визита]])","v":11},{"$f":"MONTH(Table[[#This Row],[Дата визита]])","v":"1900-01-12"},{"$f":"YEAR(Table[[#This Row],[Дата визита]])","v":2020},{"$f":"WEEKNUM(Table[[#This Row],[Дата визита]])","v":50},"10:00:00","Ростов-на-Дону, пер. Беломорский, д. 94","Субботин С.","Клиент 411","mail@birdyx.ru","79008889900","Сайт","Завершено","да",4]
[44176,{"$f":"DAY('База заказов'!$A413)","v":11},{"$f":"'База заказов'!$A413","v":"2020-12-11"},{"$f":"YEAR('База заказов'!$A413)","v":2020},"Гончарова Н.","Нанесение декоративной штукатурки ",null,10900,null,{"$f":"SUM(Table[[#This Row],[Наличн]:[Безнал]])-SUM(Table[[#This Row],[Наличн]:[Безнал]])*Table[[#This Row],[Скидка]]","v":10900},44176,{"$f":"DAY(Table[[#This Row],[Дата визита]])","v":11},{"$f":"MONTH(Table[[#This Row],[Дата визита]])","v":"1900-01-12"},{"$f":"YEAR(Table[[#This Row],[Дата визита]])","v":2020},{"$f":"WEEKNUM(Table[[#This Row],[Дата визита]])","v":50},"12:00:00","Ростов-На-Дону, ул. Извилистая, д. 13/2","Субботин С.","Клиент 412","mail@birdyx.ru","79008889900","По совету","Завершено","да",4]
[44176,{"$f":"DAY('База заказов'!$A414)","v":11},{"$f":"'База заказов'!$A414","v":"2020-12-11"},{"$f":"YEAR('База заказов'!$A414)","v":2020},"Мишин М.","Поклейка обоев ",null,28200,null,{"$f":"SUM(Table[[#This Row],[Наличн]:[Безнал]])-SUM(Table[[#This Row],[Наличн]:[Безнал]])*Table[[#This Row],[Скидка]]","v":28200},44176,{"$f":"DAY(Table[[#This Row],[Дата визита]])","v":11},{"$f":"MONTH(Table[[#This Row],[Дата визита]])","v":"1900-01-12"},{"$f":"YEAR(Table[[#This Row],[Дата визита]])","v":2020},{"$f":"WEEKNUM(Table[[#This Row],[Дата визита]])","v":50},"16:00:00","Ростов-на-Дону, пер. Братский, д. 36","Белоусов В.","Клиент 413","mail@birdyx.ru","79008889900","Яндекс","Отмена","да",4]
[44179,{"$f":"DAY('База заказов'!$A415)","v":14},{"$f":"'База заказов'!$A415","v":"2020-12-14"},{"$f":"YEAR('База заказов'!$A415)","v":2020},"Иванов И.","Укладка паркетной доски на клей",null,11100,null,{"$f":"SUM(Table[[#This Row],[Наличн]:[Безнал]])-SUM(Table[[#This Row],[Наличн]:[Безнал]])*Table[[#This Row],[Скидка]]","v":11100},44179,{"$f":"DAY(Table[[#This Row],[Дата визита]])","v":14},{"$f":"MONTH(Table[[#This Row],[Дата визита]])","v":"1900-01-12"},{"$f":"YEAR(Table[[#This Row],[Дата визита]])","v":2020},{"$f":"WEEKNUM(Table[[#This Row],[Дата визита]])","v":51},"18:00:00","Ростов-На-Дону, ул. Андрея Сладкова, д. 87","Белозеров В.","Клиент 414","mail@birdyx.ru","79008889900","Инстаграм","Завершено","да",4]
[44180,{"$f":"DAY('База заказов'!$A416)","v":15},{"$f":"'База заказов'!$A416","v":"2020-12-15"},{"$f":"YEAR('База заказов'!$A416)","v":2020},"Петров В.","Выкройка и монтаж дополнительных углов",null,39900,null,{"$f":"SUM(Table[[#This Row],[Наличн]:[Безнал]])-SUM(Table[[#This Row],[Наличн]:[Безнал]])*Table[[#This Row],[Скидка]]","v":39900},44180,{"$f":"DAY(Table[[#This Row],[Дата визита]])","v":15},{"$f":"MONTH(Table[[#This Row],[Дата визита]])","v":"1900-01-12"},{"$f":"YEAR(Table[[#This Row],[Дата визита]])","v":2020},{"$f":"WEEKNUM(Table[[#This Row],[Дата визита]])","v":51},"10:00:00","Ростов-на-Дону, ул. 339-й Стрелковой Дивизии, д. 33","Беспалов Г.","Клиент 415","mail@birdyx.ru","79008889900","Яндекс","Завершено","да",4]
[44181,{"$f":"DAY('База заказов'!$A417)","v":16},{"$f":"'База заказов'!$A417","v":"2020-12-16"},{"$f":"YEAR('База заказов'!$A417)","v":2020},"Гончарова Н.","Выкройка и монтаж дополнительных углов",null,27500,null,{"$f":"SUM(Table[[#This Row],[Наличн]:[Безнал]])-SUM(Table[[#This Row],[Наличн]:[Безнал]])*Table[[#This Row],[Скидка]]","v":27500},44181,{"$f":"DAY(Table[[#This Row],[Дата визита]])","v":16},{"$f":"MONTH(Table[[#This Row],[Дата визита]])","v":"1900-01-12"},{"$f":"YEAR(Table[[#This Row],[Дата визита]])","v":2020},{"$f":"WEEKNUM(Table[[#This Row],[Дата визита]])","v":51},"12:00:00","Ростов-на-Дону, Ленина 1","Белозеров В.","Клиент 416","mail@birdyx.ru","79008889900","Сайт","Завершено","да",4]
[44182,{"$f":"DAY('База заказов'!$A418)","v":17},{"$f":"'База заказов'!$A418","v":"2020-12-17"},{"$f":"YEAR('База заказов'!$A418)","v":2020},"Гончарова Н.","Укладка паркетной доски на клей",null,22300,0.15,{"$f":"SUM(Table[[#This Row],[Наличн]:[Безнал]])-SUM(Table[[#This Row],[Наличн]:[Безнал]])*Table[[#This Row],[Скидка]]","v":18955},44182,{"$f":"DAY(Table[[#This Row],[Дата визита]])","v":17},{"$f":"MONTH(Table[[#This Row],[Дата визита]])","v":"1900-01-12"},{"$f":"YEAR(Table[[#This Row],[Дата визита]])","v":2020},{"$f":"WEEKNUM(Table[[#This Row],[Дата визита]])","v":51},"16:00:00","Ростов-на-Дону, Михаила Нагибина 32","Устинов С.","Клиент 417","mail@birdyx.ru","79008889900","Сайт","Завершено","да",5]
[44183,{"$f":"DAY('База заказов'!$A419)","v":18},{"$f":"'База заказов'!$A419","v":"2020-12-18"},{"$f":"YEAR('База заказов'!$A419)","v":2020},"Гончарова Н.","Нанесение декоративной штукатурки ",null,30800,null,{"$f":"SUM(Table[[#This Row],[Наличн]:[Безнал]])-SUM(Table[[#This Row],[Наличн]:[Безнал]])*Table[[#This Row],[Скидка]]","v":30800},44183,{"$f":"DAY(Table[[#This Row],[Дата визита]])","v":18},{"$f":"MONTH(Table[[#This Row],[Дата визита]])","v":"1900-01-12"},{"$f":"YEAR(Table[[#This Row],[Дата визита]])","v":2020},{"$f":"WEEKNUM(Table[[#This Row],[Дата визита]])","v":51},"18:00:00","Ростов-на-Дону, Михаила Нагибина 32","Устинов С.","Клиент 418","mail@birdyx.ru","79008889900","Сайт","Завершено","да",5]
[44183,{"$f":"DAY('База заказов'!$A420)","v":18},{"$f":"'База заказов'!$A420","v":"2020-12-18"},{"$f":"YEAR('База заказов'!$A420)","v":2020},"Мишин М.","Монтаж потолочного плинтуса",null,27800,null,{"$f":"SUM(Table[[#This Row],[Наличн]:[Безнал]])-SUM(Table[[#This Row],[Наличн]:[Безнал]])*Table[[#This Row],[Скидка]]","v":27800},44183,{"$f":"DAY(Table[[#This Row],[Дата визита]])","v":18},{"$f":"MONTH(Table[[#This Row],[Дата визита]])","v":"1900-01-12"},{"$f":"YEAR(Table[[#This Row],[Дата визита]])","v":2020},{"$f":"WEEKNUM(Table[[#This Row],[Дата визита]])","v":51},"09:00:00","Ростов-на-Дону, ул. Таганрогская, д. 149/1 К 35","Субботин С.","Клиент 419","mail@birdyx.ru","79008889900","Сайт","Завершено","да",5]
[44183,{"$f":"DAY('База заказов'!$A421)","v":18},{"$f":"'База заказов'!$A421","v":"2020-12-18"},{"$f":"YEAR('База заказов'!$A421)","v":2020},"Иванов И.","Укладка фанеры в 1 слой",null,9200,null,{"$f":"SUM(Table[[#This Row],[Наличн]:[Безнал]])-SUM(Table[[#This Row],[Наличн]:[Безнал]])*Table[[#This Row],[Скидка]]","v":9200},44183,{"$f":"DAY(Table[[#This Row],[Дата визита]])","v":18},{"$f":"MONTH(Table[[#This Row],[Дата визита]])","v":"1900-01-12"},{"$f":"YEAR(Table[[#This Row],[Дата визита]])","v":2020},{"$f":"WEEKNUM(Table[[#This Row],[Дата визита]])","v":51},"11:00:00","Ростов-На-Дону, ул. Большая Садовая, д. 115","Субботин С.","Клиент 420","mail@birdyx.ru","79008889900","Инстаграм","Завершено","да",5]
[44186,{"$f":"DAY('База заказов'!$A422)","v":21},{"$f":"'База заказов'!$A422","v":"2020-12-21"},{"$f":"YEAR('База заказов'!$A422)","v":2020},"Петров В.","Укладка линолеума на клей",null,32000,null,{"$f":"SUM(Table[[#This Row],[Наличн]:[Безнал]])-SUM(Table[[#This Row],[Наличн]:[Безнал]])*Table[[#This Row],[Скидка]]","v":32000},44186,{"$f":"DAY(Table[[#This Row],[Дата визита]])","v":21},{"$f":"MONTH(Table[[#This Row],[Дата визита]])","v":"1900-01-12"},{"$f":"YEAR(Table[[#This Row],[Дата визита]])","v":2020},{"$f":"WEEKNUM(Table[[#This Row],[Дата визита]])","v":52},"15:00:00","Ростов-на-Дону, ул. Большая Садовая, д. 69","Белоусов В.","Клиент 421","mail@birdyx.ru","79008889900","Яндекс","Завершено","да",5]
[44187,{"$f":"DAY('База заказов'!$A423)","v":22},{"$f":"'База заказов'!$A423","v":"2020-12-22"},{"$f":"YEAR('База заказов'!$A423)","v":2020},"Иванов И.","Демонтаж душевой кабины",null,23200,null,{"$f":"SUM(Table[[#This Row],[Наличн]:[Безнал]])-SUM(Table[[#This Row],[Наличн]:[Безнал]])*Table[[#This Row],[Скидка]]","v":23200},44187,{"$f":"DAY(Table[[#This Row],[Дата визита]])","v":22},{"$f":"MONTH(Table[[#This Row],[Дата визита]])","v":"1900-01-12"},{"$f":"YEAR(Table[[#This Row],[Дата визита]])","v":2020},{"$f":"WEEKNUM(Table[[#This Row],[Дата визита]])","v":52},"17:00:00","Ростов-на-Дону, пер. Университетский, д. 133","Белозеров В.","Клиент 422","mail@birdyx.ru","79008889900","По совету","Завершено","да",5]
[44188,{"$f":"DAY('База заказов'!$A424)","v":23},{"$f":"'База заказов'!$A424","v":"2020-12-23"},{"$f":"YEAR('База заказов'!$A424)","v":2020},"Гончарова Н.","Демонтаж входной двери",null,38000,null,{"$f":"SUM(Table[[#This Row],[Наличн]:[Безнал]])-SUM(Table[[#This Row],[Наличн]:[Безнал]])*Table[[#This Row],[Скидка]]","v":38000},44188,{"$f":"DAY(Table[[#This Row],[Дата визита]])","v":23},{"$f":"MONTH(Table[[#This Row],[Дата визита]])","v":"1900-01-12"},{"$f":"YEAR(Table[[#This Row],[Дата визита]])","v":2020},{"$f":"WEEKNUM(Table[[#This Row],[Дата визита]])","v":52},"09:00:00","Ростов-на-Дону, пер. Соборный, д. 26","Белоусов В.","Клиент 423","mail@birdyx.ru","79008889900","Сайт","Завершено","да",5]
[44189,{"$f":"DAY('База заказов'!$A425)","v":24},{"$f":"'База заказов'!$A425","v":"2020-12-24"},{"$f":"YEAR('База заказов'!$A425)","v":2020},"Мишин М.","Демонтаж оконного блока",null,11100,null,{"$f":"SUM(Table[[#This Row],[Наличн]:[Безнал]])-SUM(Table[[#This Row],[Наличн]:[Безнал]])*Table[[#This Row],[Скидка]]","v":11100},44189,{"$f":"DAY(Table[[#This Row],[Дата визита]])","v":24},{"$f":"MONTH(Table[[#This Row],[Дата визита]])","v":"1900-01-12"},{"$f":"YEAR(Table[[#This Row],[Дата визита]])","v":2020},{"$f":"WEEKNUM(Table[[#This Row],[Дата визита]])","v":52},"09:00:00","Ростов-на-Дону, проспект Коммунистический, д. 20/4","Белозеров В.","Клиент 424","mail@birdyx.ru","79008889900","Сайт","Завершено","да",5]
[44189,{"$f":"DAY('База заказов'!$A426)","v":24},{"$f":"'База заказов'!$A426","v":"2020-12-24"},{"$f":"YEAR('База заказов'!$A426)","v":2020},"Иванов И.","Демонтаж входной двери",null,35500,null,{"$f":"SUM(Table[[#This Row],[Наличн]:[Безнал]])-SUM(Table[[#This Row],[Наличн]:[Безнал]])*Table[[#This Row],[Скидка]]","v":35500},44189,{"$f":"DAY(Table[[#This Row],[Дата визита]])","v":24},{"$f":"MONTH(Table[[#This Row],[Дата визита]])","v":"1900-01-12"},{"$f":"YEAR(Table[[#This Row],[Дата визита]])","v":2020},{"$f":"WEEKNUM(Table[[#This Row],[Дата визита]])","v":52},"11:00:00","Ростов-на-Дону, ул. Цезаря Куникова, д. 32/А","Беспалов Г.","Клиент 425","mail@birdyx.ru","79008889900","Инстаграм","Завершено","да",5]
[44191,{"$f":"DAY('База заказов'!$A427)","v":26},{"$f":"'База заказов'!$A427","v":"2020-12-26"},{"$f":"YEAR('База заказов'!$A427)","v":2020},"Гончарова Н.","Демонтаж входной двери",null,26500,null,{"$f":"SUM(Table[[#This Row],[Наличн]:[Безнал]])-SUM(Table[[#This Row],[Наличн]:[Безнал]])*Table[[#This Row],[Скидка]]","v":26500},44191,{"$f":"DAY(Table[[#This Row],[Дата визита]])","v":26},{"$f":"MONTH(Table[[#This Row],[Дата визита]])","v":"1900-01-12"},{"$f":"YEAR(Table[[#This Row],[Дата визита]])","v":2020},{"$f":"WEEKNUM(Table[[#This Row],[Дата визита]])","v":52},"09:00:00","Ростов-на-Дону, ул. Красноармейская, д. 21","Белозеров В.","Клиент 426","mail@birdyx.ru","79008889900","Сайт","Завершено","да",4]
[44191,{"$f":"DAY('База заказов'!$A428)","v":26},{"$f":"'База заказов'!$A428","v":"2020-12-26"},{"$f":"YEAR('База заказов'!$A428)","v":2020},"Гончарова Н.","Демонтаж входной двери",null,19700,null,{"$f":"SUM(Table[[#This Row],[Наличн]:[Безнал]])-SUM(Table[[#This Row],[Наличн]:[Безнал]])*Table[[#This Row],[Скидка]]","v":19700},44191,{"$f":"DAY(Table[[#This Row],[Дата визита]])","v":26},{"$f":"MONTH(Table[[#This Row],[Дата визита]])","v":"1900-01-12"},{"$f":"YEAR(Table[[#This Row],[Дата визита]])","v":2020},{"$f":"WEEKNUM(Table[[#This Row],[Дата визита]])","v":52},"09:00:00","Ростов-на-Дону, проспект 40-летия Победы, д. 95/3","Устинов С.","Клиент 427","mail@birdyx.ru","79008889900","Инстаграм","Завершено","да",4]
[44206,{"$f":"DAY('База заказов'!$A429)","v":10},{"$f":"'База заказов'!$A429","v":"2021-01-10"},{"$f":"YEAR('База заказов'!$A429)","v":2021},"Гончарова Н.","Укладка массивной доски",19000,null,null,{"$f":"SUM(Table[[#This Row],[Наличн]:[Безнал]])-SUM(Table[[#This Row],[Наличн]:[Безнал]])*Table[[#This Row],[Скидка]]","v":19000},44206,{"$f":"DAY(Table[[#This Row],[Дата визита]])","v":10},{"$f":"MONTH(Table[[#This Row],[Дата визита]])","v":"1900-01-01"},{"$f":"YEAR(Table[[#This Row],[Дата визита]])","v":2021},{"$f":"WEEKNUM(Table[[#This Row],[Дата визита]])","v":3},"12:00:00","Ростов-На-Дону, ул. Пушкинская, д. 1/36","Устинов С.","Клиент 428","mail@birdyx.ru","79008889900","Авито","Завершено","да",5]
[44207,{"$f":"DAY('База заказов'!$A430)","v":11},{"$f":"'База заказов'!$A430","v":"2021-01-11"},{"$f":"YEAR('База заказов'!$A430)","v":2021},"Гончарова Н.","Поклейка обоев на потолки",4000,null,null,{"$f":"SUM(Table[[#This Row],[Наличн]:[Безнал]])-SUM(Table[[#This Row],[Наличн]:[Безнал]])*Table[[#This Row],[Скидка]]","v":4000},44209,{"$f":"DAY(Table[[#This Row],[Дата визита]])","v":13},{"$f":"MONTH(Table[[#This Row],[Дата визита]])","v":"1900-01-01"},{"$f":"YEAR(Table[[#This Row],[Дата визита]])","v":2021},{"$f":"WEEKNUM(Table[[#This Row],[Дата визита]])","v":3},"16:00:00","Ростов-на-Дону, пер. Газетный, д. 92/85","Устинов С.","Клиент 429","mail@birdyx.ru","79008889900","Сайт","Завершено","да",3]
[44208,{"$f":"DAY('База заказов'!$A431)","v":12},{"$f":"'База заказов'!$A431","v":"2021-01-12"},{"$f":"YEAR('База заказов'!$A431)","v":2021},"Гончарова Н.","Выкройка и монтаж дополнительных углов",2000,null,null,{"$f":"SUM(Table[[#This Row],[Наличн]:[Безнал]])-SUM(Table[[#This Row],[Наличн]:[Безнал]])*Table[[#This Row],[Скидка]]","v":2000},44209,{"$f":"DAY(Table[[#This Row],[Дата визита]])","v":13},{"$f":"MONTH(Table[[#This Row],[Дата визита]])","v":"1900-01-01"},{"$f":"YEAR(Table[[#This Row],[Дата визита]])","v":2021},{"$f":"WEEKNUM(Table[[#This Row],[Дата визита]])","v":3},"18:00:00","Ростов-на-Дону, проспект Буденновский, д. 106/2","Белозеров В.","Клиент 430","mail@birdyx.ru","79008889900","Сайт","Завершено","да",5]
[44209,{"$f":"DAY('База заказов'!$A432)","v":13},{"$f":"'База заказов'!$A432","v":"2021-01-13"},{"$f":"YEAR('База заказов'!$A432)","v":2021},"Мишин М.","Установка плинтуса ПВХ",null,3000,null,{"$f":"SUM(Table[[#This Row],[Наличн]:[Безнал]])-SUM(Table[[#This Row],[Наличн]:[Безнал]])*Table[[#This Row],[Скидка]]","v":3000},44209,{"$f":"DAY(Table[[#This Row],[Дата визита]])","v":13},{"$f":"MONTH(Table[[#This Row],[Дата визита]])","v":"1900-01-01"},{"$f":"YEAR(Table[[#This Row],[Дата визита]])","v":2021},{"$f":"WEEKNUM(Table[[#This Row],[Дата визита]])","v":3},"10:00:00","Ростов-на-Дону, ул. Пушкинская, д. 104/32","Белозеров В.","Клиент 431","mail@birdyx.ru","79008889900","Авито","Завершено","да",4]
[44209,{"$f":"DAY('База заказов'!$A433)","v":13},{"$f":"'База заказов'!$A433","v":"2021-01-13"},{"$f":"YEAR('База заказов'!$A433)","v":2021},"Мишин М.","Монтаж реечных потолков",2000,null,null,{"$f":"SUM(Table[[#This Row],[Наличн]:[Безнал]])-SUM(Table[[#This Row],[Наличн]:[Безнал]])*Table[[#This Row],[Скидка]]","v":2000},44209,{"$f":"DAY(Table[[#This Row],[Дата визита]])","v":13},{"$f":"MONTH(Table[[#This Row],[Дата визита]])","v":"1900-01-01"},{"$f":"YEAR(Table[[#This Row],[Дата визита]])","v":2021},{"$f":"WEEKNUM(Table[[#This Row],[Дата визита]])","v":3},"12:00:00","Ростов-на-Дону, ул. Республиканская, д. 1/8","Минин В.","Клиент 432","mail@birdyx.ru","79008889900","Сайт","Завершено","да",5]
[44209,{"$f":"DAY('База заказов'!$A434)","v":13},{"$f":"'База заказов'!$A434","v":"2021-01-13"},{"$f":"YEAR('База заказов'!$A434)","v":2021},"Гончарова Н.","Монтаж реечных потолков",null,6000,null,{"$f":"SUM(Table[[#This Row],[Наличн]:[Безнал]])-SUM(Table[[#This Row],[Наличн]:[Безнал]])*Table[[#This Row],[Скидка]]","v":6000},44209,{"$f":"DAY(Table[[#This Row],[Дата визита]])","v":13},{"$f":"MONTH(Table[[#This Row],[Дата визита]])","v":"1900-01-01"},{"$f":"YEAR(Table[[#This Row],[Дата визита]])","v":2021},{"$f":"WEEKNUM(Table[[#This Row],[Дата визита]])","v":3},"16:00:00","Ростов-на-Дону, ул. Красноармейская, д. 33","Субботин С.","Клиент 433","mail@birdyx.ru","79008889900","По совету","Завершено","да",5]
[44212,{"$f":"DAY('База заказов'!$A435)","v":16},{"$f":"'База заказов'!$A435","v":"2021-01-16"},{"$f":"YEAR('База заказов'!$A435)","v":2021},"Гончарова Н.","Поклейка обоев на потолки",20000,null,null,{"$f":"SUM(Table[[#This Row],[Наличн]:[Безнал]])-SUM(Table[[#This Row],[Наличн]:[Безнал]])*Table[[#This Row],[Скидка]]","v":20000},44212,{"$f":"DAY(Table[[#This Row],[Дата визита]])","v":16},{"$f":"MONTH(Table[[#This Row],[Дата визита]])","v":"1900-01-01"},{"$f":"YEAR(Table[[#This Row],[Дата визита]])","v":2021},{"$f":"WEEKNUM(Table[[#This Row],[Дата визита]])","v":3},"18:00:00","Ростов-на-Дону, ул. Максима Горького, д. 11/43","Белозеров В.","Клиент 434","mail@birdyx.ru","79008889900","Яндекс","Завершено","да",4]
[44212,{"$f":"DAY('База заказов'!$A436)","v":16},{"$f":"'База заказов'!$A436","v":"2021-01-16"},{"$f":"YEAR('База заказов'!$A436)","v":2021},"Гончарова Н.","Поклейка обоев на потолки",null,40000,0.15,{"$f":"SUM(Table[[#This Row],[Наличн]:[Безнал]])-SUM(Table[[#This Row],[Наличн]:[Безнал]])*Table[[#This Row],[Скидка]]","v":34000},44212,{"$f":"DAY(Table[[#This Row],[Дата визита]])","v":16},{"$f":"MONTH(Table[[#This Row],[Дата визита]])","v":"1900-01-01"},{"$f":"YEAR(Table[[#This Row],[Дата визита]])","v":2021},{"$f":"WEEKNUM(Table[[#This Row],[Дата визита]])","v":3},"10:00:00","Ростов-на-Дону, ул. Алма-Атинская, д. 29/2 А","Белозеров В.","Клиент 435","mail@birdyx.ru","79008889900","Инстаграм","Завершено","да",5]
[44214,{"$f":"DAY('База заказов'!$A437)","v":18},{"$f":"'База заказов'!$A437","v":"2021-01-18"},{"$f":"YEAR('База заказов'!$A437)","v":2021},"Гончарова Н.","Укладка паркетной доски на клей",null,2000,null,{"$f":"SUM(Table[[#This Row],[Наличн]:[Безнал]])-SUM(Table[[#This Row],[Наличн]:[Безнал]])*Table[[#This Row],[Скидка]]","v":2000},44214,{"$f":"DAY(Table[[#This Row],[Дата визита]])","v":18},{"$f":"MONTH(Table[[#This Row],[Дата визита]])","v":"1900-01-01"},{"$f":"YEAR(Table[[#This Row],[Дата визита]])","v":2021},{"$f":"WEEKNUM(Table[[#This Row],[Дата визита]])","v":4},"12:00:00","Ростов-на-Дону, ул. Малиновского, д. 68/1","Беспалов Г.","Клиент 436","mail@birdyx.ru","79008889900","Яндекс","Завершено","да",5]
[44215,{"$f":"DAY('База заказов'!$A438)","v":19},{"$f":"'База заказов'!$A438","v":"2021-01-19"},{"$f":"YEAR('База заказов'!$A438)","v":2021},"Гончарова Н.","Укладка паркетной доски на клей",8000,null,null,{"$f":"SUM(Table[[#This Row],[Наличн]:[Безнал]])-SUM(Table[[#This Row],[Наличн]:[Безнал]])*Table[[#This Row],[Скидка]]","v":8000},44215,{"$f":"DAY(Table[[#This Row],[Дата визита]])","v":19},{"$f":"MONTH(Table[[#This Row],[Дата визита]])","v":"1900-01-01"},{"$f":"YEAR(Table[[#This Row],[Дата визита]])","v":2021},{"$f":"WEEKNUM(Table[[#This Row],[Дата визита]])","v":4},"16:00:00","Ростов-на-Дону, ул. Береговая, д. 5","Белозеров В.","Клиент 437","mail@birdyx.ru","79008889900","Сайт","Завершено","да",5]
[44216,{"$f":"DAY('База заказов'!$A439)","v":20},{"$f":"'База заказов'!$A439","v":"2021-01-20"},{"$f":"YEAR('База заказов'!$A439)","v":2021},"Мишин М.","Укладка кварцвиниловой плитки на клей",null,30000,null,{"$f":"SUM(Table[[#This Row],[Наличн]:[Безнал]])-SUM(Table[[#This Row],[Наличн]:[Безнал]])*Table[[#This Row],[Скидка]]","v":30000},44216,{"$f":"DAY(Table[[#This Row],[Дата визита]])","v":20},{"$f":"MONTH(Table[[#This Row],[Дата визита]])","v":"1900-01-01"},{"$f":"YEAR(Table[[#This Row],[Дата визита]])","v":2021},{"$f":"WEEKNUM(Table[[#This Row],[Дата визита]])","v":4},"18:00:00","Ростов-на-Дону, пл. Гагарина, д. 1","Белозеров В.","Клиент 438","mail@birdyx.ru","79008889900","Авито","Завершено","да",3]
[44216,{"$f":"DAY('База заказов'!$A440)","v":20},{"$f":"'База заказов'!$A440","v":"2021-01-20"},{"$f":"YEAR('База заказов'!$A440)","v":2021},"Мишин М.","Укладка массивной доски",146000,null,null,{"$f":"SUM(Table[[#This Row],[Наличн]:[Безнал]])-SUM(Table[[#This Row],[Наличн]:[Безнал]])*Table[[#This Row],[Скидка]]","v":146000},44216,{"$f":"DAY(Table[[#This Row],[Дата визита]])","v":20},{"$f":"MONTH(Table[[#This Row],[Дата визита]])","v":"1900-01-01"},{"$f":"YEAR(Table[[#This Row],[Дата визита]])","v":2021},{"$f":"WEEKNUM(Table[[#This Row],[Дата визита]])","v":4},"09:00:00","Ростов-на-Дону, ул. Механизаторов, д. 6А","Минин В.","Клиент 439","mail@birdyx.ru","79008889900","Авито","Завершено","да",3]
[44216,{"$f":"DAY('База заказов'!$A441)","v":20},{"$f":"'База заказов'!$A441","v":"2021-01-20"},{"$f":"YEAR('База заказов'!$A441)","v":2021},"Гончарова Н.","Укладка линолеума на клей",null,30000,null,{"$f":"SUM(Table[[#This Row],[Наличн]:[Безнал]])-SUM(Table[[#This Row],[Наличн]:[Безнал]])*Table[[#This Row],[Скидка]]","v":30000},44221,{"$f":"DAY(Table[[#This Row],[Дата визита]])","v":25},{"$f":"MONTH(Table[[#This Row],[Дата визита]])","v":"1900-01-01"},{"$f":"YEAR(Table[[#This Row],[Дата визита]])","v":2021},{"$f":"WEEKNUM(Table[[#This Row],[Дата визита]])","v":5},"11:00:00","Ростов-На-Дону, проспект Буденновский, д. 3/3","Субботин С.","Клиент 440","mail@birdyx.ru","79008889900","Сайт","Завершено","да",2]
[44219,{"$f":"DAY('База заказов'!$A442)","v":23},{"$f":"'База заказов'!$A442","v":"2021-01-23"},{"$f":"YEAR('База заказов'!$A442)","v":2021},"Гончарова Н.","Демонтаж оконного блока",5000,null,null,{"$f":"SUM(Table[[#This Row],[Наличн]:[Безнал]])-SUM(Table[[#This Row],[Наличн]:[Безнал]])*Table[[#This Row],[Скидка]]","v":5000},44221,{"$f":"DAY(Table[[#This Row],[Дата визита]])","v":25},{"$f":"MONTH(Table[[#This Row],[Дата визита]])","v":"1900-01-01"},{"$f":"YEAR(Table[[#This Row],[Дата визита]])","v":2021},{"$f":"WEEKNUM(Table[[#This Row],[Дата визита]])","v":5},"15:00:00","Ростов-на-Дону, ул. Обороны, д. 40/17","Белозеров В.","Клиент 441","mail@birdyx.ru","79008889900","Инстаграм","Завершено","да",4]
[44219,{"$f":"DAY('База заказов'!$A443)","v":23},{"$f":"'База заказов'!$A443","v":"2021-01-23"},{"$f":"YEAR('База заказов'!$A443)","v":2021},"Гончарова Н.","Установка порожка",null,80000,null,{"$f":"SUM(Table[[#This Row],[Наличн]:[Безнал]])-SUM(Table[[#This Row],[Наличн]:[Безнал]])*Table[[#This Row],[Скидка]]","v":80000},44221,{"$f":"DAY(Table[[#This Row],[Дата визита]])","v":25},{"$f":"MONTH(Table[[#This Row],[Дата визита]])","v":"1900-01-01"},{"$f":"YEAR(Table[[#This Row],[Дата визита]])","v":2021},{"$f":"WEEKNUM(Table[[#This Row],[Дата визита]])","v":5},"17:00:00","Ростов-на-Дону, ул. Судостроительная, д. 55","Белозеров В.","Клиент 442","mail@birdyx.ru","79008889900","Яндекс","Завершено","да",5]
[44221,{"$f":"DAY('База заказов'!$A444)","v":25},{"$f":"'База заказов'!$A444","v":"2021-01-25"},{"$f":"YEAR('База заказов'!$A444)","v":2021},"Гончарова Н.","Монтаж потолочного плинтуса",4000,null,null,{"$f":"SUM(Table[[#This Row],[Наличн]:[Безнал]])-SUM(Table[[#This Row],[Наличн]:[Безнал]])*Table[[#This Row],[Скидка]]","v":4000},44221,{"$f":"DAY(Table[[#This Row],[Дата визита]])","v":25},{"$f":"MONTH(Table[[#This Row],[Дата визита]])","v":"1900-01-01"},{"$f":"YEAR(Table[[#This Row],[Дата визита]])","v":2021},{"$f":"WEEKNUM(Table[[#This Row],[Дата визита]])","v":5},"09:00:00","Ростов-На-Дону, пер. Семашко, д. 46/1","Беспалов Г.","Клиент 443","mail@birdyx.ru","79008889900","По совету","Завершено","да",3]
[44222,{"$f":"DAY('База заказов'!$A445)","v":26},{"$f":"'База заказов'!$A445","v":"2021-01-26"},{"$f":"YEAR('База заказов'!$A445)","v":2021},"Гончарова Н.","Выкройка и монтаж дополнительных углов",null,3000,0.15,{"$f":"SUM(Table[[#This Row],[Наличн]:[Безнал]])-SUM(Table[[#This Row],[Наличн]:[Безнал]])*Table[[#This Row],[Скидка]]","v":2550},44222,{"$f":"DAY(Table[[#This Row],[Дата визита]])","v":26},{"$f":"MONTH(Table[[#This Row],[Дата визита]])","v":"1900-01-01"},{"$f":"YEAR(Table[[#This Row],[Дата визита]])","v":2021},{"$f":"WEEKNUM(Table[[#This Row],[Дата визита]])","v":5},"11:00:00","Ростов-на-Дону, проспект Соколова, д. 11/Б","Белозеров В.","Клиент 444","mail@birdyx.ru","79008889900","Авито","Завершено","да",5]
[44223,{"$f":"DAY('База заказов'!$A446)","v":27},{"$f":"'База заказов'!$A446","v":"2021-01-27"},{"$f":"YEAR('База заказов'!$A446)","v":2021},"Мишин М.","Поклейка обоев на потолки",null,15000,null,{"$f":"SUM(Table[[#This Row],[Наличн]:[Безнал]])-SUM(Table[[#This Row],[Наличн]:[Безнал]])*Table[[#This Row],[Скидка]]","v":15000},44223,{"$f":"DAY(Table[[#This Row],[Дата визита]])","v":27},{"$f":"MONTH(Table[[#This Row],[Дата визита]])","v":"1900-01-01"},{"$f":"YEAR(Table[[#This Row],[Дата визита]])","v":2021},{"$f":"WEEKNUM(Table[[#This Row],[Дата визита]])","v":5},"15:00:00","Ростов-на-Дону, ул. Ларина, д. 41/19","Белозеров В.","Клиент 445","mail@birdyx.ru","79008889900","Инстаграм","Завершено","да",4]
[44223,{"$f":"DAY('База заказов'!$A447)","v":27},{"$f":"'База заказов'!$A447","v":"2021-01-27"},{"$f":"YEAR('База заказов'!$A447)","v":2021},"Мишин М.","Выкройка и монтаж дополнительных углов",22000,null,null,{"$f":"SUM(Table[[#This Row],[Наличн]:[Безнал]])-SUM(Table[[#This Row],[Наличн]:[Безнал]])*Table[[#This Row],[Скидка]]","v":22000},44223,{"$f":"DAY(Table[[#This Row],[Дата визита]])","v":27},{"$f":"MONTH(Table[[#This Row],[Дата визита]])","v":"1900-01-01"},{"$f":"YEAR(Table[[#This Row],[Дата визита]])","v":2021},{"$f":"WEEKNUM(Table[[#This Row],[Дата визита]])","v":5},"17:00:00","Ростов-на-Дону, проспект Коммунистический, д. 20/4","Минин В.","Клиент 446","mail@birdyx.ru","79008889900","Инстаграм","Завершено","да",3]
[44223,{"$f":"DAY('База заказов'!$A448)","v":27},{"$f":"'База заказов'!$A448","v":"2021-01-27"},{"$f":"YEAR('База заказов'!$A448)","v":2021},"Гончарова Н.","Установка плинтуса ПВХ",6200,null,null,{"$f":"SUM(Table[[#This Row],[Наличн]:[Безнал]])-SUM(Table[[#This Row],[Наличн]:[Безнал]])*Table[[#This Row],[Скидка]]","v":6200},44223,{"$f":"DAY(Table[[#This Row],[Дата визита]])","v":27},{"$f":"MONTH(Table[[#This Row],[Дата визита]])","v":"1900-01-01"},{"$f":"YEAR(Table[[#This Row],[Дата визита]])","v":2021},{"$f":"WEEKNUM(Table[[#This Row],[Дата визита]])","v":5},"09:00:00","Ростов-на-Дону, ул. Цезаря Куникова, д. 32/А","Субботин С.","Клиент 447","mail@birdyx.ru","79008889900","Инстаграм","Завершено","да",5]
[44226,{"$f":"DAY('База заказов'!$A449)","v":30},{"$f":"'База заказов'!$A449","v":"2021-01-30"},{"$f":"YEAR('База заказов'!$A449)","v":2021},"Гончарова Н.","Монтаж реечных потолков",null,15900,null,{"$f":"SUM(Table[[#This Row],[Наличн]:[Безнал]])-SUM(Table[[#This Row],[Наличн]:[Безнал]])*Table[[#This Row],[Скидка]]","v":15900},44226,{"$f":"DAY(Table[[#This Row],[Дата визита]])","v":30},{"$f":"MONTH(Table[[#This Row],[Дата визита]])","v":"1900-01-01"},{"$f":"YEAR(Table[[#This Row],[Дата визита]])","v":2021},{"$f":"WEEKNUM(Table[[#This Row],[Дата визита]])","v":5},"11:00:00","Ростов-на-Дону, ул. Красноармейская, д. 21","Белозеров В.","Клиент 448","mail@birdyx.ru","79008889900","Яндекс","Завершено","да",4]
[44227,{"$f":"DAY('База заказов'!$A450)","v":31},{"$f":"'База заказов'!$A450","v":"2021-01-31"},{"$f":"YEAR('База заказов'!$A450)","v":2021},"Гончарова Н.","Монтаж реечных потолков",null,36800,0.15,{"$f":"SUM(Table[[#This Row],[Наличн]:[Безнал]])-SUM(Table[[#This Row],[Наличн]:[Безнал]])*Table[[#This Row],[Скидка]]","v":31280},44227,{"$f":"DAY(Table[[#This Row],[Дата визита]])","v":31},{"$f":"MONTH(Table[[#This Row],[Дата визита]])","v":"1900-01-01"},{"$f":"YEAR(Table[[#This Row],[Дата визита]])","v":2021},{"$f":"WEEKNUM(Table[[#This Row],[Дата визита]])","v":6},"15:00:00","Ростов-на-Дону, проспект 40-летия Победы, д. 95/3","Белозеров В.","Клиент 449","mail@birdyx.ru","79008889900","По совету","Завершено","да",5]
[44228,{"$f":"DAY('База заказов'!$A451)","v":1},{"$f":"'База заказов'!$A451","v":"2021-02-01"},{"$f":"YEAR('База заказов'!$A451)","v":2021},"Гончарова Н.","Поклейка обоев на потолки",null,21800,null,{"$f":"SUM(Table[[#This Row],[Наличн]:[Безнал]])-SUM(Table[[#This Row],[Наличн]:[Безнал]])*Table[[#This Row],[Скидка]]","v":21800},44228,{"$f":"DAY(Table[[#This Row],[Дата визита]])","v":1},{"$f":"MONTH(Table[[#This Row],[Дата визита]])","v":"1900-01-02"},{"$f":"YEAR(Table[[#This Row],[Дата визита]])","v":2021},{"$f":"WEEKNUM(Table[[#This Row],[Дата визита]])","v":6},"17:00:00","Ростов-на-Дону, ул. Станиславского, д. 58","Беспалов Г.","Клиент 450","mail@birdyx.ru","79008889900","Авито","Завершено","да",4]
[44228,{"$f":"DAY('База заказов'!$A452)","v":1},{"$f":"'База заказов'!$A452","v":"2021-02-01"},{"$f":"YEAR('База заказов'!$A452)","v":2021},"Мишин М.","Поклейка обоев на потолки",null,26500,null,{"$f":"SUM(Table[[#This Row],[Наличн]:[Безнал]])-SUM(Table[[#This Row],[Наличн]:[Безнал]])*Table[[#This Row],[Скидка]]","v":26500},44228,{"$f":"DAY(Table[[#This Row],[Дата визита]])","v":1},{"$f":"MONTH(Table[[#This Row],[Дата визита]])","v":"1900-01-02"},{"$f":"YEAR(Table[[#This Row],[Дата визита]])","v":2021},{"$f":"WEEKNUM(Table[[#This Row],[Дата визита]])","v":6},"09:00:00","Ростов-на-Дону, проспект Буденновский, 86/197","Белозеров В.","Клиент 451","mail@birdyx.ru","79008889900","Авито","Завершено","да",3]
[44230,{"$f":"DAY('База заказов'!$A453)","v":3},{"$f":"'База заказов'!$A453","v":"2021-02-03"},{"$f":"YEAR('База заказов'!$A453)","v":2021},"Мишин М.","Укладка паркетной доски на клей",null,32700,null,{"$f":"SUM(Table[[#This Row],[Наличн]:[Безнал]])-SUM(Table[[#This Row],[Наличн]:[Безнал]])*Table[[#This Row],[Скидка]]","v":32700},44230,{"$f":"DAY(Table[[#This Row],[Дата визита]])","v":3},{"$f":"MONTH(Table[[#This Row],[Дата визита]])","v":"1900-01-02"},{"$f":"YEAR(Table[[#This Row],[Дата визита]])","v":2021},{"$f":"WEEKNUM(Table[[#This Row],[Дата визита]])","v":6},"11:00:00","Ростов-на-Дону, ул. Липовая, 5","Белозеров В.","Клиент 452","mail@birdyx.ru","79008889900","Сайт","Завершено","да",4]
[44231,{"$f":"DAY('База заказов'!$A454)","v":4},{"$f":"'База заказов'!$A454","v":"2021-02-04"},{"$f":"YEAR('База заказов'!$A454)","v":2021},"Гончарова Н.","Укладка паркетной доски на клей",null,37500,null,{"$f":"SUM(Table[[#This Row],[Наличн]:[Безнал]])-SUM(Table[[#This Row],[Наличн]:[Безнал]])*Table[[#This Row],[Скидка]]","v":37500},44231,{"$f":"DAY(Table[[#This Row],[Дата визита]])","v":4},{"$f":"MONTH(Table[[#This Row],[Дата визита]])","v":"1900-01-02"},{"$f":"YEAR(Table[[#This Row],[Дата визита]])","v":2021},{"$f":"WEEKNUM(Table[[#This Row],[Дата визита]])","v":6},"15:00:00","Ростов-на-Дону, ул. Станиславского, д. 58","Минин В.","Клиент 453","mail@birdyx.ru","79008889900","По совету","Завершено","да",3]
[44232,{"$f":"DAY('База заказов'!$A455)","v":5},{"$f":"'База заказов'!$A455","v":"2021-02-05"},{"$f":"YEAR('База заказов'!$A455)","v":2021},"Гончарова Н.","Укладка кварцвиниловой плитки на клей",22000,null,null,{"$f":"SUM(Table[[#This Row],[Наличн]:[Безнал]])-SUM(Table[[#This Row],[Наличн]:[Безнал]])*Table[[#This Row],[Скидка]]","v":22000},44232,{"$f":"DAY(Table[[#This Row],[Дата визита]])","v":5},{"$f":"MONTH(Table[[#This Row],[Дата визита]])","v":"1900-01-02"},{"$f":"YEAR(Table[[#This Row],[Дата визита]])","v":2021},{"$f":"WEEKNUM(Table[[#This Row],[Дата визита]])","v":6},"17:00:00","Ростов-на-Дону, ул. Беляева, д. 22А","Субботин С.","Клиент 454","mail@birdyx.ru","79008889900","Инстаграм","Завершено","да",4]
[44233,{"$f":"DAY('База заказов'!$A456)","v":6},{"$f":"'База заказов'!$A456","v":"2021-02-06"},{"$f":"YEAR('База заказов'!$A456)","v":2021},"Гончарова Н.","Укладка массивной доски",6200,null,null,{"$f":"SUM(Table[[#This Row],[Наличн]:[Безнал]])-SUM(Table[[#This Row],[Наличн]:[Безнал]])*Table[[#This Row],[Скидка]]","v":6200},44233,{"$f":"DAY(Table[[#This Row],[Дата визита]])","v":6},{"$f":"MONTH(Table[[#This Row],[Дата визита]])","v":"1900-01-02"},{"$f":"YEAR(Table[[#This Row],[Дата визита]])","v":2021},{"$f":"WEEKNUM(Table[[#This Row],[Дата визита]])","v":6},"10:00:00","Ростов-на-Дону, ул. 22 Линия, д. 34","Белозеров В.","Клиент 455","mail@birdyx.ru","79008889900","Инстаграм","Завершено","да",3]
[44234,{"$f":"DAY('База заказов'!$A457)","v":7},{"$f":"'База заказов'!$A457","v":"2021-02-07"},{"$f":"YEAR('База заказов'!$A457)","v":2021},"Гончарова Н.","Укладка линолеума на клей",null,15900,null,{"$f":"SUM(Table[[#This Row],[Наличн]:[Безнал]])-SUM(Table[[#This Row],[Наличн]:[Безнал]])*Table[[#This Row],[Скидка]]","v":15900},44234,{"$f":"DAY(Table[[#This Row],[Дата визита]])","v":7},{"$f":"MONTH(Table[[#This Row],[Дата визита]])","v":"1900-01-02"},{"$f":"YEAR(Table[[#This Row],[Дата визита]])","v":2021},{"$f":"WEEKNUM(Table[[#This Row],[Дата визита]])","v":7},"12:00:00","Ростов-На-Дону, проспект Шолохова, д. 288","Белозеров В.","Клиент 456","mail@birdyx.ru","79008889900","Инстаграм","Завершено","да",4]
[44234,{"$f":"DAY('База заказов'!$A458)","v":7},{"$f":"'База заказов'!$A458","v":"2021-02-07"},{"$f":"YEAR('База заказов'!$A458)","v":2021},"Мишин М.","Демонтаж оконного блока",null,36800,0.15,{"$f":"SUM(Table[[#This Row],[Наличн]:[Безнал]])-SUM(Table[[#This Row],[Наличн]:[Безнал]])*Table[[#This Row],[Скидка]]","v":31280},44234,{"$f":"DAY(Table[[#This Row],[Дата визита]])","v":7},{"$f":"MONTH(Table[[#This Row],[Дата визита]])","v":"1900-01-02"},{"$f":"YEAR(Table[[#This Row],[Дата визита]])","v":2021},{"$f":"WEEKNUM(Table[[#This Row],[Дата визита]])","v":7},"16:00:00","Ростов-на-Дону, проспект Кировский, д. 57","Беспалов Г.","Клиент 457","mail@birdyx.ru","79008889900","Яндекс","Завершено","да",5]
[44236,{"$f":"DAY('База заказов'!$A459)","v":9},{"$f":"'База заказов'!$A459","v":"2021-02-09"},{"$f":"YEAR('База заказов'!$A459)","v":2021},"Мишин М.","Установка порожка",null,21800,null,{"$f":"SUM(Table[[#This Row],[Наличн]:[Безнал]])-SUM(Table[[#This Row],[Наличн]:[Безнал]])*Table[[#This Row],[Скидка]]","v":21800},44236,{"$f":"DAY(Table[[#This Row],[Дата визита]])","v":9},{"$f":"MONTH(Table[[#This Row],[Дата визита]])","v":"1900-01-02"},{"$f":"YEAR(Table[[#This Row],[Дата визита]])","v":2021},{"$f":"WEEKNUM(Table[[#This Row],[Дата визита]])","v":7},"18:00:00","Ростов-на-Дону, Стартовая 20","Белозеров В.","Клиент 458","mail@birdyx.ru","79008889900","По совету","Завершено","да",5]
[44236,{"$f":"DAY('База заказов'!$A460)","v":9},{"$f":"'База заказов'!$A460","v":"2021-02-09"},{"$f":"YEAR('База заказов'!$A460)","v":2021},"Гончарова Н.","Поклейка обоев ",null,26500,null,{"$f":"SUM(Table[[#This Row],[Наличн]:[Безнал]])-SUM(Table[[#This Row],[Наличн]:[Безнал]])*Table[[#This Row],[Скидка]]","v":26500},44238,{"$f":"DAY(Table[[#This Row],[Дата визита]])","v":11},{"$f":"MONTH(Table[[#This Row],[Дата визита]])","v":"1900-01-02"},{"$f":"YEAR(Table[[#This Row],[Дата визита]])","v":2021},{"$f":"WEEKNUM(Table[[#This Row],[Дата визита]])","v":7},"10:00:00","Ростов-на-Дону, Стартовая 22","Белозеров В.","Клиент 459","mail@birdyx.ru","79008889900","Авито","Завершено","да",5]
[44238,{"$f":"DAY('База заказов'!$A461)","v":11},{"$f":"'База заказов'!$A461","v":"2021-02-11"},{"$f":"YEAR('База заказов'!$A461)","v":2021},"Гончарова Н.","Укладка паркетной доски на клей",null,32700,null,{"$f":"SUM(Table[[#This Row],[Наличн]:[Безнал]])-SUM(Table[[#This Row],[Наличн]:[Безнал]])*Table[[#This Row],[Скидка]]","v":32700},44238,{"$f":"DAY(Table[[#This Row],[Дата визита]])","v":11},{"$f":"MONTH(Table[[#This Row],[Дата визита]])","v":"1900-01-02"},{"$f":"YEAR(Table[[#This Row],[Дата визита]])","v":2021},{"$f":"WEEKNUM(Table[[#This Row],[Дата визита]])","v":7},"12:00:00","Ростов-на-Дону, Жданова 15","Минин В.","Клиент 460","mail@birdyx.ru","79008889900","Авито","Завершено","да",5]
[44239,{"$f":"DAY('База заказов'!$A462)","v":12},{"$f":"'База заказов'!$A462","v":"2021-02-12"},{"$f":"YEAR('База заказов'!$A462)","v":2021},"Гончарова Н.","Выкройка и монтаж дополнительных углов",null,37500,null,{"$f":"SUM(Table[[#This Row],[Наличн]:[Безнал]])-SUM(Table[[#This Row],[Наличн]:[Безнал]])*Table[[#This Row],[Скидка]]","v":37500},44239,{"$f":"DAY(Table[[#This Row],[Дата визита]])","v":12},{"$f":"MONTH(Table[[#This Row],[Дата визита]])","v":"1900-01-02"},{"$f":"YEAR(Table[[#This Row],[Дата визита]])","v":2021},{"$f":"WEEKNUM(Table[[#This Row],[Дата визита]])","v":7},"16:00:00","Ростов-на-Дону, ул. Пацаева, д. 2","Субботин С.","Клиент 461","mail@birdyx.ru","79008889900","Сайт","Завершено","да",5]
[44240,{"$f":"DAY('База заказов'!$A463)","v":13},{"$f":"'База заказов'!$A463","v":"2021-02-13"},{"$f":"YEAR('База заказов'!$A463)","v":2021},"Гончарова Н.","Выкройка и монтаж дополнительных углов",null,19900,null,{"$f":"SUM(Table[[#This Row],[Наличн]:[Безнал]])-SUM(Table[[#This Row],[Наличн]:[Безнал]])*Table[[#This Row],[Скидка]]","v":19900},44240,{"$f":"DAY(Table[[#This Row],[Дата визита]])","v":13},{"$f":"MONTH(Table[[#This Row],[Дата визита]])","v":"1900-01-02"},{"$f":"YEAR(Table[[#This Row],[Дата визита]])","v":2021},{"$f":"WEEKNUM(Table[[#This Row],[Дата визита]])","v":7},"18:00:00","Ростов-на-Дону, ул. 14 Линия, д. 33","Белозеров В.","Клиент 462","mail@birdyx.ru","79008889900","Яндекс","Завершено","да",5]
[44241,{"$f":"DAY('База заказов'!$A464)","v":14},{"$f":"'База заказов'!$A464","v":"2021-02-14"},{"$f":"YEAR('База заказов'!$A464)","v":2021},"Мишин М.","Укладка паркетной доски на клей",null,26900,0.15,{"$f":"SUM(Table[[#This Row],[Наличн]:[Безнал]])-SUM(Table[[#This Row],[Наличн]:[Безнал]])*Table[[#This Row],[Скидка]]","v":22865},44241,{"$f":"DAY(Table[[#This Row],[Дата визита]])","v":14},{"$f":"MONTH(Table[[#This Row],[Дата визита]])","v":"1900-01-02"},{"$f":"YEAR(Table[[#This Row],[Дата визита]])","v":2021},{"$f":"WEEKNUM(Table[[#This Row],[Дата визита]])","v":8},"10:00:00","Ростов-на-Дону, пер. Беломорский, д. 94","Белозеров В.","Клиент 463","mail@birdyx.ru","79008889900","По совету","Завершено","да",5]
[44242,{"$f":"DAY('База заказов'!$A465)","v":15},{"$f":"'База заказов'!$A465","v":"2021-02-15"},{"$f":"YEAR('База заказов'!$A465)","v":2021},"Мишин М.","Нанесение декоративной штукатурки ",null,10400,0.15,{"$f":"SUM(Table[[#This Row],[Наличн]:[Безнал]])-SUM(Table[[#This Row],[Наличн]:[Безнал]])*Table[[#This Row],[Скидка]]","v":8840},44244,{"$f":"DAY(Table[[#This Row],[Дата визита]])","v":17},{"$f":"MONTH(Table[[#This Row],[Дата визита]])","v":"1900-01-02"},{"$f":"YEAR(Table[[#This Row],[Дата визита]])","v":2021},{"$f":"WEEKNUM(Table[[#This Row],[Дата визита]])","v":8},"12:00:00","Ростов-На-Дону, ул. Извилистая, д. 13/2","Белозеров В.","Клиент 464","mail@birdyx.ru","79008889900","Авито","Завершено","да",4]
[44243,{"$f":"DAY('База заказов'!$A466)","v":16},{"$f":"'База заказов'!$A466","v":"2021-02-16"},{"$f":"YEAR('База заказов'!$A466)","v":2021},"Гончарова Н.","Монтаж потолочного плинтуса",null,19900,null,{"$f":"SUM(Table[[#This Row],[Наличн]:[Безнал]])-SUM(Table[[#This Row],[Наличн]:[Безнал]])*Table[[#This Row],[Скидка]]","v":19900},44244,{"$f":"DAY(Table[[#This Row],[Дата визита]])","v":17},{"$f":"MONTH(Table[[#This Row],[Дата визита]])","v":"1900-01-02"},{"$f":"YEAR(Table[[#This Row],[Дата визита]])","v":2021},{"$f":"WEEKNUM(Table[[#This Row],[Дата визита]])","v":8},"16:00:00","Ростов-на-Дону, пер. Братский, д. 36","Белозеров В.","Клиент 465","mail@birdyx.ru","79008889900","Сайт","Завершено","да",3]
[44244,{"$f":"DAY('База заказов'!$A467)","v":17},{"$f":"'База заказов'!$A467","v":"2021-02-17"},{"$f":"YEAR('База заказов'!$A467)","v":2021},"Гончарова Н.","Укладка фанеры в 1 слой",null,19800,null,{"$f":"SUM(Table[[#This Row],[Наличн]:[Безнал]])-SUM(Table[[#This Row],[Наличн]:[Безнал]])*Table[[#This Row],[Скидка]]","v":19800},44244,{"$f":"DAY(Table[[#This Row],[Дата визита]])","v":17},{"$f":"MONTH(Table[[#This Row],[Дата визита]])","v":"1900-01-02"},{"$f":"YEAR(Table[[#This Row],[Дата визита]])","v":2021},{"$f":"WEEKNUM(Table[[#This Row],[Дата визита]])","v":8},"18:00:00","Ростов-На-Дону, ул. Андрея Сладкова, д. 87","Минин В.","Клиент 466","mail@birdyx.ru","79008889900","Инстаграм","Завершено","да",4]
[44245,{"$f":"DAY('База заказов'!$A468)","v":18},{"$f":"'База заказов'!$A468","v":"2021-02-18"},{"$f":"YEAR('База заказов'!$A468)","v":2021},"Гончарова Н.","Укладка линолеума на клей",null,35700,null,{"$f":"SUM(Table[[#This Row],[Наличн]:[Безнал]])-SUM(Table[[#This Row],[Наличн]:[Безнал]])*Table[[#This Row],[Скидка]]","v":35700},44245,{"$f":"DAY(Table[[#This Row],[Дата визита]])","v":18},{"$f":"MONTH(Table[[#This Row],[Дата визита]])","v":"1900-01-02"},{"$f":"YEAR(Table[[#This Row],[Дата визита]])","v":2021},{"$f":"WEEKNUM(Table[[#This Row],[Дата визита]])","v":8},"10:00:00","Ростов-на-Дону, ул. 339-й Стрелковой Дивизии, д. 33","Субботин С.","Клиент 467","mail@birdyx.ru","79008889900","Инстаграм","Завершено","да",5]
[44245,{"$f":"DAY('База заказов'!$A469)","v":18},{"$f":"'База заказов'!$A469","v":"2021-02-18"},{"$f":"YEAR('База заказов'!$A469)","v":2021},"Гончарова Н.","Поклейка обоев на потолки",null,8700,null,{"$f":"SUM(Table[[#This Row],[Наличн]:[Безнал]])-SUM(Table[[#This Row],[Наличн]:[Безнал]])*Table[[#This Row],[Скидка]]","v":8700},44245,{"$f":"DAY(Table[[#This Row],[Дата визита]])","v":18},{"$f":"MONTH(Table[[#This Row],[Дата визита]])","v":"1900-01-02"},{"$f":"YEAR(Table[[#This Row],[Дата визита]])","v":2021},{"$f":"WEEKNUM(Table[[#This Row],[Дата визита]])","v":8},"12:00:00","Ростов-на-Дону, Ленина 1","Белозеров В.","Клиент 468","mail@birdyx.ru","79008889900","Инстаграм","Завершено","да",2]
[44245,{"$f":"DAY('База заказов'!$A470)","v":18},{"$f":"'База заказов'!$A470","v":"2021-02-18"},{"$f":"YEAR('База заказов'!$A470)","v":2021},"Мишин М.","Выкройка и монтаж дополнительных углов",null,26800,null,{"$f":"SUM(Table[[#This Row],[Наличн]:[Безнал]])-SUM(Table[[#This Row],[Наличн]:[Безнал]])*Table[[#This Row],[Скидка]]","v":26800},44245,{"$f":"DAY(Table[[#This Row],[Дата визита]])","v":18},{"$f":"MONTH(Table[[#This Row],[Дата визита]])","v":"1900-01-02"},{"$f":"YEAR(Table[[#This Row],[Дата визита]])","v":2021},{"$f":"WEEKNUM(Table[[#This Row],[Дата визита]])","v":8},"16:00:00","Ростов-на-Дону, Михаила Нагибина 32","Белозеров В.","Клиент 469","mail@birdyx.ru","79008889900","Яндекс","Завершено","да",5]
[44245,{"$f":"DAY('База заказов'!$A471)","v":18},{"$f":"'База заказов'!$A471","v":"2021-02-18"},{"$f":"YEAR('База заказов'!$A471)","v":2021},"Мишин М.","Установка плинтуса ПВХ",null,11100,null,{"$f":"SUM(Table[[#This Row],[Наличн]:[Безнал]])-SUM(Table[[#This Row],[Наличн]:[Безнал]])*Table[[#This Row],[Скидка]]","v":11100},44245,{"$f":"DAY(Table[[#This Row],[Дата визита]])","v":18},{"$f":"MONTH(Table[[#This Row],[Дата визита]])","v":"1900-01-02"},{"$f":"YEAR(Table[[#This Row],[Дата визита]])","v":2021},{"$f":"WEEKNUM(Table[[#This Row],[Дата визита]])","v":8},"18:00:00","Ростов-на-Дону, Михаила Нагибина 32","Беспалов Г.","Клиент 470","mail@birdyx.ru","79008889900","По совету","Завершено","да",3]
[44249,{"$f":"DAY('База заказов'!$A472)","v":22},{"$f":"'База заказов'!$A472","v":"2021-02-22"},{"$f":"YEAR('База заказов'!$A472)","v":2021},"Гончарова Н.","Монтаж реечных потолков",null,32500,null,{"$f":"SUM(Table[[#This Row],[Наличн]:[Безнал]])-SUM(Table[[#This Row],[Наличн]:[Безнал]])*Table[[#This Row],[Скидка]]","v":32500},44249,{"$f":"DAY(Table[[#This Row],[Дата визита]])","v":22},{"$f":"MONTH(Table[[#This Row],[Дата визита]])","v":"1900-01-02"},{"$f":"YEAR(Table[[#This Row],[Дата визита]])","v":2021},{"$f":"WEEKNUM(Table[[#This Row],[Дата визита]])","v":9},"10:00:00","Ростов-на-Дону, ул. Таганрогская, д. 149/1 К 35","Белозеров В.","Клиент 471","mail@birdyx.ru","79008889900","Авито","Завершено","да",3]
[44249,{"$f":"DAY('База заказов'!$A473)","v":22},{"$f":"'База заказов'!$A473","v":"2021-02-22"},{"$f":"YEAR('База заказов'!$A473)","v":2021},"Гончарова Н.","Монтаж реечных потолков",null,7100,null,{"$f":"SUM(Table[[#This Row],[Наличн]:[Безнал]])-SUM(Table[[#This Row],[Наличн]:[Безнал]])*Table[[#This Row],[Скидка]]","v":7100},44249,{"$f":"DAY(Table[[#This Row],[Дата визита]])","v":22},{"$f":"MONTH(Table[[#This Row],[Дата визита]])","v":"1900-01-02"},{"$f":"YEAR(Table[[#This Row],[Дата визита]])","v":2021},{"$f":"WEEKNUM(Table[[#This Row],[Дата визита]])","v":9},"12:00:00","Ростов-На-Дону, ул. Большая Садовая, д. 115","Белозеров В.","Клиент 472","mail@birdyx.ru","79008889900","Авито","Завершено","да",2]
[44251,{"$f":"DAY('База заказов'!$A474)","v":24},{"$f":"'База заказов'!$A474","v":"2021-02-24"},{"$f":"YEAR('База заказов'!$A474)","v":2021},"Мишин М.","Поклейка обоев на потолки",null,20300,null,{"$f":"SUM(Table[[#This Row],[Наличн]:[Безнал]])-SUM(Table[[#This Row],[Наличн]:[Безнал]])*Table[[#This Row],[Скидка]]","v":20300},44253,{"$f":"DAY(Table[[#This Row],[Дата визита]])","v":26},{"$f":"MONTH(Table[[#This Row],[Дата визита]])","v":"1900-01-02"},{"$f":"YEAR(Table[[#This Row],[Дата визита]])","v":2021},{"$f":"WEEKNUM(Table[[#This Row],[Дата визита]])","v":9},"16:00:00","Ростов-на-Дону, ул. Большая Садовая, д. 69","Минин В.","Клиент 473","mail@birdyx.ru","79008889900","Сайт","Завершено","да",4]
[44252,{"$f":"DAY('База заказов'!$A475)","v":25},{"$f":"'База заказов'!$A475","v":"2021-02-25"},{"$f":"YEAR('База заказов'!$A475)","v":2021},"Иванов И.","Поклейка обоев на потолки",15100,null,null,{"$f":"SUM(Table[[#This Row],[Наличн]:[Безнал]])-SUM(Table[[#This Row],[Наличн]:[Безнал]])*Table[[#This Row],[Скидка]]","v":15100},44253,{"$f":"DAY(Table[[#This Row],[Дата визита]])","v":26},{"$f":"MONTH(Table[[#This Row],[Дата визита]])","v":"1900-01-02"},{"$f":"YEAR(Table[[#This Row],[Дата визита]])","v":2021},{"$f":"WEEKNUM(Table[[#This Row],[Дата визита]])","v":9},"18:00:00","Ростов-на-Дону, пер. Университетский, д. 133","Субботин С.","Клиент 474","mail@birdyx.ru","79008889900","По совету","Завершено","да",3]
[44253,{"$f":"DAY('База заказов'!$A476)","v":26},{"$f":"'База заказов'!$A476","v":"2021-02-26"},{"$f":"YEAR('База заказов'!$A476)","v":2021},"Петров В.","Укладка паркетной доски на клей",36900,null,null,{"$f":"SUM(Table[[#This Row],[Наличн]:[Безнал]])-SUM(Table[[#This Row],[Наличн]:[Безнал]])*Table[[#This Row],[Скидка]]","v":36900},44253,{"$f":"DAY(Table[[#This Row],[Дата визита]])","v":26},{"$f":"MONTH(Table[[#This Row],[Дата визита]])","v":"1900-01-02"},{"$f":"YEAR(Table[[#This Row],[Дата визита]])","v":2021},{"$f":"WEEKNUM(Table[[#This Row],[Дата визита]])","v":9},"10:00:00","Ростов-на-Дону, пер. Соборный, д. 26","Белозеров В.","Клиент 475","mail@birdyx.ru","79008889900","Яндекс","Завершено","да",3]
[44254,{"$f":"DAY('База заказов'!$A477)","v":27},{"$f":"'База заказов'!$A477","v":"2021-02-27"},{"$f":"YEAR('База заказов'!$A477)","v":2021},"Иванов И.","Укладка паркетной доски на клей",null,10900,null,{"$f":"SUM(Table[[#This Row],[Наличн]:[Безнал]])-SUM(Table[[#This Row],[Наличн]:[Безнал]])*Table[[#This Row],[Скидка]]","v":10900},44254,{"$f":"DAY(Table[[#This Row],[Дата визита]])","v":27},{"$f":"MONTH(Table[[#This Row],[Дата визита]])","v":"1900-01-02"},{"$f":"YEAR(Table[[#This Row],[Дата визита]])","v":2021},{"$f":"WEEKNUM(Table[[#This Row],[Дата визита]])","v":9},"12:00:00","Ростов-на-Дону, проспект Сиверса, д. 1","Белозеров В.","Клиент 476","mail@birdyx.ru","79008889900","Инстаграм","Завершено","да",4]
[44254,{"$f":"DAY('База заказов'!$A478)","v":27},{"$f":"'База заказов'!$A478","v":"2021-02-27"},{"$f":"YEAR('База заказов'!$A478)","v":2021},"Гончарова Н.","Укладка кварцвиниловой плитки на клей",null,28200,null,{"$f":"SUM(Table[[#This Row],[Наличн]:[Безнал]])-SUM(Table[[#This Row],[Наличн]:[Безнал]])*Table[[#This Row],[Скидка]]","v":28200},44254,{"$f":"DAY(Table[[#This Row],[Дата визита]])","v":27},{"$f":"MONTH(Table[[#This Row],[Дата визита]])","v":"1900-01-02"},{"$f":"YEAR(Table[[#This Row],[Дата визита]])","v":2021},{"$f":"WEEKNUM(Table[[#This Row],[Дата визита]])","v":9},"16:00:00","Ростов-на-Дону, ул. Большая Садовая, д. 105/42","Беспалов Г.","Клиент 477","mail@birdyx.ru","79008889900","Яндекс","Отмена","да",3]
[44256,{"$f":"DAY('База заказов'!$A479)","v":1},{"$f":"'База заказов'!$A479","v":"2021-03-01"},{"$f":"YEAR('База заказов'!$A479)","v":2021},"Мишин М.","Укладка массивной доски",null,11100,null,{"$f":"SUM(Table[[#This Row],[Наличн]:[Безнал]])-SUM(Table[[#This Row],[Наличн]:[Безнал]])*Table[[#This Row],[Скидка]]","v":11100},44256,{"$f":"DAY(Table[[#This Row],[Дата визита]])","v":1},{"$f":"MONTH(Table[[#This Row],[Дата визита]])","v":"1900-01-03"},{"$f":"YEAR(Table[[#This Row],[Дата визита]])","v":2021},{"$f":"WEEKNUM(Table[[#This Row],[Дата визита]])","v":10},"18:00:00","Ростов-на-Дону, ул. Максима Горького, д. 149","Беспалов Г.","Клиент 478","mail@birdyx.ru","79008889900","Сайт","Завершено","да",4]
[44257,{"$f":"DAY('База заказов'!$A480)","v":2},{"$f":"'База заказов'!$A480","v":"2021-03-02"},{"$f":"YEAR('База заказов'!$A480)","v":2021},"Иванов И.","Укладка линолеума на клей",null,39900,null,{"$f":"SUM(Table[[#This Row],[Наличн]:[Безнал]])-SUM(Table[[#This Row],[Наличн]:[Безнал]])*Table[[#This Row],[Скидка]]","v":39900},44257,{"$f":"DAY(Table[[#This Row],[Дата визита]])","v":2},{"$f":"MONTH(Table[[#This Row],[Дата визита]])","v":"1900-01-03"},{"$f":"YEAR(Table[[#This Row],[Дата визита]])","v":2021},{"$f":"WEEKNUM(Table[[#This Row],[Дата визита]])","v":10},"10:00:00","Ростов-на-Дону, проспект Буденновский, д. 97","Минин В.","Клиент 479","mail@birdyx.ru","79008889900","Авито","Завершено","да",5]
[44258,{"$f":"DAY('База заказов'!$A481)","v":3},{"$f":"'База заказов'!$A481","v":"2021-03-03"},{"$f":"YEAR('База заказов'!$A481)","v":2021},"Гончарова Н.","Демонтаж оконного блока",null,27500,0.15,{"$f":"SUM(Table[[#This Row],[Наличн]:[Безнал]])-SUM(Table[[#This Row],[Наличн]:[Безнал]])*Table[[#This Row],[Скидка]]","v":23375},44258,{"$f":"DAY(Table[[#This Row],[Дата визита]])","v":3},{"$f":"MONTH(Table[[#This Row],[Дата визита]])","v":"1900-01-03"},{"$f":"YEAR(Table[[#This Row],[Дата визита]])","v":2021},{"$f":"WEEKNUM(Table[[#This Row],[Дата визита]])","v":10},"12:00:00","Ростов-на-Дону, ул. Советская, д. 26/1","Белозеров В.","Клиент 480","mail@birdyx.ru","79008889900","Авито","Завершено","да",2]
[44259,{"$f":"DAY('База заказов'!$A482)","v":4},{"$f":"'База заказов'!$A482","v":"2021-03-04"},{"$f":"YEAR('База заказов'!$A482)","v":2021},"Гончарова Н.","Установка порожка",null,22300,null,{"$f":"SUM(Table[[#This Row],[Наличн]:[Безнал]])-SUM(Table[[#This Row],[Наличн]:[Безнал]])*Table[[#This Row],[Скидка]]","v":22300},44259,{"$f":"DAY(Table[[#This Row],[Дата визита]])","v":4},{"$f":"MONTH(Table[[#This Row],[Дата визита]])","v":"1900-01-03"},{"$f":"YEAR(Table[[#This Row],[Дата визита]])","v":2021},{"$f":"WEEKNUM(Table[[#This Row],[Дата визита]])","v":10},"16:00:00","Ростов-на-Дону, ул. Мечникова, д. 43","Белозеров В.","Клиент 481","mail@birdyx.ru","79008889900","Сайт","Завершено","да",5]
[44260,{"$f":"DAY('База заказов'!$A483)","v":5},{"$f":"'База заказов'!$A483","v":"2021-03-05"},{"$f":"YEAR('База заказов'!$A483)","v":2021},"Гончарова Н.","Демонтаж душевой кабины",null,30800,null,{"$f":"SUM(Table[[#This Row],[Наличн]:[Безнал]])-SUM(Table[[#This Row],[Наличн]:[Безнал]])*Table[[#This Row],[Скидка]]","v":30800},44260,{"$f":"DAY(Table[[#This Row],[Дата визита]])","v":5},{"$f":"MONTH(Table[[#This Row],[Дата визита]])","v":"1900-01-03"},{"$f":"YEAR(Table[[#This Row],[Дата визита]])","v":2021},{"$f":"WEEKNUM(Table[[#This Row],[Дата визита]])","v":10},"18:00:00","Ростов-на-Дону, пер. Островского, д. 47","Минин В.","Клиент 482","mail@birdyx.ru","79008889900","Инстаграм","Завершено","да",5]
[44261,{"$f":"DAY('База заказов'!$A484)","v":6},{"$f":"'База заказов'!$A484","v":"2021-03-06"},{"$f":"YEAR('База заказов'!$A484)","v":2021},"Мишин М.","Демонтаж балконного блока",null,27800,null,{"$f":"SUM(Table[[#This Row],[Наличн]:[Безнал]])-SUM(Table[[#This Row],[Наличн]:[Безнал]])*Table[[#This Row],[Скидка]]","v":27800},44261,{"$f":"DAY(Table[[#This Row],[Дата визита]])","v":6},{"$f":"MONTH(Table[[#This Row],[Дата визита]])","v":"1900-01-03"},{"$f":"YEAR(Table[[#This Row],[Дата визита]])","v":2021},{"$f":"WEEKNUM(Table[[#This Row],[Дата визита]])","v":10},"10:00:00","Ростов-на-Дону, ул. Пушкинская, д. 225","Субботин С.","Клиент 483","mail@birdyx.ru","79008889900","Яндекс","Завершено","да",4]
[44261,{"$f":"DAY('База заказов'!$A485)","v":6},{"$f":"'База заказов'!$A485","v":"2021-03-06"},{"$f":"YEAR('База заказов'!$A485)","v":2021},"Мишин М.","Укладка паркетной доски на клей",null,9200,null,{"$f":"SUM(Table[[#This Row],[Наличн]:[Безнал]])-SUM(Table[[#This Row],[Наличн]:[Безнал]])*Table[[#This Row],[Скидка]]","v":9200},44261,{"$f":"DAY(Table[[#This Row],[Дата визита]])","v":6},{"$f":"MONTH(Table[[#This Row],[Дата визита]])","v":"1900-01-03"},{"$f":"YEAR(Table[[#This Row],[Дата визита]])","v":2021},{"$f":"WEEKNUM(Table[[#This Row],[Дата визита]])","v":10},"12:00:00","Ростов-На-Дону, ул. Ченцова, д. 57/81","Белозеров В.","Клиент 484","mail@birdyx.ru","79008889900","По совету","Завершено","да",5]
[44263,{"$f":"DAY('База заказов'!$A486)","v":8},{"$f":"'База заказов'!$A486","v":"2021-03-08"},{"$f":"YEAR('База заказов'!$A486)","v":2021},"Гончарова Н.","Укладка кварцвиниловой плитки на подложку",null,32000,null,{"$f":"SUM(Table[[#This Row],[Наличн]:[Безнал]])-SUM(Table[[#This Row],[Наличн]:[Безнал]])*Table[[#This Row],[Скидка]]","v":32000},44267,{"$f":"DAY(Table[[#This Row],[Дата визита]])","v":12},{"$f":"MONTH(Table[[#This Row],[Дата визита]])","v":"1900-01-03"},{"$f":"YEAR(Table[[#This Row],[Дата визита]])","v":2021},{"$f":"WEEKNUM(Table[[#This Row],[Дата визита]])","v":11},"16:00:00","Ростов-на-Дону, ул. Текучева, д. 135","Белозеров В.","Клиент 485","mail@birdyx.ru","79008889900","Авито","Завершено","да",5]
[44264,{"$f":"DAY('База заказов'!$A487)","v":9},{"$f":"'База заказов'!$A487","v":"2021-03-09"},{"$f":"YEAR('База заказов'!$A487)","v":2021},"Гончарова Н.","Укладка паркетной доски на подложку",null,23200,0.15,{"$f":"SUM(Table[[#This Row],[Наличн]:[Безнал]])-SUM(Table[[#This Row],[Наличн]:[Безнал]])*Table[[#This Row],[Скидка]]","v":19720},44267,{"$f":"DAY(Table[[#This Row],[Дата визита]])","v":12},{"$f":"MONTH(Table[[#This Row],[Дата визита]])","v":"1900-01-03"},{"$f":"YEAR(Table[[#This Row],[Дата визита]])","v":2021},{"$f":"WEEKNUM(Table[[#This Row],[Дата визита]])","v":11},"18:00:00","Ростов-на-Дону, пер. Газетный, д. 99","Беспалов Г.","Клиент 486","mail@birdyx.ru","79008889900","Сайт","Завершено","да",5]
[44264,{"$f":"DAY('База заказов'!$A488)","v":9},{"$f":"'База заказов'!$A488","v":"2021-03-09"},{"$f":"YEAR('База заказов'!$A488)","v":2021},"Мишин М.","Укладка массивной доски",22000,null,null,{"$f":"SUM(Table[[#This Row],[Наличн]:[Безнал]])-SUM(Table[[#This Row],[Наличн]:[Безнал]])*Table[[#This Row],[Скидка]]","v":22000},44267,{"$f":"DAY(Table[[#This Row],[Дата визита]])","v":12},{"$f":"MONTH(Table[[#This Row],[Дата визита]])","v":"1900-01-03"},{"$f":"YEAR(Table[[#This Row],[Дата визита]])","v":2021},{"$f":"WEEKNUM(Table[[#This Row],[Дата визита]])","v":11},"09:00:00","Ростов-на-Дону, проспект Кировский, д. 90","Минин В.","Клиент 487","mail@birdyx.ru","79008889900","Авито","Завершено","да",5]
[44266,{"$f":"DAY('База заказов'!$A489)","v":11},{"$f":"'База заказов'!$A489","v":"2021-03-11"},{"$f":"YEAR('База заказов'!$A489)","v":2021},"Иванов И.","Монтаж потолочного плинтуса",6200,null,null,{"$f":"SUM(Table[[#This Row],[Наличн]:[Безнал]])-SUM(Table[[#This Row],[Наличн]:[Безнал]])*Table[[#This Row],[Скидка]]","v":6200},44267,{"$f":"DAY(Table[[#This Row],[Дата визита]])","v":12},{"$f":"MONTH(Table[[#This Row],[Дата визита]])","v":"1900-01-03"},{"$f":"YEAR(Table[[#This Row],[Дата визита]])","v":2021},{"$f":"WEEKNUM(Table[[#This Row],[Дата визита]])","v":11},"11:00:00","Ростов-на-Дону, ул. 14 Линия, д. 14","Субботин С.","Клиент 488","mail@birdyx.ru","79008889900","Инстаграм","Завершено","да",5]
[44267,{"$f":"DAY('База заказов'!$A490)","v":12},{"$f":"'База заказов'!$A490","v":"2021-03-12"},{"$f":"YEAR('База заказов'!$A490)","v":2021},"Петров В.","Укладка массивной доски",null,15900,null,{"$f":"SUM(Table[[#This Row],[Наличн]:[Безнал]])-SUM(Table[[#This Row],[Наличн]:[Безнал]])*Table[[#This Row],[Скидка]]","v":15900},44267,{"$f":"DAY(Table[[#This Row],[Дата визита]])","v":12},{"$f":"MONTH(Table[[#This Row],[Дата визита]])","v":"1900-01-03"},{"$f":"YEAR(Table[[#This Row],[Дата визита]])","v":2021},{"$f":"WEEKNUM(Table[[#This Row],[Дата визита]])","v":11},"15:00:00","Ростов-на-Дону, ул. Береговая, д. 30","Белозеров В.","Клиент 489","mail@birdyx.ru","79008889900","Инстаграм","Завершено","да",5]
[44268,{"$f":"DAY('База заказов'!$A491)","v":13},{"$f":"'База заказов'!$A491","v":"2021-03-13"},{"$f":"YEAR('База заказов'!$A491)","v":2021},"Гончарова Н.","Поклейка обоев на потолки",null,36800,null,{"$f":"SUM(Table[[#This Row],[Наличн]:[Безнал]])-SUM(Table[[#This Row],[Наличн]:[Безнал]])*Table[[#This Row],[Скидка]]","v":36800},44268,{"$f":"DAY(Table[[#This Row],[Дата визита]])","v":13},{"$f":"MONTH(Table[[#This Row],[Дата визита]])","v":"1900-01-03"},{"$f":"YEAR(Table[[#This Row],[Дата визита]])","v":2021},{"$f":"WEEKNUM(Table[[#This Row],[Дата визита]])","v":11},"17:00:00","Ростов-на-Дону, ул. Большая Садовая, д. 77","Белозеров В.","Клиент 490","mail@birdyx.ru","79008889900","Инстаграм","Завершено","да",5]
[44269,{"$f":"DAY('База заказов'!$A492)","v":14},{"$f":"'База заказов'!$A492","v":"2021-03-14"},{"$f":"YEAR('База заказов'!$A492)","v":2021},"Гончарова Н.","Выкройка и монтаж дополнительных углов",null,21800,null,{"$f":"SUM(Table[[#This Row],[Наличн]:[Безнал]])-SUM(Table[[#This Row],[Наличн]:[Безнал]])*Table[[#This Row],[Скидка]]","v":21800},44269,{"$f":"DAY(Table[[#This Row],[Дата визита]])","v":14},{"$f":"MONTH(Table[[#This Row],[Дата визита]])","v":"1900-01-03"},{"$f":"YEAR(Table[[#This Row],[Дата визита]])","v":2021},{"$f":"WEEKNUM(Table[[#This Row],[Дата визита]])","v":12},"09:00:00","Ростов-на-Дону, ул. 6-я линия, д. 4","Белозеров В.","Клиент 491","mail@birdyx.ru","79008889900","Яндекс","Завершено","да",5]
[44270,{"$f":"DAY('База заказов'!$A493)","v":15},{"$f":"'База заказов'!$A493","v":"2021-03-15"},{"$f":"YEAR('База заказов'!$A493)","v":2021},"Гончарова Н.","Установка плинтуса ПВХ",null,26500,null,{"$f":"SUM(Table[[#This Row],[Наличн]:[Безнал]])-SUM(Table[[#This Row],[Наличн]:[Безнал]])*Table[[#This Row],[Скидка]]","v":26500},44270,{"$f":"DAY(Table[[#This Row],[Дата визита]])","v":15},{"$f":"MONTH(Table[[#This Row],[Дата визита]])","v":"1900-01-03"},{"$f":"YEAR(Table[[#This Row],[Дата визита]])","v":2021},{"$f":"WEEKNUM(Table[[#This Row],[Дата визита]])","v":12},"11:00:00","Ростов-на-Дону, ул. Гагринская, д. 46","Минин В.","Клиент 492","mail@birdyx.ru","79008889900","По совету","Завершено","да",5]
[44271,{"$f":"DAY('База заказов'!$A494)","v":16},{"$f":"'База заказов'!$A494","v":"2021-03-16"},{"$f":"YEAR('База заказов'!$A494)","v":2021},"Гончарова Н.","Монтаж реечных потолков",null,32700,0.15,{"$f":"SUM(Table[[#This Row],[Наличн]:[Безнал]])-SUM(Table[[#This Row],[Наличн]:[Безнал]])*Table[[#This Row],[Скидка]]","v":27795},44271,{"$f":"DAY(Table[[#This Row],[Дата визита]])","v":16},{"$f":"MONTH(Table[[#This Row],[Дата визита]])","v":"1900-01-03"},{"$f":"YEAR(Table[[#This Row],[Дата визита]])","v":2021},{"$f":"WEEKNUM(Table[[#This Row],[Дата визита]])","v":12},"15:00:00","Ростов-на-Дону, ул. Вятская, д. 37/1","Субботин С.","Клиент 493","mail@birdyx.ru","79008889900","Авито","Завершено","да",5]
[44272,{"$f":"DAY('База заказов'!$A495)","v":17},{"$f":"'База заказов'!$A495","v":"2021-03-17"},{"$f":"YEAR('База заказов'!$A495)","v":2021},"Мишин М.","Монтаж реечных потолков",null,37500,null,{"$f":"SUM(Table[[#This Row],[Наличн]:[Безнал]])-SUM(Table[[#This Row],[Наличн]:[Безнал]])*Table[[#This Row],[Скидка]]","v":37500},44272,{"$f":"DAY(Table[[#This Row],[Дата визита]])","v":17},{"$f":"MONTH(Table[[#This Row],[Дата визита]])","v":"1900-01-03"},{"$f":"YEAR(Table[[#This Row],[Дата визита]])","v":2021},{"$f":"WEEKNUM(Table[[#This Row],[Дата визита]])","v":12},"17:00:00","Ростов-на-Дону, ул. Станиславского, д. 58","Белозеров В.","Клиент 494","mail@birdyx.ru","79008889900","Авито","Завершено","да",5]
[44273,{"$f":"DAY('База заказов'!$A496)","v":18},{"$f":"'База заказов'!$A496","v":"2021-03-18"},{"$f":"YEAR('База заказов'!$A496)","v":2021},"Мишин М.","Поклейка обоев на потолки",null,19900,null,{"$f":"SUM(Table[[#This Row],[Наличн]:[Безнал]])-SUM(Table[[#This Row],[Наличн]:[Безнал]])*Table[[#This Row],[Скидка]]","v":19900},44273,{"$f":"DAY(Table[[#This Row],[Дата визита]])","v":18},{"$f":"MONTH(Table[[#This Row],[Дата визита]])","v":"1900-01-03"},{"$f":"YEAR(Table[[#This Row],[Дата визита]])","v":2021},{"$f":"WEEKNUM(Table[[#This Row],[Дата визита]])","v":12},"09:00:00","Ростов-на-Дону, пер. Нефтяной, д. 4 А","Белозеров В.","Клиент 495","mail@birdyx.ru","79008889900","Сайт","Завершено","да",5]
[44274,{"$f":"DAY('База заказов'!$A497)","v":19},{"$f":"'База заказов'!$A497","v":"2021-03-19"},{"$f":"YEAR('База заказов'!$A497)","v":2021},"Гончарова Н.","Поклейка обоев на потолки",null,26900,null,{"$f":"SUM(Table[[#This Row],[Наличн]:[Безнал]])-SUM(Table[[#This Row],[Наличн]:[Безнал]])*Table[[#This Row],[Скидка]]","v":26900},44274,{"$f":"DAY(Table[[#This Row],[Дата визита]])","v":19},{"$f":"MONTH(Table[[#This Row],[Дата визита]])","v":"1900-01-03"},{"$f":"YEAR(Table[[#This Row],[Дата визита]])","v":2021},{"$f":"WEEKNUM(Table[[#This Row],[Дата визита]])","v":12},"11:00:00","Ростов-на-Дону, ул. Станиславского, д. 167/25","Беспалов Г.","Клиент 496","mail@birdyx.ru","79008889900","Сайт","Завершено","да",5]
[44275,{"$f":"DAY('База заказов'!$A498)","v":20},{"$f":"'База заказов'!$A498","v":"2021-03-20"},{"$f":"YEAR('База заказов'!$A498)","v":2021},"Гончарова Н.","Укладка паркетной доски на клей",null,10400,0.15,{"$f":"SUM(Table[[#This Row],[Наличн]:[Безнал]])-SUM(Table[[#This Row],[Наличн]:[Безнал]])*Table[[#This Row],[Скидка]]","v":8840},44275,{"$f":"DAY(Table[[#This Row],[Дата визита]])","v":20},{"$f":"MONTH(Table[[#This Row],[Дата визита]])","v":"1900-01-03"},{"$f":"YEAR(Table[[#This Row],[Дата визита]])","v":2021},{"$f":"WEEKNUM(Table[[#This Row],[Дата визита]])","v":12},"15:00:00","Ростов-на-Дону, проспект Соколова, д. 85","Беспалов Г.","Клиент 497","mail@birdyx.ru","79008889900","Сайт","Завершено","да",5]
[44276,{"$f":"DAY('База заказов'!$A499)","v":21},{"$f":"'База заказов'!$A499","v":"2021-03-21"},{"$f":"YEAR('База заказов'!$A499)","v":2021},"Гончарова Н.","Укладка паркетной доски на клей",null,19900,null,{"$f":"SUM(Table[[#This Row],[Наличн]:[Безнал]])-SUM(Table[[#This Row],[Наличн]:[Безнал]])*Table[[#This Row],[Скидка]]","v":19900},44276,{"$f":"DAY(Table[[#This Row],[Дата визита]])","v":21},{"$f":"MONTH(Table[[#This Row],[Дата визита]])","v":"1900-01-03"},{"$f":"YEAR(Table[[#This Row],[Дата визита]])","v":2021},{"$f":"WEEKNUM(Table[[#This Row],[Дата визита]])","v":13},"17:00:00","Ростов-на-Дону, ул. Московская, д. 80","Устинов С.","Клиент 498","mail@birdyx.ru","79008889900","Инстаграм","Завершено","да",5]
[44276,{"$f":"DAY('База заказов'!$A500)","v":21},{"$f":"'База заказов'!$A500","v":"2021-03-21"},{"$f":"YEAR('База заказов'!$A500)","v":2021},"Гончарова Н.","Укладка кварцвиниловой плитки на клей",null,19800,null,{"$f":"SUM(Table[[#This Row],[Наличн]:[Безнал]])-SUM(Table[[#This Row],[Наличн]:[Безнал]])*Table[[#This Row],[Скидка]]","v":19800},44276,{"$f":"DAY(Table[[#This Row],[Дата визита]])","v":21},{"$f":"MONTH(Table[[#This Row],[Дата визита]])","v":"1900-01-03"},{"$f":"YEAR(Table[[#This Row],[Дата визита]])","v":2021},{"$f":"WEEKNUM(Table[[#This Row],[Дата визита]])","v":13},"09:00:00","Ростов-на-Дону, ул. Текучева, д. 151/2","Шарапов В.","Клиент 499","mail@birdyx.ru","79008889900","Инстаграм","Завершено","да",5]
[44276,{"$f":"DAY('База заказов'!$A501)","v":21},{"$f":"'База заказов'!$A501","v":"2021-03-21"},{"$f":"YEAR('База заказов'!$A501)","v":2021},"Мишин М.","Укладка массивной доски",null,35700,null,{"$f":"SUM(Table[[#This Row],[Наличн]:[Безнал]])-SUM(Table[[#This Row],[Наличн]:[Безнал]])*Table[[#This Row],[Скидка]]","v":35700},44280,{"$f":"DAY(Table[[#This Row],[Дата визита]])","v":25},{"$f":"MONTH(Table[[#This Row],[Дата визита]])","v":"1900-01-03"},{"$f":"YEAR(Table[[#This Row],[Дата визита]])","v":2021},{"$f":"WEEKNUM(Table[[#This Row],[Дата визита]])","v":13},"11:00:00","Ростов-На-Дону, ул. Тургеневская, д. 73","Белоусов В.","Клиент 500","mail@birdyx.ru","79008889900","Инстаграм","Завершено","да",5]
[44279,{"$f":"DAY('База заказов'!$A502)","v":24},{"$f":"'База заказов'!$A502","v":"2021-03-24"},{"$f":"YEAR('База заказов'!$A502)","v":2021},"Гончарова Н.","Укладка линолеума на клей",null,8700,null,{"$f":"SUM(Table[[#This Row],[Наличн]:[Безнал]])-SUM(Table[[#This Row],[Наличн]:[Безнал]])*Table[[#This Row],[Скидка]]","v":8700},44280,{"$f":"DAY(Table[[#This Row],[Дата визита]])","v":25},{"$f":"MONTH(Table[[#This Row],[Дата визита]])","v":"1900-01-03"},{"$f":"YEAR(Table[[#This Row],[Дата визита]])","v":2021},{"$f":"WEEKNUM(Table[[#This Row],[Дата визита]])","v":13},"15:00:00","Ростов-на-Дону, бульвар Комарова, д. 20/1","Белозеров В.","Клиент 501","mail@birdyx.ru","79008889900","Яндекс","Завершено","да",5]
[44280,{"$f":"DAY('База заказов'!$A503)","v":25},{"$f":"'База заказов'!$A503","v":"2021-03-25"},{"$f":"YEAR('База заказов'!$A503)","v":2021},"Гончарова Н.","Демонтаж оконного блока",null,26800,null,{"$f":"SUM(Table[[#This Row],[Наличн]:[Безнал]])-SUM(Table[[#This Row],[Наличн]:[Безнал]])*Table[[#This Row],[Скидка]]","v":26800},44280,{"$f":"DAY(Table[[#This Row],[Дата визита]])","v":25},{"$f":"MONTH(Table[[#This Row],[Дата визита]])","v":"1900-01-03"},{"$f":"YEAR(Table[[#This Row],[Дата визита]])","v":2021},{"$f":"WEEKNUM(Table[[#This Row],[Дата визита]])","v":13},"17:00:00","Ростов-на-Дону, ул. Пушкинская, д. 225/41/224","Белозеров В.","Клиент 502","mail@birdyx.ru","79008889900","По совету","Завершено","да",5]
[44281,{"$f":"DAY('База заказов'!$A504)","v":26},{"$f":"'База заказов'!$A504","v":"2021-03-26"},{"$f":"YEAR('База заказов'!$A504)","v":2021},"Гончарова Н.","Установка порожка",null,11100,0.15,{"$f":"SUM(Table[[#This Row],[Наличн]:[Безнал]])-SUM(Table[[#This Row],[Наличн]:[Безнал]])*Table[[#This Row],[Скидка]]","v":9435},44281,{"$f":"DAY(Table[[#This Row],[Дата визита]])","v":26},{"$f":"MONTH(Table[[#This Row],[Дата визита]])","v":"1900-01-03"},{"$f":"YEAR(Table[[#This Row],[Дата визита]])","v":2021},{"$f":"WEEKNUM(Table[[#This Row],[Дата визита]])","v":13},"10:00:00","Ростов-На-Дону, ул. Пушкинская, д. 1/36","Минин В.","Клиент 503","mail@birdyx.ru","79008889900","Авито","Завершено","да",5]
[44282,{"$f":"DAY('База заказов'!$A505)","v":27},{"$f":"'База заказов'!$A505","v":"2021-03-27"},{"$f":"YEAR('База заказов'!$A505)","v":2021},"Мишин М.","Укладка массивной доски",null,32500,0.15,{"$f":"SUM(Table[[#This Row],[Наличн]:[Безнал]])-SUM(Table[[#This Row],[Наличн]:[Безнал]])*Table[[#This Row],[Скидка]]","v":27625},44282,{"$f":"DAY(Table[[#This Row],[Дата визита]])","v":27},{"$f":"MONTH(Table[[#This Row],[Дата визита]])","v":"1900-01-03"},{"$f":"YEAR(Table[[#This Row],[Дата визита]])","v":2021},{"$f":"WEEKNUM(Table[[#This Row],[Дата визита]])","v":13},"12:00:00","Ростов-на-Дону, пер. Газетный, д. 92/85","Субботин С.","Клиент 504","mail@birdyx.ru","79008889900","Авито","Завершено","да",4]
[44283,{"$f":"DAY('База заказов'!$A506)","v":28},{"$f":"'База заказов'!$A506","v":"2021-03-28"},{"$f":"YEAR('База заказов'!$A506)","v":2021},"Мишин М.","Нанесение декоративной штукатурки ",null,7100,null,{"$f":"SUM(Table[[#This Row],[Наличн]:[Безнал]])-SUM(Table[[#This Row],[Наличн]:[Безнал]])*Table[[#This Row],[Скидка]]","v":7100},44283,{"$f":"DAY(Table[[#This Row],[Дата визита]])","v":28},{"$f":"MONTH(Table[[#This Row],[Дата визита]])","v":"1900-01-03"},{"$f":"YEAR(Table[[#This Row],[Дата визита]])","v":2021},{"$f":"WEEKNUM(Table[[#This Row],[Дата визита]])","v":14},"16:00:00","Ростов-на-Дону, проспект Буденновский, д. 106/2","Белозеров В.","Клиент 505","mail@birdyx.ru","79008889900","Сайт","Завершено","да",4]
[44284,{"$f":"DAY('База заказов'!$A507)","v":29},{"$f":"'База заказов'!$A507","v":"2021-03-29"},{"$f":"YEAR('База заказов'!$A507)","v":2021},"Гончарова Н.","Демонтаж входной двери",null,20300,null,{"$f":"SUM(Table[[#This Row],[Наличн]:[Безнал]])-SUM(Table[[#This Row],[Наличн]:[Безнал]])*Table[[#This Row],[Скидка]]","v":20300},44284,{"$f":"DAY(Table[[#This Row],[Дата визита]])","v":29},{"$f":"MONTH(Table[[#This Row],[Дата визита]])","v":"1900-01-03"},{"$f":"YEAR(Table[[#This Row],[Дата визита]])","v":2021},{"$f":"WEEKNUM(Table[[#This Row],[Дата визита]])","v":14},"18:00:00","Ростов-на-Дону, ул. Пушкинская, д. 104/32","Белозеров В.","Клиент 506","mail@birdyx.ru","79008889900","По совету","Завершено","да",4]
[44284,{"$f":"DAY('База заказов'!$A508)","v":29},{"$f":"'База заказов'!$A508","v":"2021-03-29"},{"$f":"YEAR('База заказов'!$A508)","v":2021},"Гончарова Н.","Поклейка обоев на потолки",15100,null,null,{"$f":"SUM(Table[[#This Row],[Наличн]:[Безнал]])-SUM(Table[[#This Row],[Наличн]:[Безнал]])*Table[[#This Row],[Скидка]]","v":15100},44284,{"$f":"DAY(Table[[#This Row],[Дата визита]])","v":29},{"$f":"MONTH(Table[[#This Row],[Дата визита]])","v":"1900-01-03"},{"$f":"YEAR(Table[[#This Row],[Дата визита]])","v":2021},{"$f":"WEEKNUM(Table[[#This Row],[Дата визита]])","v":14},"10:00:00","Ростов-на-Дону, ул. Республиканская, д. 1/8","Беспалов Г.","Клиент 507","mail@birdyx.ru","79008889900","Авито","Завершено","да",4]
[44284,{"$f":"DAY('База заказов'!$A509)","v":29},{"$f":"'База заказов'!$A509","v":"2021-03-29"},{"$f":"YEAR('База заказов'!$A509)","v":2021},"Иванов И.","Выкройка и монтаж дополнительных углов",36900,null,null,{"$f":"SUM(Table[[#This Row],[Наличн]:[Безнал]])-SUM(Table[[#This Row],[Наличн]:[Безнал]])*Table[[#This Row],[Скидка]]","v":36900},44284,{"$f":"DAY(Table[[#This Row],[Дата визита]])","v":29},{"$f":"MONTH(Table[[#This Row],[Дата визита]])","v":"1900-01-03"},{"$f":"YEAR(Table[[#This Row],[Дата визита]])","v":2021},{"$f":"WEEKNUM(Table[[#This Row],[Дата визита]])","v":14},"12:00:00","Ростов-на-Дону, ул. Красноармейская, д. 33","Минин В.","Клиент 508","mail@birdyx.ru","79008889900","Авито","Завершено","да",4]
[44284,{"$f":"DAY('База заказов'!$A510)","v":29},{"$f":"'База заказов'!$A510","v":"2021-03-29"},{"$f":"YEAR('База заказов'!$A510)","v":2021},"Мишин М.","Установка плинтуса ПВХ",null,10900,null,{"$f":"SUM(Table[[#This Row],[Наличн]:[Безнал]])-SUM(Table[[#This Row],[Наличн]:[Безнал]])*Table[[#This Row],[Скидка]]","v":10900},44290,{"$f":"DAY(Table[[#This Row],[Дата визита]])","v":4},{"$f":"MONTH(Table[[#This Row],[Дата визита]])","v":"1900-01-04"},{"$f":"YEAR(Table[[#This Row],[Дата визита]])","v":2021},{"$f":"WEEKNUM(Table[[#This Row],[Дата визита]])","v":15},"16:00:00","Ростов-на-Дону, ул. Максима Горького, д. 11/43","Белозеров В.","Клиент 509","mail@birdyx.ru","79008889900","Сайт","Завершено","да",4]
[44288,{"$f":"DAY('База заказов'!$A511)","v":2},{"$f":"'База заказов'!$A511","v":"2021-04-02"},{"$f":"YEAR('База заказов'!$A511)","v":2021},"Мишин М.","Монтаж реечных потолков",null,28200,null,{"$f":"SUM(Table[[#This Row],[Наличн]:[Безнал]])-SUM(Table[[#This Row],[Наличн]:[Безнал]])*Table[[#This Row],[Скидка]]","v":28200},44290,{"$f":"DAY(Table[[#This Row],[Дата визита]])","v":4},{"$f":"MONTH(Table[[#This Row],[Дата визита]])","v":"1900-01-04"},{"$f":"YEAR(Table[[#This Row],[Дата визита]])","v":2021},{"$f":"WEEKNUM(Table[[#This Row],[Дата визита]])","v":15},"18:00:00","Ростов-на-Дону, ул. Алма-Атинская, д. 29/2 А","Беспалов Г.","Клиент 510","mail@birdyx.ru","79008889900","Сайт","Завершено","да",2]
[44289,{"$f":"DAY('База заказов'!$A512)","v":3},{"$f":"'База заказов'!$A512","v":"2021-04-03"},{"$f":"YEAR('База заказов'!$A512)","v":2021},"Петров В.","Монтаж реечных потолков",null,11100,null,{"$f":"SUM(Table[[#This Row],[Наличн]:[Безнал]])-SUM(Table[[#This Row],[Наличн]:[Безнал]])*Table[[#This Row],[Скидка]]","v":11100},44290,{"$f":"DAY(Table[[#This Row],[Дата визита]])","v":4},{"$f":"MONTH(Table[[#This Row],[Дата визита]])","v":"1900-01-04"},{"$f":"YEAR(Table[[#This Row],[Дата визита]])","v":2021},{"$f":"WEEKNUM(Table[[#This Row],[Дата визита]])","v":15},"10:00:00","Ростов-на-Дону, ул. Малиновского, д. 68/1","Устинов С.","Клиент 511","mail@birdyx.ru","79008889900","Сайт","Завершено","да",5]
[44290,{"$f":"DAY('База заказов'!$A513)","v":4},{"$f":"'База заказов'!$A513","v":"2021-04-04"},{"$f":"YEAR('База заказов'!$A513)","v":2021},"Петров В.","Поклейка обоев на потолки",null,39900,null,{"$f":"SUM(Table[[#This Row],[Наличн]:[Безнал]])-SUM(Table[[#This Row],[Наличн]:[Безнал]])*Table[[#This Row],[Скидка]]","v":39900},44290,{"$f":"DAY(Table[[#This Row],[Дата визита]])","v":4},{"$f":"MONTH(Table[[#This Row],[Дата визита]])","v":"1900-01-04"},{"$f":"YEAR(Table[[#This Row],[Дата визита]])","v":2021},{"$f":"WEEKNUM(Table[[#This Row],[Дата визита]])","v":15},"12:00:00","Ростов-на-Дону, ул. Береговая, д. 5","Белозеров В.","Клиент 512","mail@birdyx.ru","79008889900","Авито","Завершено","да",4]
[44291,{"$f":"DAY('База заказов'!$A514)","v":5},{"$f":"'База заказов'!$A514","v":"2021-04-05"},{"$f":"YEAR('База заказов'!$A514)","v":2021},"Гончарова Н.","Поклейка обоев на потолки",null,27500,0.15,{"$f":"SUM(Table[[#This Row],[Наличн]:[Безнал]])-SUM(Table[[#This Row],[Наличн]:[Безнал]])*Table[[#This Row],[Скидка]]","v":23375},44291,{"$f":"DAY(Table[[#This Row],[Дата визита]])","v":5},{"$f":"MONTH(Table[[#This Row],[Дата визита]])","v":"1900-01-04"},{"$f":"YEAR(Table[[#This Row],[Дата визита]])","v":2021},{"$f":"WEEKNUM(Table[[#This Row],[Дата визита]])","v":15},"16:00:00","Ростов-на-Дону, пл. Гагарина, д. 1","Белозеров В.","Клиент 513","mail@birdyx.ru","79008889900","Сайт","Завершено","да",5]
[44292,{"$f":"DAY('База заказов'!$A515)","v":6},{"$f":"'База заказов'!$A515","v":"2021-04-06"},{"$f":"YEAR('База заказов'!$A515)","v":2021},"Иванов И.","Укладка паркетной доски на клей",null,22300,null,{"$f":"SUM(Table[[#This Row],[Наличн]:[Безнал]])-SUM(Table[[#This Row],[Наличн]:[Безнал]])*Table[[#This Row],[Скидка]]","v":22300},44292,{"$f":"DAY(Table[[#This Row],[Дата визита]])","v":6},{"$f":"MONTH(Table[[#This Row],[Дата визита]])","v":"1900-01-04"},{"$f":"YEAR(Table[[#This Row],[Дата визита]])","v":2021},{"$f":"WEEKNUM(Table[[#This Row],[Дата визита]])","v":15},"18:00:00","Ростов-на-Дону, ул. Механизаторов, д. 6А","Минин В.","Клиент 514","mail@birdyx.ru","79008889900","По совету","Завершено","да",4]
[44293,{"$f":"DAY('База заказов'!$A516)","v":7},{"$f":"'База заказов'!$A516","v":"2021-04-07"},{"$f":"YEAR('База заказов'!$A516)","v":2021},"Мишин М.","Укладка паркетной доски на клей",null,30800,null,{"$f":"SUM(Table[[#This Row],[Наличн]:[Безнал]])-SUM(Table[[#This Row],[Наличн]:[Безнал]])*Table[[#This Row],[Скидка]]","v":30800},44293,{"$f":"DAY(Table[[#This Row],[Дата визита]])","v":7},{"$f":"MONTH(Table[[#This Row],[Дата визита]])","v":"1900-01-04"},{"$f":"YEAR(Table[[#This Row],[Дата визита]])","v":2021},{"$f":"WEEKNUM(Table[[#This Row],[Дата визита]])","v":15},"10:00:00","Ростов-На-Дону, проспект Буденновский, д. 3/3","Субботин С.","Клиент 515","mail@birdyx.ru","79008889900","Инстаграм","Завершено","да",5]
[44294,{"$f":"DAY('База заказов'!$A517)","v":8},{"$f":"'База заказов'!$A517","v":"2021-04-08"},{"$f":"YEAR('База заказов'!$A517)","v":2021},"Мишин М.","Укладка кварцвиниловой плитки на клей",null,27800,null,{"$f":"SUM(Table[[#This Row],[Наличн]:[Безнал]])-SUM(Table[[#This Row],[Наличн]:[Безнал]])*Table[[#This Row],[Скидка]]","v":27800},44294,{"$f":"DAY(Table[[#This Row],[Дата визита]])","v":8},{"$f":"MONTH(Table[[#This Row],[Дата визита]])","v":"1900-01-04"},{"$f":"YEAR(Table[[#This Row],[Дата визита]])","v":2021},{"$f":"WEEKNUM(Table[[#This Row],[Дата визита]])","v":15},"12:00:00","Ростов-на-Дону, ул. Обороны, д. 40/17","Белозеров В.","Клиент 516","mail@birdyx.ru","79008889900","Инстаграм","Завершено","да",4]
[44295,{"$f":"DAY('База заказов'!$A518)","v":9},{"$f":"'База заказов'!$A518","v":"2021-04-09"},{"$f":"YEAR('База заказов'!$A518)","v":2021},"Петров В.","Поклейка обоев на потолки",null,9200,null,{"$f":"SUM(Table[[#This Row],[Наличн]:[Безнал]])-SUM(Table[[#This Row],[Наличн]:[Безнал]])*Table[[#This Row],[Скидка]]","v":9200},44298,{"$f":"DAY(Table[[#This Row],[Дата визита]])","v":12},{"$f":"MONTH(Table[[#This Row],[Дата визита]])","v":"1900-01-04"},{"$f":"YEAR(Table[[#This Row],[Дата визита]])","v":2021},{"$f":"WEEKNUM(Table[[#This Row],[Дата визита]])","v":16},"16:00:00","Ростов-на-Дону, ул. Судостроительная, д. 55","Белозеров В.","Клиент 517","mail@birdyx.ru","79008889900","Инстаграм","Завершено","да",5]
[44296,{"$f":"DAY('База заказов'!$A519)","v":10},{"$f":"'База заказов'!$A519","v":"2021-04-10"},{"$f":"YEAR('База заказов'!$A519)","v":2021},"Петров В.","Выкройка и монтаж дополнительных углов",22000,null,0.15,{"$f":"SUM(Table[[#This Row],[Наличн]:[Безнал]])-SUM(Table[[#This Row],[Наличн]:[Безнал]])*Table[[#This Row],[Скидка]]","v":18700},44298,{"$f":"DAY(Table[[#This Row],[Дата визита]])","v":12},{"$f":"MONTH(Table[[#This Row],[Дата визита]])","v":"1900-01-04"},{"$f":"YEAR(Table[[#This Row],[Дата визита]])","v":2021},{"$f":"WEEKNUM(Table[[#This Row],[Дата визита]])","v":16},"18:00:00","Ростов-На-Дону, пер. Семашко, д. 46/1","Беспалов Г.","Клиент 518","mail@birdyx.ru","79008889900","Яндекс","Завершено","да",5]
[44297,{"$f":"DAY('База заказов'!$A520)","v":11},{"$f":"'База заказов'!$A520","v":"2021-04-11"},{"$f":"YEAR('База заказов'!$A520)","v":2021},"Гончарова Н.","Установка плинтуса ПВХ",6200,null,null,{"$f":"SUM(Table[[#This Row],[Наличн]:[Безнал]])-SUM(Table[[#This Row],[Наличн]:[Безнал]])*Table[[#This Row],[Скидка]]","v":6200},44298,{"$f":"DAY(Table[[#This Row],[Дата визита]])","v":12},{"$f":"MONTH(Table[[#This Row],[Дата визита]])","v":"1900-01-04"},{"$f":"YEAR(Table[[#This Row],[Дата визита]])","v":2021},{"$f":"WEEKNUM(Table[[#This Row],[Дата визита]])","v":16},"10:00:00","Ростов-на-Дону, проспект Соколова, д. 11/Б","Шарапов В.","Клиент 519","mail@birdyx.ru","79008889900","По совету","Завершено","да",2]
[44298,{"$f":"DAY('База заказов'!$A521)","v":12},{"$f":"'База заказов'!$A521","v":"2021-04-12"},{"$f":"YEAR('База заказов'!$A521)","v":2021},"Иванов И.","Монтаж реечных потолков",null,15900,null,{"$f":"SUM(Table[[#This Row],[Наличн]:[Безнал]])-SUM(Table[[#This Row],[Наличн]:[Безнал]])*Table[[#This Row],[Скидка]]","v":15900},44298,{"$f":"DAY(Table[[#This Row],[Дата визита]])","v":12},{"$f":"MONTH(Table[[#This Row],[Дата визита]])","v":"1900-01-04"},{"$f":"YEAR(Table[[#This Row],[Дата визита]])","v":2021},{"$f":"WEEKNUM(Table[[#This Row],[Дата визита]])","v":16},"12:00:00","Ростов-на-Дону, ул. Ларина, д. 41/19","Субботин С.","Клиент 520","mail@birdyx.ru","79008889900","Авито","Отмена","да",5]
[44298,{"$f":"DAY('База заказов'!$A522)","v":12},{"$f":"'База заказов'!$A522","v":"2021-04-12"},{"$f":"YEAR('База заказов'!$A522)","v":2021},"Мишин М.","Монтаж реечных потолков",null,15900,null,{"$f":"SUM(Table[[#This Row],[Наличн]:[Безнал]])-SUM(Table[[#This Row],[Наличн]:[Безнал]])*Table[[#This Row],[Скидка]]","v":15900},44298,{"$f":"DAY(Table[[#This Row],[Дата визита]])","v":12},{"$f":"MONTH(Table[[#This Row],[Дата визита]])","v":"1900-01-04"},{"$f":"YEAR(Table[[#This Row],[Дата визита]])","v":2021},{"$f":"WEEKNUM(Table[[#This Row],[Дата визита]])","v":16},"16:00:00","Ростов-на-Дону, проспект Коммунистический, д. 20/4","Белозеров В.","Клиент 521","mail@birdyx.ru","79008889900","Авито","Завершено","да",5]
[44298,{"$f":"DAY('База заказов'!$A523)","v":12},{"$f":"'База заказов'!$A523","v":"2021-04-12"},{"$f":"YEAR('База заказов'!$A523)","v":2021},"Мишин М.","Поклейка обоев на потолки",null,15900,null,{"$f":"SUM(Table[[#This Row],[Наличн]:[Безнал]])-SUM(Table[[#This Row],[Наличн]:[Безнал]])*Table[[#This Row],[Скидка]]","v":15900},44298,{"$f":"DAY(Table[[#This Row],[Дата визита]])","v":12},{"$f":"MONTH(Table[[#This Row],[Дата визита]])","v":"1900-01-04"},{"$f":"YEAR(Table[[#This Row],[Дата визита]])","v":2021},{"$f":"WEEKNUM(Table[[#This Row],[Дата визита]])","v":16},"18:00:00","Ростов-на-Дону, ул. Цезаря Куникова, д. 32/А","Белозеров В.","Клиент 522","mail@birdyx.ru","79008889900","Сайт","Завершено","да",5]
[44298,{"$f":"DAY('База заказов'!$A524)","v":12},{"$f":"'База заказов'!$A524","v":"2021-04-12"},{"$f":"YEAR('База заказов'!$A524)","v":2021},"Петров В.","Поклейка обоев на потолки",null,15900,null,{"$f":"SUM(Table[[#This Row],[Наличн]:[Безнал]])-SUM(Table[[#This Row],[Наличн]:[Безнал]])*Table[[#This Row],[Скидка]]","v":15900},44298,{"$f":"DAY(Table[[#This Row],[Дата визита]])","v":12},{"$f":"MONTH(Table[[#This Row],[Дата визита]])","v":"1900-01-04"},{"$f":"YEAR(Table[[#This Row],[Дата визита]])","v":2021},{"$f":"WEEKNUM(Table[[#This Row],[Дата визита]])","v":16},"10:00:00","Ростов-на-Дону, ул. Красноармейская, д. 21","Минин В.","Клиент 523","mail@birdyx.ru","79008889900","Яндекс","Завершено","да",3]
[44302,{"$f":"DAY('База заказов'!$A525)","v":16},{"$f":"'База заказов'!$A525","v":"2021-04-16"},{"$f":"YEAR('База заказов'!$A525)","v":2021},"Петров В.","Укладка паркетной доски на клей",null,15900,null,{"$f":"SUM(Table[[#This Row],[Наличн]:[Безнал]])-SUM(Table[[#This Row],[Наличн]:[Безнал]])*Table[[#This Row],[Скидка]]","v":15900},44302,{"$f":"DAY(Table[[#This Row],[Дата визита]])","v":16},{"$f":"MONTH(Table[[#This Row],[Дата визита]])","v":"1900-01-04"},{"$f":"YEAR(Table[[#This Row],[Дата визита]])","v":2021},{"$f":"WEEKNUM(Table[[#This Row],[Дата визита]])","v":16},"12:00:00","Ростов-на-Дону, проспект 40-летия Победы, д. 95/3","Субботин С.","Клиент 524","mail@birdyx.ru","79008889900","По совету","Завершено","да",3]
[44303,{"$f":"DAY('База заказов'!$A526)","v":17},{"$f":"'База заказов'!$A526","v":"2021-04-17"},{"$f":"YEAR('База заказов'!$A526)","v":2021},"Гончарова Н.","Укладка паркетной доски на клей",null,15900,null,{"$f":"SUM(Table[[#This Row],[Наличн]:[Безнал]])-SUM(Table[[#This Row],[Наличн]:[Безнал]])*Table[[#This Row],[Скидка]]","v":15900},44303,{"$f":"DAY(Table[[#This Row],[Дата визита]])","v":17},{"$f":"MONTH(Table[[#This Row],[Дата визита]])","v":"1900-01-04"},{"$f":"YEAR(Table[[#This Row],[Дата визита]])","v":2021},{"$f":"WEEKNUM(Table[[#This Row],[Дата визита]])","v":16},"16:00:00","Ростов-на-Дону, ул. Станиславского, д. 58","Белозеров В.","Клиент 525","mail@birdyx.ru","79008889900","Сайт","Завершено","да",2]
[44304,{"$f":"DAY('База заказов'!$A527)","v":18},{"$f":"'База заказов'!$A527","v":"2021-04-18"},{"$f":"YEAR('База заказов'!$A527)","v":2021},"Иванов И.","Укладка кварцвиниловой плитки на клей",null,15900,null,{"$f":"SUM(Table[[#This Row],[Наличн]:[Безнал]])-SUM(Table[[#This Row],[Наличн]:[Безнал]])*Table[[#This Row],[Скидка]]","v":15900},44307,{"$f":"DAY(Table[[#This Row],[Дата визита]])","v":21},{"$f":"MONTH(Table[[#This Row],[Дата визита]])","v":"1900-01-04"},{"$f":"YEAR(Table[[#This Row],[Дата визита]])","v":2021},{"$f":"WEEKNUM(Table[[#This Row],[Дата визита]])","v":17},"18:00:00","Ростов-на-Дону, проспект Буденновский, 86/197","Белозеров В.","Клиент 526","mail@birdyx.ru","79008889900","Инстаграм","Завершено","да",3]
[44305,{"$f":"DAY('База заказов'!$A528)","v":19},{"$f":"'База заказов'!$A528","v":"2021-04-19"},{"$f":"YEAR('База заказов'!$A528)","v":2021},"Петров В.","Укладка массивной доски",null,15900,null,{"$f":"SUM(Table[[#This Row],[Наличн]:[Безнал]])-SUM(Table[[#This Row],[Наличн]:[Безнал]])*Table[[#This Row],[Скидка]]","v":15900},44307,{"$f":"DAY(Table[[#This Row],[Дата визита]])","v":21},{"$f":"MONTH(Table[[#This Row],[Дата визита]])","v":"1900-01-04"},{"$f":"YEAR(Table[[#This Row],[Дата визита]])","v":2021},{"$f":"WEEKNUM(Table[[#This Row],[Дата визита]])","v":17},"10:00:00","Ростов-на-Дону, ул. Липовая, 5","Беспалов Г.","Клиент 527","mail@birdyx.ru","79008889900","Инстаграм","Завершено","да",2]
[44306,{"$f":"DAY('База заказов'!$A529)","v":20},{"$f":"'База заказов'!$A529","v":"2021-04-20"},{"$f":"YEAR('База заказов'!$A529)","v":2021},"Мишин М.","Укладка линолеума на клей",null,15900,null,{"$f":"SUM(Table[[#This Row],[Наличн]:[Безнал]])-SUM(Table[[#This Row],[Наличн]:[Безнал]])*Table[[#This Row],[Скидка]]","v":15900},44307,{"$f":"DAY(Table[[#This Row],[Дата визита]])","v":21},{"$f":"MONTH(Table[[#This Row],[Дата визита]])","v":"1900-01-04"},{"$f":"YEAR(Table[[#This Row],[Дата визита]])","v":2021},{"$f":"WEEKNUM(Table[[#This Row],[Дата визита]])","v":17},"12:00:00","Ростов-на-Дону, ул. Станиславского, д. 58","Белозеров В.","Клиент 528","mail@birdyx.ru","79008889900","Инстаграм","Завершено","да",5]
[44307,{"$f":"DAY('База заказов'!$A530)","v":21},{"$f":"'База заказов'!$A530","v":"2021-04-21"},{"$f":"YEAR('База заказов'!$A530)","v":2021},"Петров В.","Демонтаж оконного блока",null,39900,null,{"$f":"SUM(Table[[#This Row],[Наличн]:[Безнал]])-SUM(Table[[#This Row],[Наличн]:[Безнал]])*Table[[#This Row],[Скидка]]","v":39900},44307,{"$f":"DAY(Table[[#This Row],[Дата визита]])","v":21},{"$f":"MONTH(Table[[#This Row],[Дата визита]])","v":"1900-01-04"},{"$f":"YEAR(Table[[#This Row],[Дата визита]])","v":2021},{"$f":"WEEKNUM(Table[[#This Row],[Дата визита]])","v":17},"16:00:00","Ростов-на-Дону, ул. Беляева, д. 22А","Минин В.","Клиент 529","mail@birdyx.ru","79008889900","Яндекс","Завершено","да",5]
[44308,{"$f":"DAY('База заказов'!$A531)","v":22},{"$f":"'База заказов'!$A531","v":"2021-04-22"},{"$f":"YEAR('База заказов'!$A531)","v":2021},"Петров В.","Установка порожка",null,39900,null,{"$f":"SUM(Table[[#This Row],[Наличн]:[Безнал]])-SUM(Table[[#This Row],[Наличн]:[Безнал]])*Table[[#This Row],[Скидка]]","v":39900},44308,{"$f":"DAY(Table[[#This Row],[Дата визита]])","v":22},{"$f":"MONTH(Table[[#This Row],[Дата визита]])","v":"1900-01-04"},{"$f":"YEAR(Table[[#This Row],[Дата визита]])","v":2021},{"$f":"WEEKNUM(Table[[#This Row],[Дата визита]])","v":17},"18:00:00","Ростов-на-Дону, ул. 22 Линия, д. 34","Шарапов В.","Клиент 530","mail@birdyx.ru","79008889900","По совету","Завершено","да",4]
[44309,{"$f":"DAY('База заказов'!$A532)","v":23},{"$f":"'База заказов'!$A532","v":"2021-04-23"},{"$f":"YEAR('База заказов'!$A532)","v":2021},"Иванов И.","Демонтаж душевого поддона",null,39900,null,{"$f":"SUM(Table[[#This Row],[Наличн]:[Безнал]])-SUM(Table[[#This Row],[Наличн]:[Безнал]])*Table[[#This Row],[Скидка]]","v":39900},44309,{"$f":"DAY(Table[[#This Row],[Дата визита]])","v":23},{"$f":"MONTH(Table[[#This Row],[Дата визита]])","v":"1900-01-04"},{"$f":"YEAR(Table[[#This Row],[Дата визита]])","v":2021},{"$f":"WEEKNUM(Table[[#This Row],[Дата визита]])","v":17},"10:00:00","Ростов-На-Дону, проспект Шолохова, д. 288","Субботин С.","Клиент 531","mail@birdyx.ru","79008889900","Авито","Завершено","да",3]
[44310,{"$f":"DAY('База заказов'!$A533)","v":24},{"$f":"'База заказов'!$A533","v":"2021-04-24"},{"$f":"YEAR('База заказов'!$A533)","v":2021},"Петров В.","Поклейка обоев на потолки",null,39900,null,{"$f":"SUM(Table[[#This Row],[Наличн]:[Безнал]])-SUM(Table[[#This Row],[Наличн]:[Безнал]])*Table[[#This Row],[Скидка]]","v":39900},44310,{"$f":"DAY(Table[[#This Row],[Дата визита]])","v":24},{"$f":"MONTH(Table[[#This Row],[Дата визита]])","v":"1900-01-04"},{"$f":"YEAR(Table[[#This Row],[Дата визита]])","v":2021},{"$f":"WEEKNUM(Table[[#This Row],[Дата визита]])","v":17},"12:00:00","Ростов-на-Дону, проспект Кировский, д. 57","Белозеров В.","Клиент 532","mail@birdyx.ru","79008889900","Авито","Завершено","да",5]
[44311,{"$f":"DAY('База заказов'!$A534)","v":25},{"$f":"'База заказов'!$A534","v":"2021-04-25"},{"$f":"YEAR('База заказов'!$A534)","v":2021},"Мишин М.","Выкройка и монтаж дополнительных углов",null,39900,null,{"$f":"SUM(Table[[#This Row],[Наличн]:[Безнал]])-SUM(Table[[#This Row],[Наличн]:[Безнал]])*Table[[#This Row],[Скидка]]","v":39900},44311,{"$f":"DAY(Table[[#This Row],[Дата визита]])","v":25},{"$f":"MONTH(Table[[#This Row],[Дата визита]])","v":"1900-01-04"},{"$f":"YEAR(Table[[#This Row],[Дата визита]])","v":2021},{"$f":"WEEKNUM(Table[[#This Row],[Дата визита]])","v":18},"16:00:00","Ростов-на-Дону, Стартовая 20","Белозеров В.","Клиент 533","mail@birdyx.ru","79008889900","Сайт","Завершено","да",4]
[44312,{"$f":"DAY('База заказов'!$A535)","v":26},{"$f":"'База заказов'!$A535","v":"2021-04-26"},{"$f":"YEAR('База заказов'!$A535)","v":2021},"Петров В.","Установка плинтуса ПВХ",null,39900,null,{"$f":"SUM(Table[[#This Row],[Наличн]:[Безнал]])-SUM(Table[[#This Row],[Наличн]:[Безнал]])*Table[[#This Row],[Скидка]]","v":39900},44315,{"$f":"DAY(Table[[#This Row],[Дата визита]])","v":29},{"$f":"MONTH(Table[[#This Row],[Дата визита]])","v":"1900-01-04"},{"$f":"YEAR(Table[[#This Row],[Дата визита]])","v":2021},{"$f":"WEEKNUM(Table[[#This Row],[Дата визита]])","v":18},"18:00:00","Ростов-на-Дону, Стартовая 22","Минин В.","Клиент 534","mail@birdyx.ru","79008889900","Яндекс","Завершено","да",4]
[44313,{"$f":"DAY('База заказов'!$A536)","v":27},{"$f":"'База заказов'!$A536","v":"2021-04-27"},{"$f":"YEAR('База заказов'!$A536)","v":2021},"Петров В.","Монтаж реечных потолков",null,15900,null,{"$f":"SUM(Table[[#This Row],[Наличн]:[Безнал]])-SUM(Table[[#This Row],[Наличн]:[Безнал]])*Table[[#This Row],[Скидка]]","v":15900},44315,{"$f":"DAY(Table[[#This Row],[Дата визита]])","v":29},{"$f":"MONTH(Table[[#This Row],[Дата визита]])","v":"1900-01-04"},{"$f":"YEAR(Table[[#This Row],[Дата визита]])","v":2021},{"$f":"WEEKNUM(Table[[#This Row],[Дата визита]])","v":18},"09:00:00","Ростов-на-Дону, Жданова 15","Субботин С.","Клиент 535","mail@birdyx.ru","79008889900","Инстаграм","Завершено","да",2]
[44314,{"$f":"DAY('База заказов'!$A537)","v":28},{"$f":"'База заказов'!$A537","v":"2021-04-28"},{"$f":"YEAR('База заказов'!$A537)","v":2021},"Иванов И.","Монтаж реечных потолков",null,15900,null,{"$f":"SUM(Table[[#This Row],[Наличн]:[Безнал]])-SUM(Table[[#This Row],[Наличн]:[Безнал]])*Table[[#This Row],[Скидка]]","v":15900},44315,{"$f":"DAY(Table[[#This Row],[Дата визита]])","v":29},{"$f":"MONTH(Table[[#This Row],[Дата визита]])","v":"1900-01-04"},{"$f":"YEAR(Table[[#This Row],[Дата визита]])","v":2021},{"$f":"WEEKNUM(Table[[#This Row],[Дата визита]])","v":18},"11:00:00","Ростов-на-Дону, ул. Пацаева, д. 2","Белозеров В.","Клиент 536","mail@birdyx.ru","79008889900","Яндекс","Завершено","да",5]
[44315,{"$f":"DAY('База заказов'!$A538)","v":29},{"$f":"'База заказов'!$A538","v":"2021-04-29"},{"$f":"YEAR('База заказов'!$A538)","v":2021},"Петров В.","Поклейка обоев на потолки",null,15900,null,{"$f":"SUM(Table[[#This Row],[Наличн]:[Безнал]])-SUM(Table[[#This Row],[Наличн]:[Безнал]])*Table[[#This Row],[Скидка]]","v":15900},44315,{"$f":"DAY(Table[[#This Row],[Дата визита]])","v":29},{"$f":"MONTH(Table[[#This Row],[Дата визита]])","v":"1900-01-04"},{"$f":"YEAR(Table[[#This Row],[Дата визита]])","v":2021},{"$f":"WEEKNUM(Table[[#This Row],[Дата визита]])","v":18},"15:00:00","Ростов-на-Дону, ул. 14 Линия, д. 33","Белозеров В.","Клиент 537","mail@birdyx.ru","79008889900","Сайт","Завершено","да",5]
[44316,{"$f":"DAY('База заказов'!$A539)","v":30},{"$f":"'База заказов'!$A539","v":"2021-04-30"},{"$f":"YEAR('База заказов'!$A539)","v":2021},"Мишин М.","Поклейка обоев на потолки",15100,null,null,{"$f":"SUM(Table[[#This Row],[Наличн]:[Безнал]])-SUM(Table[[#This Row],[Наличн]:[Безнал]])*Table[[#This Row],[Скидка]]","v":15100},44316,{"$f":"DAY(Table[[#This Row],[Дата визита]])","v":30},{"$f":"MONTH(Table[[#This Row],[Дата визита]])","v":"1900-01-04"},{"$f":"YEAR(Table[[#This Row],[Дата визита]])","v":2021},{"$f":"WEEKNUM(Table[[#This Row],[Дата визита]])","v":18},"17:00:00","Ростов-на-Дону, пер. Беломорский, д. 94","Беспалов Г.","Клиент 538","mail@birdyx.ru","79008889900","Авито","Завершено","да",5]
[44316,{"$f":"DAY('База заказов'!$A540)","v":30},{"$f":"'База заказов'!$A540","v":"2021-04-30"},{"$f":"YEAR('База заказов'!$A540)","v":2021},"Петров В.","Укладка паркетной доски на клей",36900,null,null,{"$f":"SUM(Table[[#This Row],[Наличн]:[Безнал]])-SUM(Table[[#This Row],[Наличн]:[Безнал]])*Table[[#This Row],[Скидка]]","v":36900},44316,{"$f":"DAY(Table[[#This Row],[Дата визита]])","v":30},{"$f":"MONTH(Table[[#This Row],[Дата визита]])","v":"1900-01-04"},{"$f":"YEAR(Table[[#This Row],[Дата визита]])","v":2021},{"$f":"WEEKNUM(Table[[#This Row],[Дата визита]])","v":18},"09:00:00","Ростов-На-Дону, ул. Извилистая, д. 13/2","Белозеров В.","Клиент 539","mail@birdyx.ru","79008889900","Авито","Завершено","да",5]
[44318,{"$f":"DAY('База заказов'!$A541)","v":2},{"$f":"'База заказов'!$A541","v":"2021-05-02"},{"$f":"YEAR('База заказов'!$A541)","v":2021},"Петров В.","Укладка паркетной доски на клей",null,10900,null,{"$f":"SUM(Table[[#This Row],[Наличн]:[Безнал]])-SUM(Table[[#This Row],[Наличн]:[Безнал]])*Table[[#This Row],[Скидка]]","v":10900},44318,{"$f":"DAY(Table[[#This Row],[Дата визита]])","v":2},{"$f":"MONTH(Table[[#This Row],[Дата визита]])","v":"1900-01-05"},{"$f":"YEAR(Table[[#This Row],[Дата визита]])","v":2021},{"$f":"WEEKNUM(Table[[#This Row],[Дата визита]])","v":19},"11:00:00","Ростов-на-Дону, пер. Братский, д. 36","Беспалов Г.","Клиент 540","mail@birdyx.ru","79008889900","Сайт","Завершено","да",5]
[44318,{"$f":"DAY('База заказов'!$A542)","v":2},{"$f":"'База заказов'!$A542","v":"2021-05-02"},{"$f":"YEAR('База заказов'!$A542)","v":2021},"Иванов И.","Укладка кварцвиниловой плитки на клей",null,39900,null,{"$f":"SUM(Table[[#This Row],[Наличн]:[Безнал]])-SUM(Table[[#This Row],[Наличн]:[Безнал]])*Table[[#This Row],[Скидка]]","v":39900},44318,{"$f":"DAY(Table[[#This Row],[Дата визита]])","v":2},{"$f":"MONTH(Table[[#This Row],[Дата визита]])","v":"1900-01-05"},{"$f":"YEAR(Table[[#This Row],[Дата визита]])","v":2021},{"$f":"WEEKNUM(Table[[#This Row],[Дата визита]])","v":19},"15:00:00","Ростов-На-Дону, ул. Андрея Сладкова, д. 87","Шарапов В.","Клиент 541","mail@birdyx.ru","79008889900","Инстаграм","Завершено","да",5]
[44320,{"$f":"DAY('База заказов'!$A543)","v":4},{"$f":"'База заказов'!$A543","v":"2021-05-04"},{"$f":"YEAR('База заказов'!$A543)","v":2021},"Петров В.","Укладка массивной доски",null,39900,0.15,{"$f":"SUM(Table[[#This Row],[Наличн]:[Безнал]])-SUM(Table[[#This Row],[Наличн]:[Безнал]])*Table[[#This Row],[Скидка]]","v":33915},44320,{"$f":"DAY(Table[[#This Row],[Дата визита]])","v":4},{"$f":"MONTH(Table[[#This Row],[Дата визита]])","v":"1900-01-05"},{"$f":"YEAR(Table[[#This Row],[Дата визита]])","v":2021},{"$f":"WEEKNUM(Table[[#This Row],[Дата визита]])","v":19},"17:00:00","Ростов-на-Дону, ул. 339-й Стрелковой Дивизии, д. 33","Белозеров В.","Клиент 542","mail@birdyx.ru","79008889900","Яндекс","Завершено","да",5]
[44321,{"$f":"DAY('База заказов'!$A544)","v":5},{"$f":"'База заказов'!$A544","v":"2021-05-05"},{"$f":"YEAR('База заказов'!$A544)","v":2021},"Мишин М.","Укладка линолеума на клей",null,39900,null,{"$f":"SUM(Table[[#This Row],[Наличн]:[Безнал]])-SUM(Table[[#This Row],[Наличн]:[Безнал]])*Table[[#This Row],[Скидка]]","v":39900},44321,{"$f":"DAY(Table[[#This Row],[Дата визита]])","v":5},{"$f":"MONTH(Table[[#This Row],[Дата визита]])","v":"1900-01-05"},{"$f":"YEAR(Table[[#This Row],[Дата визита]])","v":2021},{"$f":"WEEKNUM(Table[[#This Row],[Дата визита]])","v":19},"09:00:00","Ростов-на-Дону, Ленина 1","Белозеров В.","Клиент 543","mail@birdyx.ru","79008889900","По совету","Завершено","да",5]
[44322,{"$f":"DAY('База заказов'!$A545)","v":6},{"$f":"'База заказов'!$A545","v":"2021-05-06"},{"$f":"YEAR('База заказов'!$A545)","v":2021},"Гончарова Н.","Демонтаж оконного блока",null,27500,0.15,{"$f":"SUM(Table[[#This Row],[Наличн]:[Безнал]])-SUM(Table[[#This Row],[Наличн]:[Безнал]])*Table[[#This Row],[Скидка]]","v":23375},44324,{"$f":"DAY(Table[[#This Row],[Дата визита]])","v":8},{"$f":"MONTH(Table[[#This Row],[Дата визита]])","v":"1900-01-05"},{"$f":"YEAR(Table[[#This Row],[Дата визита]])","v":2021},{"$f":"WEEKNUM(Table[[#This Row],[Дата визита]])","v":19},"11:00:00","Ростов-на-Дону, Михаила Нагибина 32","Минин В.","Клиент 544","mail@birdyx.ru","79008889900","Инстаграм","Завершено","да",5]
[44323,{"$f":"DAY('База заказов'!$A546)","v":7},{"$f":"'База заказов'!$A546","v":"2021-05-07"},{"$f":"YEAR('База заказов'!$A546)","v":2021},"Гончарова Н.","Установка порожка",22300,null,null,{"$f":"SUM(Table[[#This Row],[Наличн]:[Безнал]])-SUM(Table[[#This Row],[Наличн]:[Безнал]])*Table[[#This Row],[Скидка]]","v":22300},44324,{"$f":"DAY(Table[[#This Row],[Дата визита]])","v":8},{"$f":"MONTH(Table[[#This Row],[Дата визита]])","v":"1900-01-05"},{"$f":"YEAR(Table[[#This Row],[Дата визита]])","v":2021},{"$f":"WEEKNUM(Table[[#This Row],[Дата визита]])","v":19},"15:00:00","Ростов-на-Дону, Михаила Нагибина 32","Субботин С.","Клиент 545","mail@birdyx.ru","79008889900","Инстаграм","Завершено","да",5]
[44324,{"$f":"DAY('База заказов'!$A547)","v":8},{"$f":"'База заказов'!$A547","v":"2021-05-08"},{"$f":"YEAR('База заказов'!$A547)","v":2021},"Иванов И.","Поклейка обоев на потолки",30800,null,null,{"$f":"SUM(Table[[#This Row],[Наличн]:[Безнал]])-SUM(Table[[#This Row],[Наличн]:[Безнал]])*Table[[#This Row],[Скидка]]","v":30800},44324,{"$f":"DAY(Table[[#This Row],[Дата визита]])","v":8},{"$f":"MONTH(Table[[#This Row],[Дата визита]])","v":"1900-01-05"},{"$f":"YEAR(Table[[#This Row],[Дата визита]])","v":2021},{"$f":"WEEKNUM(Table[[#This Row],[Дата визита]])","v":19},"17:00:00","Ростов-на-Дону, ул. Таганрогская, д. 149/1 К 35","Белозеров В.","Клиент 546","mail@birdyx.ru","79008889900","Инстаграм","Завершено","да",5]
[44325,{"$f":"DAY('База заказов'!$A548)","v":9},{"$f":"'База заказов'!$A548","v":"2021-05-09"},{"$f":"YEAR('База заказов'!$A548)","v":2021},"Мишин М.","Выкройка и монтаж дополнительных углов",27800,null,null,{"$f":"SUM(Table[[#This Row],[Наличн]:[Безнал]])-SUM(Table[[#This Row],[Наличн]:[Безнал]])*Table[[#This Row],[Скидка]]","v":27800},44325,{"$f":"DAY(Table[[#This Row],[Дата визита]])","v":9},{"$f":"MONTH(Table[[#This Row],[Дата визита]])","v":"1900-01-05"},{"$f":"YEAR(Table[[#This Row],[Дата визита]])","v":2021},{"$f":"WEEKNUM(Table[[#This Row],[Дата визита]])","v":20},"09:00:00","Ростов-На-Дону, ул. Большая Садовая, д. 115","Белозеров В.","Клиент 547","mail@birdyx.ru","79008889900","Яндекс","Завершено","да",5]
[44326,{"$f":"DAY('База заказов'!$A549)","v":10},{"$f":"'База заказов'!$A549","v":"2021-05-10"},{"$f":"YEAR('База заказов'!$A549)","v":2021},"Мишин М.","Установка плинтуса ПВХ",null,9200,0.15,{"$f":"SUM(Table[[#This Row],[Наличн]:[Безнал]])-SUM(Table[[#This Row],[Наличн]:[Безнал]])*Table[[#This Row],[Скидка]]","v":7820},44326,{"$f":"DAY(Table[[#This Row],[Дата визита]])","v":10},{"$f":"MONTH(Table[[#This Row],[Дата визита]])","v":"1900-01-05"},{"$f":"YEAR(Table[[#This Row],[Дата визита]])","v":2021},{"$f":"WEEKNUM(Table[[#This Row],[Дата визита]])","v":20},"11:00:00","Ростов-на-Дону, ул. Большая Садовая, д. 69","Беспалов Г.","Клиент 548","mail@birdyx.ru","79008889900","По совету","Завершено","да",5]
[44327,{"$f":"DAY('База заказов'!$A550)","v":11},{"$f":"'База заказов'!$A550","v":"2021-05-11"},{"$f":"YEAR('База заказов'!$A550)","v":2021},"Петров В.","Монтаж реечных потолков",null,32000,null,{"$f":"SUM(Table[[#This Row],[Наличн]:[Безнал]])-SUM(Table[[#This Row],[Наличн]:[Безнал]])*Table[[#This Row],[Скидка]]","v":32000},44327,{"$f":"DAY(Table[[#This Row],[Дата визита]])","v":11},{"$f":"MONTH(Table[[#This Row],[Дата визита]])","v":"1900-01-05"},{"$f":"YEAR(Table[[#This Row],[Дата визита]])","v":2021},{"$f":"WEEKNUM(Table[[#This Row],[Дата визита]])","v":20},"15:00:00","Ростов-на-Дону, пер. Университетский, д. 133","Минин В.","Клиент 549","mail@birdyx.ru","79008889900","Авито","Завершено","да",5]
[44328,{"$f":"DAY('База заказов'!$A551)","v":12},{"$f":"'База заказов'!$A551","v":"2021-05-12"},{"$f":"YEAR('База заказов'!$A551)","v":2021},"Петров В.","Монтаж реечных потолков",null,23200,null,{"$f":"SUM(Table[[#This Row],[Наличн]:[Безнал]])-SUM(Table[[#This Row],[Наличн]:[Безнал]])*Table[[#This Row],[Скидка]]","v":23200},44328,{"$f":"DAY(Table[[#This Row],[Дата визита]])","v":12},{"$f":"MONTH(Table[[#This Row],[Дата визита]])","v":"1900-01-05"},{"$f":"YEAR(Table[[#This Row],[Дата визита]])","v":2021},{"$f":"WEEKNUM(Table[[#This Row],[Дата визита]])","v":20},"17:00:00","Ростов-на-Дону, пер. Соборный, д. 26","Субботин С.","Клиент 550","mail@birdyx.ru","79008889900","Инстаграм","Завершено","да",5]
[44329,{"$f":"DAY('База заказов'!$A552)","v":13},{"$f":"'База заказов'!$A552","v":"2021-05-13"},{"$f":"YEAR('База заказов'!$A552)","v":2021},"Гончарова Н.","Поклейка обоев на потолки",null,38000,null,{"$f":"SUM(Table[[#This Row],[Наличн]:[Безнал]])-SUM(Table[[#This Row],[Наличн]:[Безнал]])*Table[[#This Row],[Скидка]]","v":38000},44329,{"$f":"DAY(Table[[#This Row],[Дата визита]])","v":13},{"$f":"MONTH(Table[[#This Row],[Дата визита]])","v":"1900-01-05"},{"$f":"YEAR(Table[[#This Row],[Дата визита]])","v":2021},{"$f":"WEEKNUM(Table[[#This Row],[Дата визита]])","v":20},"10:00:00","Ростов-на-Дону, проспект Сиверса, д. 1","Белозеров В.","Клиент 551","mail@birdyx.ru","79008889900","Инстаграм","Завершено","да",5]
[44330,{"$f":"DAY('База заказов'!$A553)","v":14},{"$f":"'База заказов'!$A553","v":"2021-05-14"},{"$f":"YEAR('База заказов'!$A553)","v":2021},"Иванов И.","Поклейка обоев на потолки",null,11100,null,{"$f":"SUM(Table[[#This Row],[Наличн]:[Безнал]])-SUM(Table[[#This Row],[Наличн]:[Безнал]])*Table[[#This Row],[Скидка]]","v":11100},44332,{"$f":"DAY(Table[[#This Row],[Дата визита]])","v":16},{"$f":"MONTH(Table[[#This Row],[Дата визита]])","v":"1900-01-05"},{"$f":"YEAR(Table[[#This Row],[Дата визита]])","v":2021},{"$f":"WEEKNUM(Table[[#This Row],[Дата визита]])","v":21},"12:00:00","Ростов-на-Дону, ул. Большая Садовая, д. 105/42","Белозеров В.","Клиент 552","mail@birdyx.ru","79008889900","Инстаграм","Завершено","да",5]
[44331,{"$f":"DAY('База заказов'!$A554)","v":15},{"$f":"'База заказов'!$A554","v":"2021-05-15"},{"$f":"YEAR('База заказов'!$A554)","v":2021},"Мишин М.","Укладка паркетной доски на клей",null,35500,null,{"$f":"SUM(Table[[#This Row],[Наличн]:[Безнал]])-SUM(Table[[#This Row],[Наличн]:[Безнал]])*Table[[#This Row],[Скидка]]","v":35500},44332,{"$f":"DAY(Table[[#This Row],[Дата визита]])","v":16},{"$f":"MONTH(Table[[#This Row],[Дата визита]])","v":"1900-01-05"},{"$f":"YEAR(Table[[#This Row],[Дата визита]])","v":2021},{"$f":"WEEKNUM(Table[[#This Row],[Дата визита]])","v":21},"16:00:00","Ростов-на-Дону, ул. Максима Горького, д. 149","Беспалов Г.","Клиент 553","mail@birdyx.ru","79008889900","Яндекс","Завершено","да",4]
[44332,{"$f":"DAY('База заказов'!$A555)","v":16},{"$f":"'База заказов'!$A555","v":"2021-05-16"},{"$f":"YEAR('База заказов'!$A555)","v":2021},"Мишин М.","Укладка паркетной доски на клей",null,26500,null,{"$f":"SUM(Table[[#This Row],[Наличн]:[Безнал]])-SUM(Table[[#This Row],[Наличн]:[Безнал]])*Table[[#This Row],[Скидка]]","v":26500},44332,{"$f":"DAY(Table[[#This Row],[Дата визита]])","v":16},{"$f":"MONTH(Table[[#This Row],[Дата визита]])","v":"1900-01-05"},{"$f":"YEAR(Table[[#This Row],[Дата визита]])","v":2021},{"$f":"WEEKNUM(Table[[#This Row],[Дата визита]])","v":21},"18:00:00","Ростов-на-Дону, проспект Буденновский, д. 97","Минин В.","Клиент 554","mail@birdyx.ru","79008889900","По совету","Завершено","да",5]
[44333,{"$f":"DAY('База заказов'!$A556)","v":17},{"$f":"'База заказов'!$A556","v":"2021-05-17"},{"$f":"YEAR('База заказов'!$A556)","v":2021},"Петров В.","Укладка кварцвиниловой плитки на клей",null,19700,null,{"$f":"SUM(Table[[#This Row],[Наличн]:[Безнал]])-SUM(Table[[#This Row],[Наличн]:[Безнал]])*Table[[#This Row],[Скидка]]","v":19700},44333,{"$f":"DAY(Table[[#This Row],[Дата визита]])","v":17},{"$f":"MONTH(Table[[#This Row],[Дата визита]])","v":"1900-01-05"},{"$f":"YEAR(Table[[#This Row],[Дата визита]])","v":2021},{"$f":"WEEKNUM(Table[[#This Row],[Дата визита]])","v":21},"10:00:00","Ростов-на-Дону, ул. Советская, д. 26/1","Субботин С.","Клиент 555","mail@birdyx.ru","79008889900","Авито","Завершено","да",5]
[44334,{"$f":"DAY('База заказов'!$A557)","v":18},{"$f":"'База заказов'!$A557","v":"2021-05-18"},{"$f":"YEAR('База заказов'!$A557)","v":2021},"Петров В.","Укладка массивной доски",19000,null,null,{"$f":"SUM(Table[[#This Row],[Наличн]:[Безнал]])-SUM(Table[[#This Row],[Наличн]:[Безнал]])*Table[[#This Row],[Скидка]]","v":19000},44334,{"$f":"DAY(Table[[#This Row],[Дата визита]])","v":18},{"$f":"MONTH(Table[[#This Row],[Дата визита]])","v":"1900-01-05"},{"$f":"YEAR(Table[[#This Row],[Дата визита]])","v":2021},{"$f":"WEEKNUM(Table[[#This Row],[Дата визита]])","v":21},"12:00:00","Ростов-на-Дону, ул. Мечникова, д. 43","Субботин С.","Клиент 556","mail@birdyx.ru","79008889900","Авито","Завершено","да",5]
[44335,{"$f":"DAY('База заказов'!$A558)","v":19},{"$f":"'База заказов'!$A558","v":"2021-05-19"},{"$f":"YEAR('База заказов'!$A558)","v":2021},"Гончарова Н.","Укладка линолеума на клей",4000,null,null,{"$f":"SUM(Table[[#This Row],[Наличн]:[Безнал]])-SUM(Table[[#This Row],[Наличн]:[Безнал]])*Table[[#This Row],[Скидка]]","v":4000},44335,{"$f":"DAY(Table[[#This Row],[Дата визита]])","v":19},{"$f":"MONTH(Table[[#This Row],[Дата визита]])","v":"1900-01-05"},{"$f":"YEAR(Table[[#This Row],[Дата визита]])","v":2021},{"$f":"WEEKNUM(Table[[#This Row],[Дата визита]])","v":21},"16:00:00","Ростов-на-Дону, пер. Островского, д. 47","Минин В.","Клиент 557","mail@birdyx.ru","79008889900","Сайт","Завершено","да",5]
[44336,{"$f":"DAY('База заказов'!$A559)","v":20},{"$f":"'База заказов'!$A559","v":"2021-05-20"},{"$f":"YEAR('База заказов'!$A559)","v":2021},"Иванов И.","Демонтаж оконного блока",2000,null,null,{"$f":"SUM(Table[[#This Row],[Наличн]:[Безнал]])-SUM(Table[[#This Row],[Наличн]:[Безнал]])*Table[[#This Row],[Скидка]]","v":2000},44336,{"$f":"DAY(Table[[#This Row],[Дата визита]])","v":20},{"$f":"MONTH(Table[[#This Row],[Дата визита]])","v":"1900-01-05"},{"$f":"YEAR(Table[[#This Row],[Дата визита]])","v":2021},{"$f":"WEEKNUM(Table[[#This Row],[Дата визита]])","v":21},"18:00:00","Ростов-на-Дону, ул. Пушкинская, д. 225","Шарапов В.","Клиент 558","mail@birdyx.ru","79008889900","По совету","Завершено","да",5]
[44337,{"$f":"DAY('База заказов'!$A560)","v":21},{"$f":"'База заказов'!$A560","v":"2021-05-21"},{"$f":"YEAR('База заказов'!$A560)","v":2021},"Мишин М.","Установка порожка",null,3000,null,{"$f":"SUM(Table[[#This Row],[Наличн]:[Безнал]])-SUM(Table[[#This Row],[Наличн]:[Безнал]])*Table[[#This Row],[Скидка]]","v":3000},44337,{"$f":"DAY(Table[[#This Row],[Дата визита]])","v":21},{"$f":"MONTH(Table[[#This Row],[Дата визита]])","v":"1900-01-05"},{"$f":"YEAR(Table[[#This Row],[Дата визита]])","v":2021},{"$f":"WEEKNUM(Table[[#This Row],[Дата визита]])","v":21},"10:00:00","Ростов-На-Дону, ул. Ченцова, д. 57/81","Шарапов В.","Клиент 559","mail@birdyx.ru","79008889900","Авито","Завершено","да",4]
[44338,{"$f":"DAY('База заказов'!$A561)","v":22},{"$f":"'База заказов'!$A561","v":"2021-05-22"},{"$f":"YEAR('База заказов'!$A561)","v":2021},"Мишин М.","Поклейка обоев на потолки",50000,null,null,{"$f":"SUM(Table[[#This Row],[Наличн]:[Безнал]])-SUM(Table[[#This Row],[Наличн]:[Безнал]])*Table[[#This Row],[Скидка]]","v":50000},44338,{"$f":"DAY(Table[[#This Row],[Дата визита]])","v":22},{"$f":"MONTH(Table[[#This Row],[Дата визита]])","v":"1900-01-05"},{"$f":"YEAR(Table[[#This Row],[Дата визита]])","v":2021},{"$f":"WEEKNUM(Table[[#This Row],[Дата визита]])","v":21},"12:00:00","Ростов-на-Дону, ул. Текучева, д. 135","Шарапов В.","Клиент 560","mail@birdyx.ru","79008889900","Авито","Завершено","да",5]
[44339,{"$f":"DAY('База заказов'!$A562)","v":23},{"$f":"'База заказов'!$A562","v":"2021-05-23"},{"$f":"YEAR('База заказов'!$A562)","v":2021},"Петров В.","Выкройка и монтаж дополнительных углов",null,6000,null,{"$f":"SUM(Table[[#This Row],[Наличн]:[Безнал]])-SUM(Table[[#This Row],[Наличн]:[Безнал]])*Table[[#This Row],[Скидка]]","v":6000},44339,{"$f":"DAY(Table[[#This Row],[Дата визита]])","v":23},{"$f":"MONTH(Table[[#This Row],[Дата визита]])","v":"1900-01-05"},{"$f":"YEAR(Table[[#This Row],[Дата визита]])","v":2021},{"$f":"WEEKNUM(Table[[#This Row],[Дата визита]])","v":22},"16:00:00","Ростов-на-Дону, пер. Газетный, д. 99","Минин В.","Клиент 561","mail@birdyx.ru","79008889900","Сайт","Завершено","да",3]
[44340,{"$f":"DAY('База заказов'!$A563)","v":24},{"$f":"'База заказов'!$A563","v":"2021-05-24"},{"$f":"YEAR('База заказов'!$A563)","v":2021},"Петров В.","Установка плинтуса ПВХ",20000,null,null,{"$f":"SUM(Table[[#This Row],[Наличн]:[Безнал]])-SUM(Table[[#This Row],[Наличн]:[Безнал]])*Table[[#This Row],[Скидка]]","v":20000},44340,{"$f":"DAY(Table[[#This Row],[Дата визита]])","v":24},{"$f":"MONTH(Table[[#This Row],[Дата визита]])","v":"1900-01-05"},{"$f":"YEAR(Table[[#This Row],[Дата визита]])","v":2021},{"$f":"WEEKNUM(Table[[#This Row],[Дата визита]])","v":22},"18:00:00","Ростов-на-Дону, проспект Кировский, д. 90","Белоусов В.","Клиент 562","mail@birdyx.ru","79008889900","Инстаграм","Завершено","да",4]
[44341,{"$f":"DAY('База заказов'!$A564)","v":25},{"$f":"'База заказов'!$A564","v":"2021-05-25"},{"$f":"YEAR('База заказов'!$A564)","v":2021},"Гончарова Н.","Монтаж реечных потолков",null,40000,null,{"$f":"SUM(Table[[#This Row],[Наличн]:[Безнал]])-SUM(Table[[#This Row],[Наличн]:[Безнал]])*Table[[#This Row],[Скидка]]","v":40000},44341,{"$f":"DAY(Table[[#This Row],[Дата визита]])","v":25},{"$f":"MONTH(Table[[#This Row],[Дата визита]])","v":"1900-01-05"},{"$f":"YEAR(Table[[#This Row],[Дата визита]])","v":2021},{"$f":"WEEKNUM(Table[[#This Row],[Дата визита]])","v":22},"10:00:00","Ростов-на-Дону, ул. 14 Линия, д. 14","Субботин С.","Клиент 563","mail@birdyx.ru","79008889900","Яндекс","Завершено","да",4]
[44342,{"$f":"DAY('База заказов'!$A565)","v":26},{"$f":"'База заказов'!$A565","v":"2021-05-26"},{"$f":"YEAR('База заказов'!$A565)","v":2021},"Иванов И.","Монтаж реечных потолков",null,2000,null,{"$f":"SUM(Table[[#This Row],[Наличн]:[Безнал]])-SUM(Table[[#This Row],[Наличн]:[Безнал]])*Table[[#This Row],[Скидка]]","v":2000},44342,{"$f":"DAY(Table[[#This Row],[Дата визита]])","v":26},{"$f":"MONTH(Table[[#This Row],[Дата визита]])","v":"1900-01-05"},{"$f":"YEAR(Table[[#This Row],[Дата визита]])","v":2021},{"$f":"WEEKNUM(Table[[#This Row],[Дата визита]])","v":22},"12:00:00","Ростов-на-Дону, ул. Береговая, д. 30","Устинов С.","Клиент 564","mail@birdyx.ru","79008889900","По совету","Завершено","да",4]
[44343,{"$f":"DAY('База заказов'!$A566)","v":27},{"$f":"'База заказов'!$A566","v":"2021-05-27"},{"$f":"YEAR('База заказов'!$A566)","v":2021},"Петров В.","Поклейка обоев на потолки",8000,null,0.15,{"$f":"SUM(Table[[#This Row],[Наличн]:[Безнал]])-SUM(Table[[#This Row],[Наличн]:[Безнал]])*Table[[#This Row],[Скидка]]","v":6800},44343,{"$f":"DAY(Table[[#This Row],[Дата визита]])","v":27},{"$f":"MONTH(Table[[#This Row],[Дата визита]])","v":"1900-01-05"},{"$f":"YEAR(Table[[#This Row],[Дата визита]])","v":2021},{"$f":"WEEKNUM(Table[[#This Row],[Дата визита]])","v":22},"16:00:00","Ростов-на-Дону, ул. Большая Садовая, д. 77","Субботин С.","Клиент 565","mail@birdyx.ru","79008889900","Сайт","Завершено","да",3]
[44344,{"$f":"DAY('База заказов'!$A567)","v":28},{"$f":"'База заказов'!$A567","v":"2021-05-28"},{"$f":"YEAR('База заказов'!$A567)","v":2021},"Мишин М.","Поклейка обоев на потолки",null,30000,0.15,{"$f":"SUM(Table[[#This Row],[Наличн]:[Безнал]])-SUM(Table[[#This Row],[Наличн]:[Безнал]])*Table[[#This Row],[Скидка]]","v":25500},44344,{"$f":"DAY(Table[[#This Row],[Дата визита]])","v":28},{"$f":"MONTH(Table[[#This Row],[Дата визита]])","v":"1900-01-05"},{"$f":"YEAR(Table[[#This Row],[Дата визита]])","v":2021},{"$f":"WEEKNUM(Table[[#This Row],[Дата визита]])","v":22},"18:00:00","Ростов-на-Дону, ул. 6-я линия, д. 4","Минин В.","Клиент 566","mail@birdyx.ru","79008889900","Авито","Завершено","да",4]
[44345,{"$f":"DAY('База заказов'!$A568)","v":29},{"$f":"'База заказов'!$A568","v":"2021-05-29"},{"$f":"YEAR('База заказов'!$A568)","v":2021},"Петров В.","Укладка паркетной доски на клей",200000,null,0.15,{"$f":"SUM(Table[[#This Row],[Наличн]:[Безнал]])-SUM(Table[[#This Row],[Наличн]:[Безнал]])*Table[[#This Row],[Скидка]]","v":170000},44345,{"$f":"DAY(Table[[#This Row],[Дата визита]])","v":29},{"$f":"MONTH(Table[[#This Row],[Дата визита]])","v":"1900-01-05"},{"$f":"YEAR(Table[[#This Row],[Дата визита]])","v":2021},{"$f":"WEEKNUM(Table[[#This Row],[Дата визита]])","v":22},"10:00:00","Ростов-на-Дону, ул. Гагринская, д. 46","Шарапов В.","Клиент 567","mail@birdyx.ru","79008889900","Авито","Завершено","да",4]
[44346,{"$f":"DAY('База заказов'!$A569)","v":30},{"$f":"'База заказов'!$A569","v":"2021-05-30"},{"$f":"YEAR('База заказов'!$A569)","v":2021},"Петров В.","Укладка паркетной доски на клей",null,30000,0.15,{"$f":"SUM(Table[[#This Row],[Наличн]:[Безнал]])-SUM(Table[[#This Row],[Наличн]:[Безнал]])*Table[[#This Row],[Скидка]]","v":25500},44346,{"$f":"DAY(Table[[#This Row],[Дата визита]])","v":30},{"$f":"MONTH(Table[[#This Row],[Дата визита]])","v":"1900-01-05"},{"$f":"YEAR(Table[[#This Row],[Дата визита]])","v":2021},{"$f":"WEEKNUM(Table[[#This Row],[Дата визита]])","v":23},"12:00:00","Ростов-на-Дону, ул. Вятская, д. 37/1","Шарапов В.","Клиент 568","mail@birdyx.ru","79008889900","Авито","Завершено","да",5]
[44347,{"$f":"DAY('База заказов'!$A570)","v":31},{"$f":"'База заказов'!$A570","v":"2021-05-31"},{"$f":"YEAR('База заказов'!$A570)","v":2021},"Иванов И.","Укладка кварцвиниловой плитки на клей",5000,null,0.15,{"$f":"SUM(Table[[#This Row],[Наличн]:[Безнал]])-SUM(Table[[#This Row],[Наличн]:[Безнал]])*Table[[#This Row],[Скидка]]","v":4250},44347,{"$f":"DAY(Table[[#This Row],[Дата визита]])","v":31},{"$f":"MONTH(Table[[#This Row],[Дата визита]])","v":"1900-01-05"},{"$f":"YEAR(Table[[#This Row],[Дата визита]])","v":2021},{"$f":"WEEKNUM(Table[[#This Row],[Дата визита]])","v":23},"16:00:00","Ростов-на-Дону, ул. Станиславского, д. 58","Шарапов В.","Клиент 569","mail@birdyx.ru","79008889900","Сайт","Завершено","да",4]
[44347,{"$f":"DAY('База заказов'!$A571)","v":31},{"$f":"'База заказов'!$A571","v":"2021-05-31"},{"$f":"YEAR('База заказов'!$A571)","v":2021},"Петров В.","Укладка массивной доски",null,80000,0.15,{"$f":"SUM(Table[[#This Row],[Наличн]:[Безнал]])-SUM(Table[[#This Row],[Наличн]:[Безнал]])*Table[[#This Row],[Скидка]]","v":68000},44347,{"$f":"DAY(Table[[#This Row],[Дата визита]])","v":31},{"$f":"MONTH(Table[[#This Row],[Дата визита]])","v":"1900-01-05"},{"$f":"YEAR(Table[[#This Row],[Дата визита]])","v":2021},{"$f":"WEEKNUM(Table[[#This Row],[Дата визита]])","v":23},"18:00:00","Ростов-на-Дону, пер. Нефтяной, д. 4 А","Минин В.","Клиент 570","mail@birdyx.ru","79008889900","Сайт","Завершено","да",5]
[44349,{"$f":"DAY('База заказов'!$A572)","v":2},{"$f":"'База заказов'!$A572","v":"2021-06-02"},{"$f":"YEAR('База заказов'!$A572)","v":2021},"Мишин М.","Укладка линолеума на клей",4000,null,0.15,{"$f":"SUM(Table[[#This Row],[Наличн]:[Безнал]])-SUM(Table[[#This Row],[Наличн]:[Безнал]])*Table[[#This Row],[Скидка]]","v":3400},44349,{"$f":"DAY(Table[[#This Row],[Дата визита]])","v":2},{"$f":"MONTH(Table[[#This Row],[Дата визита]])","v":"1900-01-06"},{"$f":"YEAR(Table[[#This Row],[Дата визита]])","v":2021},{"$f":"WEEKNUM(Table[[#This Row],[Дата визита]])","v":23},"10:00:00","Ростов-на-Дону, ул. Станиславского, д. 167/25","Белоусов В.","Клиент 571","mail@birdyx.ru","79008889900","Авито","Завершено","да",5]
[44350,{"$f":"DAY('База заказов'!$A573)","v":3},{"$f":"'База заказов'!$A573","v":"2021-06-03"},{"$f":"YEAR('База заказов'!$A573)","v":2021},"Петров В.","Демонтаж оконного блока",null,3000,null,{"$f":"SUM(Table[[#This Row],[Наличн]:[Безнал]])-SUM(Table[[#This Row],[Наличн]:[Безнал]])*Table[[#This Row],[Скидка]]","v":3000},44350,{"$f":"DAY(Table[[#This Row],[Дата визита]])","v":3},{"$f":"MONTH(Table[[#This Row],[Дата визита]])","v":"1900-01-06"},{"$f":"YEAR(Table[[#This Row],[Дата визита]])","v":2021},{"$f":"WEEKNUM(Table[[#This Row],[Дата визита]])","v":23},"12:00:00","Ростов-на-Дону, проспект Соколова, д. 85","Субботин С.","Клиент 572","mail@birdyx.ru","79008889900","Сайт","Завершено","да",5]
[44351,{"$f":"DAY('База заказов'!$A574)","v":4},{"$f":"'База заказов'!$A574","v":"2021-06-04"},{"$f":"YEAR('База заказов'!$A574)","v":2021},"Петров В.","Установка порожка",null,15000,null,{"$f":"SUM(Table[[#This Row],[Наличн]:[Безнал]])-SUM(Table[[#This Row],[Наличн]:[Безнал]])*Table[[#This Row],[Скидка]]","v":15000},44351,{"$f":"DAY(Table[[#This Row],[Дата визита]])","v":4},{"$f":"MONTH(Table[[#This Row],[Дата визита]])","v":"1900-01-06"},{"$f":"YEAR(Table[[#This Row],[Дата визита]])","v":2021},{"$f":"WEEKNUM(Table[[#This Row],[Дата визита]])","v":23},"16:00:00","Ростов-на-Дону, ул. Московская, д. 80","Устинов С.","Клиент 573","mail@birdyx.ru","79008889900","По совету","Завершено","да",5]
[44352,{"$f":"DAY('База заказов'!$A575)","v":5},{"$f":"'База заказов'!$A575","v":"2021-06-05"},{"$f":"YEAR('База заказов'!$A575)","v":2021},"Иванов И.","Поклейка обоев на потолки",null,30000,null,{"$f":"SUM(Table[[#This Row],[Наличн]:[Безнал]])-SUM(Table[[#This Row],[Наличн]:[Безнал]])*Table[[#This Row],[Скидка]]","v":30000},44352,{"$f":"DAY(Table[[#This Row],[Дата визита]])","v":5},{"$f":"MONTH(Table[[#This Row],[Дата визита]])","v":"1900-01-06"},{"$f":"YEAR(Table[[#This Row],[Дата визита]])","v":2021},{"$f":"WEEKNUM(Table[[#This Row],[Дата визита]])","v":23},"18:00:00","Ростов-на-Дону, ул. Текучева, д. 151/2","Белозеров В.","Клиент 574","mail@birdyx.ru","79008889900","Яндекс","Завершено","да",4]
[44353,{"$f":"DAY('База заказов'!$A576)","v":6},{"$f":"'База заказов'!$A576","v":"2021-06-06"},{"$f":"YEAR('База заказов'!$A576)","v":2021},"Петров В.","Выкройка и монтаж дополнительных углов",5000,null,null,{"$f":"SUM(Table[[#This Row],[Наличн]:[Безнал]])-SUM(Table[[#This Row],[Наличн]:[Безнал]])*Table[[#This Row],[Скидка]]","v":5000},44353,{"$f":"DAY(Table[[#This Row],[Дата визита]])","v":6},{"$f":"MONTH(Table[[#This Row],[Дата визита]])","v":"1900-01-06"},{"$f":"YEAR(Table[[#This Row],[Дата визита]])","v":2021},{"$f":"WEEKNUM(Table[[#This Row],[Дата визита]])","v":24},"10:00:00","Ростов-На-Дону, ул. Тургеневская, д. 73","Беспалов Г.","Клиент 575","mail@birdyx.ru","79008889900","Инстаграм","Завершено","да",4]
[44353,{"$f":"DAY('База заказов'!$A577)","v":6},{"$f":"'База заказов'!$A577","v":"2021-06-06"},{"$f":"YEAR('База заказов'!$A577)","v":2021},"Мишин М.","Установка плинтуса ПВХ",null,80000,null,{"$f":"SUM(Table[[#This Row],[Наличн]:[Безнал]])-SUM(Table[[#This Row],[Наличн]:[Безнал]])*Table[[#This Row],[Скидка]]","v":80000},44353,{"$f":"DAY(Table[[#This Row],[Дата визита]])","v":6},{"$f":"MONTH(Table[[#This Row],[Дата визита]])","v":"1900-01-06"},{"$f":"YEAR(Table[[#This Row],[Дата визита]])","v":2021},{"$f":"WEEKNUM(Table[[#This Row],[Дата визита]])","v":24},"12:00:00","Ростов-на-Дону, бульвар Комарова, д. 20/1","Белозеров В.","Клиент 576","mail@birdyx.ru","79008889900","Инстаграм","Отмена","да",4]
[44355,{"$f":"DAY('База заказов'!$A578)","v":8},{"$f":"'База заказов'!$A578","v":"2021-06-08"},{"$f":"YEAR('База заказов'!$A578)","v":2021},"Петров В.","Монтаж реечных потолков",4000,null,null,{"$f":"SUM(Table[[#This Row],[Наличн]:[Безнал]])-SUM(Table[[#This Row],[Наличн]:[Безнал]])*Table[[#This Row],[Скидка]]","v":4000},44355,{"$f":"DAY(Table[[#This Row],[Дата визита]])","v":8},{"$f":"MONTH(Table[[#This Row],[Дата визита]])","v":"1900-01-06"},{"$f":"YEAR(Table[[#This Row],[Дата визита]])","v":2021},{"$f":"WEEKNUM(Table[[#This Row],[Дата визита]])","v":24},"16:00:00","Ростов-на-Дону, ул. Пушкинская, д. 225/41/224","Устинов С.","Клиент 577","mail@birdyx.ru","79008889900","Инстаграм","Завершено","да",2]
[44356,{"$f":"DAY('База заказов'!$A579)","v":9},{"$f":"'База заказов'!$A579","v":"2021-06-09"},{"$f":"YEAR('База заказов'!$A579)","v":2021},"Петров В.","Монтаж реечных потолков",null,3000,null,{"$f":"SUM(Table[[#This Row],[Наличн]:[Безнал]])-SUM(Table[[#This Row],[Наличн]:[Безнал]])*Table[[#This Row],[Скидка]]","v":3000},44359,{"$f":"DAY(Table[[#This Row],[Дата визита]])","v":12},{"$f":"MONTH(Table[[#This Row],[Дата визита]])","v":"1900-01-06"},{"$f":"YEAR(Table[[#This Row],[Дата визита]])","v":2021},{"$f":"WEEKNUM(Table[[#This Row],[Дата визита]])","v":24},"18:00:00","Ростов-На-Дону, ул. Пушкинская, д. 1/36","Минин В.","Клиент 578","mail@birdyx.ru","79008889900","Инстаграм","Завершено","да",4]
[44357,{"$f":"DAY('База заказов'!$A580)","v":10},{"$f":"'База заказов'!$A580","v":"2021-06-10"},{"$f":"YEAR('База заказов'!$A580)","v":2021},"Иванов И.","Поклейка обоев на потолки",null,15000,null,{"$f":"SUM(Table[[#This Row],[Наличн]:[Безнал]])-SUM(Table[[#This Row],[Наличн]:[Безнал]])*Table[[#This Row],[Скидка]]","v":15000},44359,{"$f":"DAY(Table[[#This Row],[Дата визита]])","v":12},{"$f":"MONTH(Table[[#This Row],[Дата визита]])","v":"1900-01-06"},{"$f":"YEAR(Table[[#This Row],[Дата визита]])","v":2021},{"$f":"WEEKNUM(Table[[#This Row],[Дата визита]])","v":24},"10:00:00","Ростов-на-Дону, пер. Газетный, д. 92/85","Субботин С.","Клиент 579","mail@birdyx.ru","79008889900","Яндекс","Завершено","да",4]
[44358,{"$f":"DAY('База заказов'!$A581)","v":11},{"$f":"'База заказов'!$A581","v":"2021-06-11"},{"$f":"YEAR('База заказов'!$A581)","v":2021},"Петров В.","Поклейка обоев на потолки",null,30000,null,{"$f":"SUM(Table[[#This Row],[Наличн]:[Безнал]])-SUM(Table[[#This Row],[Наличн]:[Безнал]])*Table[[#This Row],[Скидка]]","v":30000},44359,{"$f":"DAY(Table[[#This Row],[Дата визита]])","v":12},{"$f":"MONTH(Table[[#This Row],[Дата визита]])","v":"1900-01-06"},{"$f":"YEAR(Table[[#This Row],[Дата визита]])","v":2021},{"$f":"WEEKNUM(Table[[#This Row],[Дата визита]])","v":24},"12:00:00","Ростов-на-Дону, проспект Буденновский, д. 106/2","Субботин С.","Клиент 580","mail@birdyx.ru","79008889900","По совету","Завершено","да",4]
[44359,{"$f":"DAY('База заказов'!$A582)","v":12},{"$f":"'База заказов'!$A582","v":"2021-06-12"},{"$f":"YEAR('База заказов'!$A582)","v":2021},"Мишин М.","Укладка паркетной доски на клей",5000,null,null,{"$f":"SUM(Table[[#This Row],[Наличн]:[Безнал]])-SUM(Table[[#This Row],[Наличн]:[Безнал]])*Table[[#This Row],[Скидка]]","v":5000},44359,{"$f":"DAY(Table[[#This Row],[Дата визита]])","v":12},{"$f":"MONTH(Table[[#This Row],[Дата визита]])","v":"1900-01-06"},{"$f":"YEAR(Table[[#This Row],[Дата визита]])","v":2021},{"$f":"WEEKNUM(Table[[#This Row],[Дата визита]])","v":24},"16:00:00","Ростов-на-Дону, ул. Пушкинская, д. 104/32","Белоусов В.","Клиент 581","mail@birdyx.ru","79008889900","Авито","Завершено","да",2]
[44360,{"$f":"DAY('База заказов'!$A583)","v":13},{"$f":"'База заказов'!$A583","v":"2021-06-13"},{"$f":"YEAR('База заказов'!$A583)","v":2021},"Петров В.","Укладка паркетной доски на клей",null,80000,0.15,{"$f":"SUM(Table[[#This Row],[Наличн]:[Безнал]])-SUM(Table[[#This Row],[Наличн]:[Безнал]])*Table[[#This Row],[Скидка]]","v":68000},44360,{"$f":"DAY(Table[[#This Row],[Дата визита]])","v":13},{"$f":"MONTH(Table[[#This Row],[Дата визита]])","v":"1900-01-06"},{"$f":"YEAR(Table[[#This Row],[Дата визита]])","v":2021},{"$f":"WEEKNUM(Table[[#This Row],[Дата визита]])","v":25},"18:00:00","Ростов-на-Дону, ул. Республиканская, д. 1/8","Белозеров В.","Клиент 582","mail@birdyx.ru","79008889900","Авито","Завершено","да",4]
[44361,{"$f":"DAY('База заказов'!$A584)","v":14},{"$f":"'База заказов'!$A584","v":"2021-06-14"},{"$f":"YEAR('База заказов'!$A584)","v":2021},"Гончарова Н.","Укладка кварцвиниловой плитки на клей",4000,null,null,{"$f":"SUM(Table[[#This Row],[Наличн]:[Безнал]])-SUM(Table[[#This Row],[Наличн]:[Безнал]])*Table[[#This Row],[Скидка]]","v":4000},44361,{"$f":"DAY(Table[[#This Row],[Дата визита]])","v":14},{"$f":"MONTH(Table[[#This Row],[Дата визита]])","v":"1900-01-06"},{"$f":"YEAR(Table[[#This Row],[Дата визита]])","v":2021},{"$f":"WEEKNUM(Table[[#This Row],[Дата визита]])","v":25},"09:00:00","Ростов-на-Дону, ул. Красноармейская, д. 33","Беспалов Г.","Клиент 583","mail@birdyx.ru","79008889900","Сайт","Завершено","да",4]
[44362,{"$f":"DAY('База заказов'!$A585)","v":15},{"$f":"'База заказов'!$A585","v":"2021-06-15"},{"$f":"YEAR('База заказов'!$A585)","v":2021},"Гончарова Н.","Укладка массивной доски",null,3000,null,{"$f":"SUM(Table[[#This Row],[Наличн]:[Безнал]])-SUM(Table[[#This Row],[Наличн]:[Безнал]])*Table[[#This Row],[Скидка]]","v":3000},44362,{"$f":"DAY(Table[[#This Row],[Дата визита]])","v":15},{"$f":"MONTH(Table[[#This Row],[Дата визита]])","v":"1900-01-06"},{"$f":"YEAR(Table[[#This Row],[Дата визита]])","v":2021},{"$f":"WEEKNUM(Table[[#This Row],[Дата визита]])","v":25},"11:00:00","Ростов-на-Дону, ул. Максима Горького, д. 11/43","Белозеров В.","Клиент 584","mail@birdyx.ru","79008889900","Авито","Завершено","да",4]
[44362,{"$f":"DAY('База заказов'!$A586)","v":15},{"$f":"'База заказов'!$A586","v":"2021-06-15"},{"$f":"YEAR('База заказов'!$A586)","v":2021},"Мишин М.","Укладка линолеума на клей",null,15000,null,{"$f":"SUM(Table[[#This Row],[Наличн]:[Безнал]])-SUM(Table[[#This Row],[Наличн]:[Безнал]])*Table[[#This Row],[Скидка]]","v":15000},44362,{"$f":"DAY(Table[[#This Row],[Дата визита]])","v":15},{"$f":"MONTH(Table[[#This Row],[Дата визита]])","v":"1900-01-06"},{"$f":"YEAR(Table[[#This Row],[Дата визита]])","v":2021},{"$f":"WEEKNUM(Table[[#This Row],[Дата визита]])","v":25},"15:00:00","Ростов-на-Дону, ул. Алма-Атинская, д. 29/2 А","Минин В.","Клиент 585","mail@birdyx.ru","79008889900","Сайт","Завершено","да",3]
[44362,{"$f":"DAY('База заказов'!$A587)","v":15},{"$f":"'База заказов'!$A587","v":"2021-06-15"},{"$f":"YEAR('База заказов'!$A587)","v":2021},"Иванов И.","Демонтаж оконного блока",null,30000,null,{"$f":"SUM(Table[[#This Row],[Наличн]:[Безнал]])-SUM(Table[[#This Row],[Наличн]:[Безнал]])*Table[[#This Row],[Скидка]]","v":30000},44362,{"$f":"DAY(Table[[#This Row],[Дата визита]])","v":15},{"$f":"MONTH(Table[[#This Row],[Дата визита]])","v":"1900-01-06"},{"$f":"YEAR(Table[[#This Row],[Дата визита]])","v":2021},{"$f":"WEEKNUM(Table[[#This Row],[Дата визита]])","v":25},"17:00:00","Ростов-на-Дону, ул. Малиновского, д. 68/1","Шарапов В.","Клиент 586","mail@birdyx.ru","79008889900","Сайт","Завершено","да",4]
[44365,{"$f":"DAY('База заказов'!$A588)","v":18},{"$f":"'База заказов'!$A588","v":"2021-06-18"},{"$f":"YEAR('База заказов'!$A588)","v":2021},"Иванов И.","Установка порожка",5000,null,null,{"$f":"SUM(Table[[#This Row],[Наличн]:[Безнал]])-SUM(Table[[#This Row],[Наличн]:[Безнал]])*Table[[#This Row],[Скидка]]","v":5000},44365,{"$f":"DAY(Table[[#This Row],[Дата визита]])","v":18},{"$f":"MONTH(Table[[#This Row],[Дата визита]])","v":"1900-01-06"},{"$f":"YEAR(Table[[#This Row],[Дата визита]])","v":2021},{"$f":"WEEKNUM(Table[[#This Row],[Дата визита]])","v":25},"09:00:00","Ростов-на-Дону, ул. Береговая, д. 5","Шарапов В.","Клиент 587","mail@birdyx.ru","79008889900","Авито","Завершено","да",4]
[44366,{"$f":"DAY('База заказов'!$A589)","v":19},{"$f":"'База заказов'!$A589","v":"2021-06-19"},{"$f":"YEAR('База заказов'!$A589)","v":2021},"Петров В.","Поклейка обоев на потолки",null,80000,null,{"$f":"SUM(Table[[#This Row],[Наличн]:[Безнал]])-SUM(Table[[#This Row],[Наличн]:[Безнал]])*Table[[#This Row],[Скидка]]","v":80000},44366,{"$f":"DAY(Table[[#This Row],[Дата визита]])","v":19},{"$f":"MONTH(Table[[#This Row],[Дата визита]])","v":"1900-01-06"},{"$f":"YEAR(Table[[#This Row],[Дата визита]])","v":2021},{"$f":"WEEKNUM(Table[[#This Row],[Дата визита]])","v":25},"11:00:00","Ростов-на-Дону, пл. Гагарина, д. 1","Шарапов В.","Клиент 588","mail@birdyx.ru","79008889900","Инстаграм","Завершено","да",5]
[44367,{"$f":"DAY('База заказов'!$A590)","v":20},{"$f":"'База заказов'!$A590","v":"2021-06-20"},{"$f":"YEAR('База заказов'!$A590)","v":2021},"Иванов И.","Выкройка и монтаж дополнительных углов",4000,null,null,{"$f":"SUM(Table[[#This Row],[Наличн]:[Безнал]])-SUM(Table[[#This Row],[Наличн]:[Безнал]])*Table[[#This Row],[Скидка]]","v":4000},44367,{"$f":"DAY(Table[[#This Row],[Дата визита]])","v":20},{"$f":"MONTH(Table[[#This Row],[Дата визита]])","v":"1900-01-06"},{"$f":"YEAR(Table[[#This Row],[Дата визита]])","v":2021},{"$f":"WEEKNUM(Table[[#This Row],[Дата визита]])","v":26},"15:00:00","Ростов-на-Дону, ул. Механизаторов, д. 6А","Минин В.","Клиент 589","mail@birdyx.ru","79008889900","Инстаграм","Завершено","да",3]
[44368,{"$f":"DAY('База заказов'!$A591)","v":21},{"$f":"'База заказов'!$A591","v":"2021-06-21"},{"$f":"YEAR('База заказов'!$A591)","v":2021},"Гончарова Н.","Установка плинтуса ПВХ",null,3000,0.15,{"$f":"SUM(Table[[#This Row],[Наличн]:[Безнал]])-SUM(Table[[#This Row],[Наличн]:[Безнал]])*Table[[#This Row],[Скидка]]","v":2550},44368,{"$f":"DAY(Table[[#This Row],[Дата визита]])","v":21},{"$f":"MONTH(Table[[#This Row],[Дата визита]])","v":"1900-01-06"},{"$f":"YEAR(Table[[#This Row],[Дата визита]])","v":2021},{"$f":"WEEKNUM(Table[[#This Row],[Дата визита]])","v":26},"17:00:00","Ростов-На-Дону, проспект Буденновский, д. 3/3","Белоусов В.","Клиент 590","mail@birdyx.ru","79008889900","Инстаграм","Завершено","да",2]
[44369,{"$f":"DAY('База заказов'!$A592)","v":22},{"$f":"'База заказов'!$A592","v":"2021-06-22"},{"$f":"YEAR('База заказов'!$A592)","v":2021},"Мишин М.","Монтаж реечных потолков",null,15000,0.15,{"$f":"SUM(Table[[#This Row],[Наличн]:[Безнал]])-SUM(Table[[#This Row],[Наличн]:[Безнал]])*Table[[#This Row],[Скидка]]","v":12750},44369,{"$f":"DAY(Table[[#This Row],[Дата визита]])","v":22},{"$f":"MONTH(Table[[#This Row],[Дата визита]])","v":"1900-01-06"},{"$f":"YEAR(Table[[#This Row],[Дата визита]])","v":2021},{"$f":"WEEKNUM(Table[[#This Row],[Дата визита]])","v":26},"09:00:00","Ростов-на-Дону, ул. Обороны, д. 40/17","Субботин С.","Клиент 591","mail@birdyx.ru","79008889900","Яндекс","Завершено","да",4]
[44370,{"$f":"DAY('База заказов'!$A593)","v":23},{"$f":"'База заказов'!$A593","v":"2021-06-23"},{"$f":"YEAR('База заказов'!$A593)","v":2021},"Иванов И.","Монтаж реечных потолков",4000,null,0.15,{"$f":"SUM(Table[[#This Row],[Наличн]:[Безнал]])-SUM(Table[[#This Row],[Наличн]:[Безнал]])*Table[[#This Row],[Скидка]]","v":3400},44370,{"$f":"DAY(Table[[#This Row],[Дата визита]])","v":23},{"$f":"MONTH(Table[[#This Row],[Дата визита]])","v":"1900-01-06"},{"$f":"YEAR(Table[[#This Row],[Дата визита]])","v":2021},{"$f":"WEEKNUM(Table[[#This Row],[Дата визита]])","v":26},"11:00:00","Ростов-на-Дону, ул. Судостроительная, д. 55","Устинов С.","Клиент 592","mail@birdyx.ru","79008889900","По совету","Завершено","да",5]
[44371,{"$f":"DAY('База заказов'!$A594)","v":24},{"$f":"'База заказов'!$A594","v":"2021-06-24"},{"$f":"YEAR('База заказов'!$A594)","v":2021},"Петров В.","Поклейка обоев на потолки",null,3000,0.15,{"$f":"SUM(Table[[#This Row],[Наличн]:[Безнал]])-SUM(Table[[#This Row],[Наличн]:[Безнал]])*Table[[#This Row],[Скидка]]","v":2550},44371,{"$f":"DAY(Table[[#This Row],[Дата визита]])","v":24},{"$f":"MONTH(Table[[#This Row],[Дата визита]])","v":"1900-01-06"},{"$f":"YEAR(Table[[#This Row],[Дата визита]])","v":2021},{"$f":"WEEKNUM(Table[[#This Row],[Дата визита]])","v":26},"15:00:00","Ростов-На-Дону, пер. Семашко, д. 46/1","Шарапов В.","Клиент 593","mail@birdyx.ru","79008889900","Авито","Завершено","да",5]
[44372,{"$f":"DAY('База заказов'!$A595)","v":25},{"$f":"'База заказов'!$A595","v":"2021-06-25"},{"$f":"YEAR('База заказов'!$A595)","v":2021},"Гончарова Н.","Поклейка обоев на потолки",null,15000,null,{"$f":"SUM(Table[[#This Row],[Наличн]:[Безнал]])-SUM(Table[[#This Row],[Наличн]:[Безнал]])*Table[[#This Row],[Скидка]]","v":15000},44374,{"$f":"DAY(Table[[#This Row],[Дата визита]])","v":27},{"$f":"MONTH(Table[[#This Row],[Дата визита]])","v":"1900-01-06"},{"$f":"YEAR(Table[[#This Row],[Дата визита]])","v":2021},{"$f":"WEEKNUM(Table[[#This Row],[Дата визита]])","v":27},"17:00:00","Ростов-на-Дону, проспект Соколова, д. 11/Б","Шарапов В.","Клиент 594","mail@birdyx.ru","79008889900","Авито","Завершено","да",2]
[44373,{"$f":"DAY('База заказов'!$A596)","v":26},{"$f":"'База заказов'!$A596","v":"2021-06-26"},{"$f":"YEAR('База заказов'!$A596)","v":2021},"Гончарова Н.","Укладка паркетной доски на клей",4000,null,null,{"$f":"SUM(Table[[#This Row],[Наличн]:[Безнал]])-SUM(Table[[#This Row],[Наличн]:[Безнал]])*Table[[#This Row],[Скидка]]","v":4000},44374,{"$f":"DAY(Table[[#This Row],[Дата визита]])","v":27},{"$f":"MONTH(Table[[#This Row],[Дата визита]])","v":"1900-01-06"},{"$f":"YEAR(Table[[#This Row],[Дата визита]])","v":2021},{"$f":"WEEKNUM(Table[[#This Row],[Дата визита]])","v":27},"09:00:00","Ростов-на-Дону, ул. Ларина, д. 41/19","Минин В.","Клиент 595","mail@birdyx.ru","79008889900","Сайт","Завершено","да",5]
[44374,{"$f":"DAY('База заказов'!$A597)","v":27},{"$f":"'База заказов'!$A597","v":"2021-06-27"},{"$f":"YEAR('База заказов'!$A597)","v":2021},"Гончарова Н.","Укладка паркетной доски на клей",null,3000,null,{"$f":"SUM(Table[[#This Row],[Наличн]:[Безнал]])-SUM(Table[[#This Row],[Наличн]:[Безнал]])*Table[[#This Row],[Скидка]]","v":3000},44374,{"$f":"DAY(Table[[#This Row],[Дата визита]])","v":27},{"$f":"MONTH(Table[[#This Row],[Дата визита]])","v":"1900-01-06"},{"$f":"YEAR(Table[[#This Row],[Дата визита]])","v":2021},{"$f":"WEEKNUM(Table[[#This Row],[Дата визита]])","v":27},"11:00:00","Ростов-на-Дону, проспект Коммунистический, д. 20/4","Белоусов В.","Клиент 596","mail@birdyx.ru","79008889900","Инстаграм","Завершено","да",5]
[44375,{"$f":"DAY('База заказов'!$A598)","v":28},{"$f":"'База заказов'!$A598","v":"2021-06-28"},{"$f":"YEAR('База заказов'!$A598)","v":2021},"Иванов И.","Укладка кварцвиниловой плитки на клей",null,3000,null,{"$f":"SUM(Table[[#This Row],[Наличн]:[Безнал]])-SUM(Table[[#This Row],[Наличн]:[Безнал]])*Table[[#This Row],[Скидка]]","v":3000},44375,{"$f":"DAY(Table[[#This Row],[Дата визита]])","v":28},{"$f":"MONTH(Table[[#This Row],[Дата визита]])","v":"1900-01-06"},{"$f":"YEAR(Table[[#This Row],[Дата визита]])","v":2021},{"$f":"WEEKNUM(Table[[#This Row],[Дата визита]])","v":27},"15:00:00","Ростов-на-Дону, ул. Цезаря Куникова, д. 32/А","Субботин С.","Клиент 597","mail@birdyx.ru","79008889900","Яндекс","Завершено","да",5]
[44376,{"$f":"DAY('База заказов'!$A599)","v":29},{"$f":"'База заказов'!$A599","v":"2021-06-29"},{"$f":"YEAR('База заказов'!$A599)","v":2021},"Мишин М.","Укладка массивной доски",null,15000,null,{"$f":"SUM(Table[[#This Row],[Наличн]:[Безнал]])-SUM(Table[[#This Row],[Наличн]:[Безнал]])*Table[[#This Row],[Скидка]]","v":15000},44376,{"$f":"DAY(Table[[#This Row],[Дата визита]])","v":29},{"$f":"MONTH(Table[[#This Row],[Дата визита]])","v":"1900-01-06"},{"$f":"YEAR(Table[[#This Row],[Дата визита]])","v":2021},{"$f":"WEEKNUM(Table[[#This Row],[Дата визита]])","v":27},"17:00:00","Ростов-на-Дону, ул. Красноармейская, д. 21","Устинов С.","Клиент 598","mail@birdyx.ru","79008889900","Сайт","Завершено","да",5]
[44376,{"$f":"DAY('База заказов'!$A600)","v":29},{"$f":"'База заказов'!$A600","v":"2021-06-29"},{"$f":"YEAR('База заказов'!$A600)","v":2021},"Мишин М.","Укладка линолеума на клей",4000,null,null,{"$f":"SUM(Table[[#This Row],[Наличн]:[Безнал]])-SUM(Table[[#This Row],[Наличн]:[Безнал]])*Table[[#This Row],[Скидка]]","v":4000},44376,{"$f":"DAY(Table[[#This Row],[Дата визита]])","v":29},{"$f":"MONTH(Table[[#This Row],[Дата визита]])","v":"1900-01-06"},{"$f":"YEAR(Table[[#This Row],[Дата визита]])","v":2021},{"$f":"WEEKNUM(Table[[#This Row],[Дата визита]])","v":27},"10:00:00","Ростов-на-Дону, проспект 40-летия Победы, д. 95/3","Беспалов Г.","Клиент 599","mail@birdyx.ru","79008889900","Авито","Завершено","да",5]
[44378,{"$f":"DAY('База заказов'!$A601)","v":1},{"$f":"'База заказов'!$A601","v":"2021-07-01"},{"$f":"YEAR('База заказов'!$A601)","v":2021},"Петров В.","Демонтаж оконного блока",null,3000,null,{"$f":"SUM(Table[[#This Row],[Наличн]:[Безнал]])-SUM(Table[[#This Row],[Наличн]:[Безнал]])*Table[[#This Row],[Скидка]]","v":3000},44378,{"$f":"DAY(Table[[#This Row],[Дата визита]])","v":1},{"$f":"MONTH(Table[[#This Row],[Дата визита]])","v":"1900-01-07"},{"$f":"YEAR(Table[[#This Row],[Дата визита]])","v":2021},{"$f":"WEEKNUM(Table[[#This Row],[Дата визита]])","v":27},"12:00:00","Ростов-на-Дону, ул. Станиславского, д. 58","Белозеров В.","Клиент 600","mail@birdyx.ru","79008889900","Сайт","Завершено","да",5]
[44379,{"$f":"DAY('База заказов'!$A602)","v":2},{"$f":"'База заказов'!$A602","v":"2021-07-02"},{"$f":"YEAR('База заказов'!$A602)","v":2021},"Петров В.","Установка порожка",null,15000,null,{"$f":"SUM(Table[[#This Row],[Наличн]:[Безнал]])-SUM(Table[[#This Row],[Наличн]:[Безнал]])*Table[[#This Row],[Скидка]]","v":15000},44381,{"$f":"DAY(Table[[#This Row],[Дата визита]])","v":4},{"$f":"MONTH(Table[[#This Row],[Дата визита]])","v":"1900-01-07"},{"$f":"YEAR(Table[[#This Row],[Дата визита]])","v":2021},{"$f":"WEEKNUM(Table[[#This Row],[Дата визита]])","v":28},"16:00:00","Ростов-на-Дону, проспект Буденновский, 86/197","Устинов С.","Клиент 601","mail@birdyx.ru","79008889900","Инстаграм","Завершено","да",5]
[44380,{"$f":"DAY('База заказов'!$A603)","v":3},{"$f":"'База заказов'!$A603","v":"2021-07-03"},{"$f":"YEAR('База заказов'!$A603)","v":2021},"Гончарова Н.","Поклейка обоев на потолки",4000,null,null,{"$f":"SUM(Table[[#This Row],[Наличн]:[Безнал]])-SUM(Table[[#This Row],[Наличн]:[Безнал]])*Table[[#This Row],[Скидка]]","v":4000},44381,{"$f":"DAY(Table[[#This Row],[Дата визита]])","v":4},{"$f":"MONTH(Table[[#This Row],[Дата визита]])","v":"1900-01-07"},{"$f":"YEAR(Table[[#This Row],[Дата визита]])","v":2021},{"$f":"WEEKNUM(Table[[#This Row],[Дата визита]])","v":28},"18:00:00","Ростов-на-Дону, ул. Липовая, 5","Минин В.","Клиент 602","mail@birdyx.ru","79008889900","Инстаграм","Завершено","да",5]
[44381,{"$f":"DAY('База заказов'!$A604)","v":4},{"$f":"'База заказов'!$A604","v":"2021-07-04"},{"$f":"YEAR('База заказов'!$A604)","v":2021},"Иванов И.","Выкройка и монтаж дополнительных углов",null,3000,null,{"$f":"SUM(Table[[#This Row],[Наличн]:[Безнал]])-SUM(Table[[#This Row],[Наличн]:[Безнал]])*Table[[#This Row],[Скидка]]","v":3000},44381,{"$f":"DAY(Table[[#This Row],[Дата визита]])","v":4},{"$f":"MONTH(Table[[#This Row],[Дата визита]])","v":"1900-01-07"},{"$f":"YEAR(Table[[#This Row],[Дата визита]])","v":2021},{"$f":"WEEKNUM(Table[[#This Row],[Дата визита]])","v":28},"10:00:00","Ростов-на-Дону, ул. Станиславского, д. 58","Минин В.","Клиент 603","mail@birdyx.ru","79008889900","Инстаграм","Завершено","да",4]
[44382,{"$f":"DAY('База заказов'!$A605)","v":5},{"$f":"'База заказов'!$A605","v":"2021-07-05"},{"$f":"YEAR('База заказов'!$A605)","v":2021},"Мишин М.","Установка плинтуса ПВХ",null,26900,null,{"$f":"SUM(Table[[#This Row],[Наличн]:[Безнал]])-SUM(Table[[#This Row],[Наличн]:[Безнал]])*Table[[#This Row],[Скидка]]","v":26900},44382,{"$f":"DAY(Table[[#This Row],[Дата визита]])","v":5},{"$f":"MONTH(Table[[#This Row],[Дата визита]])","v":"1900-01-07"},{"$f":"YEAR(Table[[#This Row],[Дата визита]])","v":2021},{"$f":"WEEKNUM(Table[[#This Row],[Дата визита]])","v":28},"12:00:00","Ростов-на-Дону, ул. Беляева, д. 22А","Шарапов В.","Клиент 604","mail@birdyx.ru","79008889900","Инстаграм","Завершено","да",4]
[44383,{"$f":"DAY('База заказов'!$A606)","v":6},{"$f":"'База заказов'!$A606","v":"2021-07-06"},{"$f":"YEAR('База заказов'!$A606)","v":2021},"Мишин М.","Монтаж реечных потолков",null,10400,null,{"$f":"SUM(Table[[#This Row],[Наличн]:[Безнал]])-SUM(Table[[#This Row],[Наличн]:[Безнал]])*Table[[#This Row],[Скидка]]","v":10400},44383,{"$f":"DAY(Table[[#This Row],[Дата визита]])","v":6},{"$f":"MONTH(Table[[#This Row],[Дата визита]])","v":"1900-01-07"},{"$f":"YEAR(Table[[#This Row],[Дата визита]])","v":2021},{"$f":"WEEKNUM(Table[[#This Row],[Дата визита]])","v":28},"16:00:00","Ростов-на-Дону, ул. 22 Линия, д. 34","Шарапов В.","Клиент 605","mail@birdyx.ru","79008889900","Инстаграм","Завершено","да",4]
[44384,{"$f":"DAY('База заказов'!$A607)","v":7},{"$f":"'База заказов'!$A607","v":"2021-07-07"},{"$f":"YEAR('База заказов'!$A607)","v":2021},"Петров В.","Монтаж реечных потолков",null,19900,0.15,{"$f":"SUM(Table[[#This Row],[Наличн]:[Безнал]])-SUM(Table[[#This Row],[Наличн]:[Безнал]])*Table[[#This Row],[Скидка]]","v":16915},44384,{"$f":"DAY(Table[[#This Row],[Дата визита]])","v":7},{"$f":"MONTH(Table[[#This Row],[Дата визита]])","v":"1900-01-07"},{"$f":"YEAR(Table[[#This Row],[Дата визита]])","v":2021},{"$f":"WEEKNUM(Table[[#This Row],[Дата визита]])","v":28},"18:00:00","Ростов-На-Дону, проспект Шолохова, д. 288","Шарапов В.","Клиент 606","mail@birdyx.ru","79008889900","Инстаграм","Завершено","да",4]
[44385,{"$f":"DAY('База заказов'!$A608)","v":8},{"$f":"'База заказов'!$A608","v":"2021-07-08"},{"$f":"YEAR('База заказов'!$A608)","v":2021},"Петров В.","Поклейка обоев на потолки",null,19800,null,{"$f":"SUM(Table[[#This Row],[Наличн]:[Безнал]])-SUM(Table[[#This Row],[Наличн]:[Безнал]])*Table[[#This Row],[Скидка]]","v":19800},44385,{"$f":"DAY(Table[[#This Row],[Дата визита]])","v":8},{"$f":"MONTH(Table[[#This Row],[Дата визита]])","v":"1900-01-07"},{"$f":"YEAR(Table[[#This Row],[Дата визита]])","v":2021},{"$f":"WEEKNUM(Table[[#This Row],[Дата визита]])","v":28},"10:00:00","Ростов-на-Дону, проспект Кировский, д. 57","Минин В.","Клиент 607","mail@birdyx.ru","79008889900","Яндекс","Завершено","да",4]
[44386,{"$f":"DAY('База заказов'!$A609)","v":9},{"$f":"'База заказов'!$A609","v":"2021-07-09"},{"$f":"YEAR('База заказов'!$A609)","v":2021},"Гончарова Н.","Поклейка обоев на потолки",null,35700,null,{"$f":"SUM(Table[[#This Row],[Наличн]:[Безнал]])-SUM(Table[[#This Row],[Наличн]:[Безнал]])*Table[[#This Row],[Скидка]]","v":35700},44386,{"$f":"DAY(Table[[#This Row],[Дата визита]])","v":9},{"$f":"MONTH(Table[[#This Row],[Дата визита]])","v":"1900-01-07"},{"$f":"YEAR(Table[[#This Row],[Дата визита]])","v":2021},{"$f":"WEEKNUM(Table[[#This Row],[Дата визита]])","v":28},"12:00:00","Ростов-на-Дону, Стартовая 20","Белоусов В.","Клиент 608","mail@birdyx.ru","79008889900","По совету","Завершено","да",4]
[44387,{"$f":"DAY('База заказов'!$A610)","v":10},{"$f":"'База заказов'!$A610","v":"2021-07-10"},{"$f":"YEAR('База заказов'!$A610)","v":2021},"Иванов И.","Укладка паркетной доски на клей",null,8700,null,{"$f":"SUM(Table[[#This Row],[Наличн]:[Безнал]])-SUM(Table[[#This Row],[Наличн]:[Безнал]])*Table[[#This Row],[Скидка]]","v":8700},44387,{"$f":"DAY(Table[[#This Row],[Дата визита]])","v":10},{"$f":"MONTH(Table[[#This Row],[Дата визита]])","v":"1900-01-07"},{"$f":"YEAR(Table[[#This Row],[Дата визита]])","v":2021},{"$f":"WEEKNUM(Table[[#This Row],[Дата визита]])","v":28},"16:00:00","Ростов-на-Дону, Стартовая 22","Субботин С.","Клиент 609","mail@birdyx.ru","79008889900","Авито","Завершено","да",4]
[44388,{"$f":"DAY('База заказов'!$A611)","v":11},{"$f":"'База заказов'!$A611","v":"2021-07-11"},{"$f":"YEAR('База заказов'!$A611)","v":2021},"Мишин М.","Укладка паркетной доски на клей",null,26800,null,{"$f":"SUM(Table[[#This Row],[Наличн]:[Безнал]])-SUM(Table[[#This Row],[Наличн]:[Безнал]])*Table[[#This Row],[Скидка]]","v":26800},44388,{"$f":"DAY(Table[[#This Row],[Дата визита]])","v":11},{"$f":"MONTH(Table[[#This Row],[Дата визита]])","v":"1900-01-07"},{"$f":"YEAR(Table[[#This Row],[Дата визита]])","v":2021},{"$f":"WEEKNUM(Table[[#This Row],[Дата визита]])","v":29},"18:00:00","Ростов-на-Дону, Жданова 15","Устинов С.","Клиент 610","mail@birdyx.ru","79008889900","Авито","Завершено","да",4]
[44389,{"$f":"DAY('База заказов'!$A612)","v":12},{"$f":"'База заказов'!$A612","v":"2021-07-12"},{"$f":"YEAR('База заказов'!$A612)","v":2021},"Мишин М.","Укладка кварцвиниловой плитки на клей",null,11100,null,{"$f":"SUM(Table[[#This Row],[Наличн]:[Безнал]])-SUM(Table[[#This Row],[Наличн]:[Безнал]])*Table[[#This Row],[Скидка]]","v":11100},44389,{"$f":"DAY(Table[[#This Row],[Дата визита]])","v":12},{"$f":"MONTH(Table[[#This Row],[Дата визита]])","v":"1900-01-07"},{"$f":"YEAR(Table[[#This Row],[Дата визита]])","v":2021},{"$f":"WEEKNUM(Table[[#This Row],[Дата визита]])","v":29},"10:00:00","Ростов-на-Дону, ул. Пацаева, д. 2","Минин В.","Клиент 611","mail@birdyx.ru","79008889900","Сайт","Завершено","да",4]
[44390,{"$f":"DAY('База заказов'!$A613)","v":13},{"$f":"'База заказов'!$A613","v":"2021-07-13"},{"$f":"YEAR('База заказов'!$A613)","v":2021},"Петров В.","Укладка массивной доски",null,32500,null,{"$f":"SUM(Table[[#This Row],[Наличн]:[Безнал]])-SUM(Table[[#This Row],[Наличн]:[Безнал]])*Table[[#This Row],[Скидка]]","v":32500},44390,{"$f":"DAY(Table[[#This Row],[Дата визита]])","v":13},{"$f":"MONTH(Table[[#This Row],[Дата визита]])","v":"1900-01-07"},{"$f":"YEAR(Table[[#This Row],[Дата визита]])","v":2021},{"$f":"WEEKNUM(Table[[#This Row],[Дата визита]])","v":29},"12:00:00","Ростов-на-Дону, ул. 14 Линия, д. 33","Шарапов В.","Клиент 612","mail@birdyx.ru","79008889900","Сайт","Завершено","да",3]
[44391,{"$f":"DAY('База заказов'!$A614)","v":14},{"$f":"'База заказов'!$A614","v":"2021-07-14"},{"$f":"YEAR('База заказов'!$A614)","v":2021},"Петров В.","Укладка линолеума на клей",null,7100,0.15,{"$f":"SUM(Table[[#This Row],[Наличн]:[Безнал]])-SUM(Table[[#This Row],[Наличн]:[Безнал]])*Table[[#This Row],[Скидка]]","v":6035},44391,{"$f":"DAY(Table[[#This Row],[Дата визита]])","v":14},{"$f":"MONTH(Table[[#This Row],[Дата визита]])","v":"1900-01-07"},{"$f":"YEAR(Table[[#This Row],[Дата визита]])","v":2021},{"$f":"WEEKNUM(Table[[#This Row],[Дата визита]])","v":29},"16:00:00","Ростов-на-Дону, пер. Беломорский, д. 94","Шарапов В.","Клиент 613","mail@birdyx.ru","79008889900","Авито","Завершено","да",4]
[44392,{"$f":"DAY('База заказов'!$A615)","v":15},{"$f":"'База заказов'!$A615","v":"2021-07-15"},{"$f":"YEAR('База заказов'!$A615)","v":2021},"Гончарова Н.","Демонтаж оконного блока",null,20300,null,{"$f":"SUM(Table[[#This Row],[Наличн]:[Безнал]])-SUM(Table[[#This Row],[Наличн]:[Безнал]])*Table[[#This Row],[Скидка]]","v":20300},44392,{"$f":"DAY(Table[[#This Row],[Дата визита]])","v":15},{"$f":"MONTH(Table[[#This Row],[Дата визита]])","v":"1900-01-07"},{"$f":"YEAR(Table[[#This Row],[Дата визита]])","v":2021},{"$f":"WEEKNUM(Table[[#This Row],[Дата визита]])","v":29},"18:00:00","Ростов-На-Дону, ул. Извилистая, д. 13/2","Шарапов В.","Клиент 614","mail@birdyx.ru","79008889900","Сайт","Завершено","да",2]
[44393,{"$f":"DAY('База заказов'!$A616)","v":16},{"$f":"'База заказов'!$A616","v":"2021-07-16"},{"$f":"YEAR('База заказов'!$A616)","v":2021},"Иванов И.","Установка порожка",15100,null,null,{"$f":"SUM(Table[[#This Row],[Наличн]:[Безнал]])-SUM(Table[[#This Row],[Наличн]:[Безнал]])*Table[[#This Row],[Скидка]]","v":15100},44393,{"$f":"DAY(Table[[#This Row],[Дата визита]])","v":16},{"$f":"MONTH(Table[[#This Row],[Дата визита]])","v":"1900-01-07"},{"$f":"YEAR(Table[[#This Row],[Дата визита]])","v":2021},{"$f":"WEEKNUM(Table[[#This Row],[Дата визита]])","v":29},"10:00:00","Ростов-на-Дону, пер. Братский, д. 36","Минин В.","Клиент 615","mail@birdyx.ru","79008889900","По совету","Завершено","да",5]
[44394,{"$f":"DAY('База заказов'!$A617)","v":17},{"$f":"'База заказов'!$A617","v":"2021-07-17"},{"$f":"YEAR('База заказов'!$A617)","v":2021},"Петров В.","Поклейка обоев на потолки",36900,null,null,{"$f":"SUM(Table[[#This Row],[Наличн]:[Безнал]])-SUM(Table[[#This Row],[Наличн]:[Безнал]])*Table[[#This Row],[Скидка]]","v":36900},44396,{"$f":"DAY(Table[[#This Row],[Дата визита]])","v":19},{"$f":"MONTH(Table[[#This Row],[Дата визита]])","v":"1900-01-07"},{"$f":"YEAR(Table[[#This Row],[Дата визита]])","v":2021},{"$f":"WEEKNUM(Table[[#This Row],[Дата визита]])","v":30},"12:00:00","Ростов-На-Дону, ул. Андрея Сладкова, д. 87","Белоусов В.","Клиент 616","mail@birdyx.ru","79008889900","Яндекс","Завершено","да",3]
[44395,{"$f":"DAY('База заказов'!$A618)","v":18},{"$f":"'База заказов'!$A618","v":"2021-07-18"},{"$f":"YEAR('База заказов'!$A618)","v":2021},"Мишин М.","Выкройка и монтаж дополнительных углов",null,10900,null,{"$f":"SUM(Table[[#This Row],[Наличн]:[Безнал]])-SUM(Table[[#This Row],[Наличн]:[Безнал]])*Table[[#This Row],[Скидка]]","v":10900},44396,{"$f":"DAY(Table[[#This Row],[Дата визита]])","v":19},{"$f":"MONTH(Table[[#This Row],[Дата визита]])","v":"1900-01-07"},{"$f":"YEAR(Table[[#This Row],[Дата визита]])","v":2021},{"$f":"WEEKNUM(Table[[#This Row],[Дата визита]])","v":30},"16:00:00","Ростов-на-Дону, ул. 339-й Стрелковой Дивизии, д. 33","Субботин С.","Клиент 617","mail@birdyx.ru","79008889900","Инстаграм","Завершено","да",2]
[44396,{"$f":"DAY('База заказов'!$A619)","v":19},{"$f":"'База заказов'!$A619","v":"2021-07-19"},{"$f":"YEAR('База заказов'!$A619)","v":2021},"Петров В.","Установка плинтуса ПВХ",null,28200,null,{"$f":"SUM(Table[[#This Row],[Наличн]:[Безнал]])-SUM(Table[[#This Row],[Наличн]:[Безнал]])*Table[[#This Row],[Скидка]]","v":28200},44396,{"$f":"DAY(Table[[#This Row],[Дата визита]])","v":19},{"$f":"MONTH(Table[[#This Row],[Дата визита]])","v":"1900-01-07"},{"$f":"YEAR(Table[[#This Row],[Дата визита]])","v":2021},{"$f":"WEEKNUM(Table[[#This Row],[Дата визита]])","v":30},"18:00:00","Ростов-на-Дону, Ленина 1","Устинов С.","Клиент 618","mail@birdyx.ru","79008889900","Яндекс","Завершено","да",4]
[44397,{"$f":"DAY('База заказов'!$A620)","v":20},{"$f":"'База заказов'!$A620","v":"2021-07-20"},{"$f":"YEAR('База заказов'!$A620)","v":2021},"Петров В.","Монтаж реечных потолков",null,11100,null,{"$f":"SUM(Table[[#This Row],[Наличн]:[Безнал]])-SUM(Table[[#This Row],[Наличн]:[Безнал]])*Table[[#This Row],[Скидка]]","v":11100},44397,{"$f":"DAY(Table[[#This Row],[Дата визита]])","v":20},{"$f":"MONTH(Table[[#This Row],[Дата визита]])","v":"1900-01-07"},{"$f":"YEAR(Table[[#This Row],[Дата визита]])","v":2021},{"$f":"WEEKNUM(Table[[#This Row],[Дата визита]])","v":30},"10:00:00","Ростов-на-Дону, Михаила Нагибина 32","Субботин С.","Клиент 619","mail@birdyx.ru","79008889900","Сайт","Завершено","да",5]
[44398,{"$f":"DAY('База заказов'!$A621)","v":21},{"$f":"'База заказов'!$A621","v":"2021-07-21"},{"$f":"YEAR('База заказов'!$A621)","v":2021},"Иванов И.","Монтаж реечных потолков",null,39900,null,{"$f":"SUM(Table[[#This Row],[Наличн]:[Безнал]])-SUM(Table[[#This Row],[Наличн]:[Безнал]])*Table[[#This Row],[Скидка]]","v":39900},44398,{"$f":"DAY(Table[[#This Row],[Дата визита]])","v":21},{"$f":"MONTH(Table[[#This Row],[Дата визита]])","v":"1900-01-07"},{"$f":"YEAR(Table[[#This Row],[Дата визита]])","v":2021},{"$f":"WEEKNUM(Table[[#This Row],[Дата визита]])","v":30},"12:00:00","Ростов-на-Дону, Михаила Нагибина 32","Белоусов В.","Клиент 620","mail@birdyx.ru","79008889900","Авито","Отмена","да",5]
[44399,{"$f":"DAY('База заказов'!$A622)","v":22},{"$f":"'База заказов'!$A622","v":"2021-07-22"},{"$f":"YEAR('База заказов'!$A622)","v":2021},"Петров В.","Поклейка обоев на потолки",null,27500,null,{"$f":"SUM(Table[[#This Row],[Наличн]:[Безнал]])-SUM(Table[[#This Row],[Наличн]:[Безнал]])*Table[[#This Row],[Скидка]]","v":27500},44399,{"$f":"DAY(Table[[#This Row],[Дата визита]])","v":22},{"$f":"MONTH(Table[[#This Row],[Дата визита]])","v":"1900-01-07"},{"$f":"YEAR(Table[[#This Row],[Дата визита]])","v":2021},{"$f":"WEEKNUM(Table[[#This Row],[Дата визита]])","v":30},"16:00:00","Ростов-на-Дону, ул. Таганрогская, д. 149/1 К 35","Белозеров В.","Клиент 621","mail@birdyx.ru","79008889900","Сайт","Завершено","да",5]
[44400,{"$f":"DAY('База заказов'!$A623)","v":23},{"$f":"'База заказов'!$A623","v":"2021-07-23"},{"$f":"YEAR('База заказов'!$A623)","v":2021},"Мишин М.","Поклейка обоев на потолки",null,22300,null,{"$f":"SUM(Table[[#This Row],[Наличн]:[Безнал]])-SUM(Table[[#This Row],[Наличн]:[Безнал]])*Table[[#This Row],[Скидка]]","v":22300},44400,{"$f":"DAY(Table[[#This Row],[Дата визита]])","v":23},{"$f":"MONTH(Table[[#This Row],[Дата визита]])","v":"1900-01-07"},{"$f":"YEAR(Table[[#This Row],[Дата визита]])","v":2021},{"$f":"WEEKNUM(Table[[#This Row],[Дата визита]])","v":30},"18:00:00","Ростов-На-Дону, ул. Большая Садовая, д. 115","Беспалов Г.","Клиент 622","mail@birdyx.ru","79008889900","Авито","Завершено","да",5]
[44401,{"$f":"DAY('База заказов'!$A624)","v":24},{"$f":"'База заказов'!$A624","v":"2021-07-24"},{"$f":"YEAR('База заказов'!$A624)","v":2021},"Петров В.","Укладка паркетной доски на клей",null,30800,null,{"$f":"SUM(Table[[#This Row],[Наличн]:[Безнал]])-SUM(Table[[#This Row],[Наличн]:[Безнал]])*Table[[#This Row],[Скидка]]","v":30800},44401,{"$f":"DAY(Table[[#This Row],[Дата визита]])","v":24},{"$f":"MONTH(Table[[#This Row],[Дата визита]])","v":"1900-01-07"},{"$f":"YEAR(Table[[#This Row],[Дата визита]])","v":2021},{"$f":"WEEKNUM(Table[[#This Row],[Дата визита]])","v":30},"10:00:00","Ростов-на-Дону, ул. Большая Садовая, д. 69","Белозеров В.","Клиент 623","mail@birdyx.ru","79008889900","Инстаграм","Завершено","да",5]
[44402,{"$f":"DAY('База заказов'!$A625)","v":25},{"$f":"'База заказов'!$A625","v":"2021-07-25"},{"$f":"YEAR('База заказов'!$A625)","v":2021},"Петров В.","Укладка паркетной доски на клей",null,23300,null,{"$f":"SUM(Table[[#This Row],[Наличн]:[Безнал]])-SUM(Table[[#This Row],[Наличн]:[Безнал]])*Table[[#This Row],[Скидка]]","v":23300},44402,{"$f":"DAY(Table[[#This Row],[Дата визита]])","v":25},{"$f":"MONTH(Table[[#This Row],[Дата визита]])","v":"1900-01-07"},{"$f":"YEAR(Table[[#This Row],[Дата визита]])","v":2021},{"$f":"WEEKNUM(Table[[#This Row],[Дата визита]])","v":31},"12:00:00","Ростов-на-Дону, пер. Университетский, д. 133","Устинов С.","Клиент 624","mail@birdyx.ru","79008889900","Инстаграм","Завершено","да",5]
[44403,{"$f":"DAY('База заказов'!$A626)","v":26},{"$f":"'База заказов'!$A626","v":"2021-07-26"},{"$f":"YEAR('База заказов'!$A626)","v":2021},"Иванов И.","Укладка кварцвиниловой плитки на клей",null,7200,null,{"$f":"SUM(Table[[#This Row],[Наличн]:[Безнал]])-SUM(Table[[#This Row],[Наличн]:[Безнал]])*Table[[#This Row],[Скидка]]","v":7200},44403,{"$f":"DAY(Table[[#This Row],[Дата визита]])","v":26},{"$f":"MONTH(Table[[#This Row],[Дата визита]])","v":"1900-01-07"},{"$f":"YEAR(Table[[#This Row],[Дата визита]])","v":2021},{"$f":"WEEKNUM(Table[[#This Row],[Дата визита]])","v":31},"16:00:00","Ростов-на-Дону, пер. Соборный, д. 26","Минин В.","Клиент 625","mail@birdyx.ru","79008889900","Инстаграм","Завершено","да",4]
[44404,{"$f":"DAY('База заказов'!$A627)","v":27},{"$f":"'База заказов'!$A627","v":"2021-07-27"},{"$f":"YEAR('База заказов'!$A627)","v":2021},"Петров В.","Укладка массивной доски",null,30200,null,{"$f":"SUM(Table[[#This Row],[Наличн]:[Безнал]])-SUM(Table[[#This Row],[Наличн]:[Безнал]])*Table[[#This Row],[Скидка]]","v":30200},44404,{"$f":"DAY(Table[[#This Row],[Дата визита]])","v":27},{"$f":"MONTH(Table[[#This Row],[Дата визита]])","v":"1900-01-07"},{"$f":"YEAR(Table[[#This Row],[Дата визита]])","v":2021},{"$f":"WEEKNUM(Table[[#This Row],[Дата визита]])","v":31},"18:00:00","Ростов-на-Дону, проспект Сиверса, д. 1","Минин В.","Клиент 626","mail@birdyx.ru","79008889900","Яндекс","Завершено","да",4]
[44404,{"$f":"DAY('База заказов'!$A628)","v":27},{"$f":"'База заказов'!$A628","v":"2021-07-27"},{"$f":"YEAR('База заказов'!$A628)","v":2021},"Мишин М.","Укладка линолеума на клей",null,30200,null,{"$f":"SUM(Table[[#This Row],[Наличн]:[Безнал]])-SUM(Table[[#This Row],[Наличн]:[Безнал]])*Table[[#This Row],[Скидка]]","v":30200},44404,{"$f":"DAY(Table[[#This Row],[Дата визита]])","v":27},{"$f":"MONTH(Table[[#This Row],[Дата визита]])","v":"1900-01-07"},{"$f":"YEAR(Table[[#This Row],[Дата визита]])","v":2021},{"$f":"WEEKNUM(Table[[#This Row],[Дата визита]])","v":31},"10:00:00","Ростов-на-Дону, ул. Большая Садовая, д. 105/42","Шарапов В.","Клиент 627","mail@birdyx.ru","79008889900","Инстаграм","Завершено","да",4]
[44404,{"$f":"DAY('База заказов'!$A629)","v":27},{"$f":"'База заказов'!$A629","v":"2021-07-27"},{"$f":"YEAR('База заказов'!$A629)","v":2021},"Петров В.","Демонтаж оконного блока",null,23400,0.15,{"$f":"SUM(Table[[#This Row],[Наличн]:[Безнал]])-SUM(Table[[#This Row],[Наличн]:[Безнал]])*Table[[#This Row],[Скидка]]","v":19890},44404,{"$f":"DAY(Table[[#This Row],[Дата визита]])","v":27},{"$f":"MONTH(Table[[#This Row],[Дата визита]])","v":"1900-01-07"},{"$f":"YEAR(Table[[#This Row],[Дата визита]])","v":2021},{"$f":"WEEKNUM(Table[[#This Row],[Дата визита]])","v":31},"12:00:00","Ростов-на-Дону, ул. Максима Горького, д. 149","Шарапов В.","Клиент 628","mail@birdyx.ru","79008889900","Инстаграм","Завершено","да",4]
[44407,{"$f":"DAY('База заказов'!$A630)","v":30},{"$f":"'База заказов'!$A630","v":"2021-07-30"},{"$f":"YEAR('База заказов'!$A630)","v":2021},"Петров В.","Установка порожка",null,23900,null,{"$f":"SUM(Table[[#This Row],[Наличн]:[Безнал]])-SUM(Table[[#This Row],[Наличн]:[Безнал]])*Table[[#This Row],[Скидка]]","v":23900},44407,{"$f":"DAY(Table[[#This Row],[Дата визита]])","v":30},{"$f":"MONTH(Table[[#This Row],[Дата визита]])","v":"1900-01-07"},{"$f":"YEAR(Table[[#This Row],[Дата визита]])","v":2021},{"$f":"WEEKNUM(Table[[#This Row],[Дата визита]])","v":31},"16:00:00","Ростов-на-Дону, проспект Буденновский, д. 97","Шарапов В.","Клиент 629","mail@birdyx.ru","79008889900","Инстаграм","Завершено","да",4]
[44408,{"$f":"DAY('База заказов'!$A631)","v":31},{"$f":"'База заказов'!$A631","v":"2021-07-31"},{"$f":"YEAR('База заказов'!$A631)","v":2021},"Иванов И.","Поклейка обоев на потолки",null,26100,null,{"$f":"SUM(Table[[#This Row],[Наличн]:[Безнал]])-SUM(Table[[#This Row],[Наличн]:[Безнал]])*Table[[#This Row],[Скидка]]","v":26100},44408,{"$f":"DAY(Table[[#This Row],[Дата визита]])","v":31},{"$f":"MONTH(Table[[#This Row],[Дата визита]])","v":"1900-01-07"},{"$f":"YEAR(Table[[#This Row],[Дата визита]])","v":2021},{"$f":"WEEKNUM(Table[[#This Row],[Дата визита]])","v":31},"18:00:00","Ростов-на-Дону, ул. Советская, д. 26/1","Минин В.","Клиент 630","mail@birdyx.ru","79008889900","Яндекс","Завершено","да",4]
[44409,{"$f":"DAY('База заказов'!$A632)","v":1},{"$f":"'База заказов'!$A632","v":"2021-08-01"},{"$f":"YEAR('База заказов'!$A632)","v":2021},"Петров В.","Выкройка и монтаж дополнительных углов",null,19500,null,{"$f":"SUM(Table[[#This Row],[Наличн]:[Безнал]])-SUM(Table[[#This Row],[Наличн]:[Безнал]])*Table[[#This Row],[Скидка]]","v":19500},44409,{"$f":"DAY(Table[[#This Row],[Дата визита]])","v":1},{"$f":"MONTH(Table[[#This Row],[Дата визита]])","v":"1900-01-08"},{"$f":"YEAR(Table[[#This Row],[Дата визита]])","v":2021},{"$f":"WEEKNUM(Table[[#This Row],[Дата визита]])","v":32},"09:00:00","Ростов-на-Дону, ул. Мечникова, д. 43","Белоусов В.","Клиент 631","mail@birdyx.ru","79008889900","По совету","Завершено","да",4]
[44410,{"$f":"DAY('База заказов'!$A633)","v":2},{"$f":"'База заказов'!$A633","v":"2021-08-02"},{"$f":"YEAR('База заказов'!$A633)","v":2021},"Мишин М.","Установка плинтуса ПВХ",null,7700,null,{"$f":"SUM(Table[[#This Row],[Наличн]:[Безнал]])-SUM(Table[[#This Row],[Наличн]:[Безнал]])*Table[[#This Row],[Скидка]]","v":7700},44410,{"$f":"DAY(Table[[#This Row],[Дата визита]])","v":2},{"$f":"MONTH(Table[[#This Row],[Дата визита]])","v":"1900-01-08"},{"$f":"YEAR(Table[[#This Row],[Дата визита]])","v":2021},{"$f":"WEEKNUM(Table[[#This Row],[Дата визита]])","v":32},"11:00:00","Ростов-на-Дону, пер. Островского, д. 47","Субботин С.","Клиент 632","mail@birdyx.ru","79008889900","Авито","Завершено","да",4]
[44411,{"$f":"DAY('База заказов'!$A634)","v":3},{"$f":"'База заказов'!$A634","v":"2021-08-03"},{"$f":"YEAR('База заказов'!$A634)","v":2021},"Петров В.","Монтаж реечных потолков",null,24500,null,{"$f":"SUM(Table[[#This Row],[Наличн]:[Безнал]])-SUM(Table[[#This Row],[Наличн]:[Безнал]])*Table[[#This Row],[Скидка]]","v":24500},44411,{"$f":"DAY(Table[[#This Row],[Дата визита]])","v":3},{"$f":"MONTH(Table[[#This Row],[Дата визита]])","v":"1900-01-08"},{"$f":"YEAR(Table[[#This Row],[Дата визита]])","v":2021},{"$f":"WEEKNUM(Table[[#This Row],[Дата визита]])","v":32},"15:00:00","Ростов-на-Дону, ул. Пушкинская, д. 225","Устинов С.","Клиент 633","mail@birdyx.ru","79008889900","Авито","Завершено","да",4]
[44412,{"$f":"DAY('База заказов'!$A635)","v":4},{"$f":"'База заказов'!$A635","v":"2021-08-04"},{"$f":"YEAR('База заказов'!$A635)","v":2021},"Иванов И.","Монтаж реечных потолков",null,19600,null,{"$f":"SUM(Table[[#This Row],[Наличн]:[Безнал]])-SUM(Table[[#This Row],[Наличн]:[Безнал]])*Table[[#This Row],[Скидка]]","v":19600},44412,{"$f":"DAY(Table[[#This Row],[Дата визита]])","v":4},{"$f":"MONTH(Table[[#This Row],[Дата визита]])","v":"1900-01-08"},{"$f":"YEAR(Table[[#This Row],[Дата визита]])","v":2021},{"$f":"WEEKNUM(Table[[#This Row],[Дата визита]])","v":32},"17:00:00","Ростов-На-Дону, ул. Ченцова, д. 57/81","Шарапов В.","Клиент 634","mail@birdyx.ru","79008889900","Сайт","Завершено","да",4]
[44412,{"$f":"DAY('База заказов'!$A636)","v":4},{"$f":"'База заказов'!$A636","v":"2021-08-04"},{"$f":"YEAR('База заказов'!$A636)","v":2021},"Гончарова Н.","Поклейка обоев на потолки",null,29000,0.15,{"$f":"SUM(Table[[#This Row],[Наличн]:[Безнал]])-SUM(Table[[#This Row],[Наличн]:[Безнал]])*Table[[#This Row],[Скидка]]","v":24650},44412,{"$f":"DAY(Table[[#This Row],[Дата визита]])","v":4},{"$f":"MONTH(Table[[#This Row],[Дата визита]])","v":"1900-01-08"},{"$f":"YEAR(Table[[#This Row],[Дата визита]])","v":2021},{"$f":"WEEKNUM(Table[[#This Row],[Дата визита]])","v":32},"09:00:00","Ростов-на-Дону, ул. Текучева, д. 135","Белоусов В.","Клиент 635","mail@birdyx.ru","79008889900","Авито","Завершено","да",4]
[44412,{"$f":"DAY('База заказов'!$A637)","v":4},{"$f":"'База заказов'!$A637","v":"2021-08-04"},{"$f":"YEAR('База заказов'!$A637)","v":2021},"Мишин М.","Поклейка обоев на потолки",null,28500,null,{"$f":"SUM(Table[[#This Row],[Наличн]:[Безнал]])-SUM(Table[[#This Row],[Наличн]:[Безнал]])*Table[[#This Row],[Скидка]]","v":28500},44412,{"$f":"DAY(Table[[#This Row],[Дата визита]])","v":4},{"$f":"MONTH(Table[[#This Row],[Дата визита]])","v":"1900-01-08"},{"$f":"YEAR(Table[[#This Row],[Дата визита]])","v":2021},{"$f":"WEEKNUM(Table[[#This Row],[Дата визита]])","v":32},"11:00:00","Ростов-на-Дону, пер. Газетный, д. 99","Шарапов В.","Клиент 636","mail@birdyx.ru","79008889900","Сайт","Завершено","да",4]
[44415,{"$f":"DAY('База заказов'!$A638)","v":7},{"$f":"'База заказов'!$A638","v":"2021-08-07"},{"$f":"YEAR('База заказов'!$A638)","v":2021},"Иванов И.","Укладка паркетной доски на клей",null,28100,null,{"$f":"SUM(Table[[#This Row],[Наличн]:[Безнал]])-SUM(Table[[#This Row],[Наличн]:[Безнал]])*Table[[#This Row],[Скидка]]","v":28100},44415,{"$f":"DAY(Table[[#This Row],[Дата визита]])","v":7},{"$f":"MONTH(Table[[#This Row],[Дата визита]])","v":"1900-01-08"},{"$f":"YEAR(Table[[#This Row],[Дата визита]])","v":2021},{"$f":"WEEKNUM(Table[[#This Row],[Дата визита]])","v":32},"15:00:00","Ростов-на-Дону, проспект Кировский, д. 90","Белоусов В.","Клиент 637","mail@birdyx.ru","79008889900","Инстаграм","Завершено","да",5]
[44416,{"$f":"DAY('База заказов'!$A639)","v":8},{"$f":"'База заказов'!$A639","v":"2021-08-08"},{"$f":"YEAR('База заказов'!$A639)","v":2021},"Петров В.","Укладка паркетной доски на клей",null,12600,null,{"$f":"SUM(Table[[#This Row],[Наличн]:[Безнал]])-SUM(Table[[#This Row],[Наличн]:[Безнал]])*Table[[#This Row],[Скидка]]","v":12600},44416,{"$f":"DAY(Table[[#This Row],[Дата визита]])","v":8},{"$f":"MONTH(Table[[#This Row],[Дата визита]])","v":"1900-01-08"},{"$f":"YEAR(Table[[#This Row],[Дата визита]])","v":2021},{"$f":"WEEKNUM(Table[[#This Row],[Дата визита]])","v":33},"17:00:00","Ростов-на-Дону, ул. 14 Линия, д. 14","Минин В.","Клиент 638","mail@birdyx.ru","79008889900","Яндекс","Завершено","да",3]
[44417,{"$f":"DAY('База заказов'!$A640)","v":9},{"$f":"'База заказов'!$A640","v":"2021-08-09"},{"$f":"YEAR('База заказов'!$A640)","v":2021},"Гончарова Н.","Укладка кварцвиниловой плитки на клей",null,24000,null,{"$f":"SUM(Table[[#This Row],[Наличн]:[Безнал]])-SUM(Table[[#This Row],[Наличн]:[Безнал]])*Table[[#This Row],[Скидка]]","v":24000},44417,{"$f":"DAY(Table[[#This Row],[Дата визита]])","v":9},{"$f":"MONTH(Table[[#This Row],[Дата визита]])","v":"1900-01-08"},{"$f":"YEAR(Table[[#This Row],[Дата визита]])","v":2021},{"$f":"WEEKNUM(Table[[#This Row],[Дата визита]])","v":33},"09:00:00","Ростов-на-Дону, ул. Береговая, д. 30","Шарапов В.","Клиент 639","mail@birdyx.ru","79008889900","По совету","Завершено","да",4]
[44418,{"$f":"DAY('База заказов'!$A641)","v":10},{"$f":"'База заказов'!$A641","v":"2021-08-10"},{"$f":"YEAR('База заказов'!$A641)","v":2021},"Гончарова Н.","Укладка массивной доски",null,38600,null,{"$f":"SUM(Table[[#This Row],[Наличн]:[Безнал]])-SUM(Table[[#This Row],[Наличн]:[Безнал]])*Table[[#This Row],[Скидка]]","v":38600},44418,{"$f":"DAY(Table[[#This Row],[Дата визита]])","v":10},{"$f":"MONTH(Table[[#This Row],[Дата визита]])","v":"1900-01-08"},{"$f":"YEAR(Table[[#This Row],[Дата визита]])","v":2021},{"$f":"WEEKNUM(Table[[#This Row],[Дата визита]])","v":33},"11:00:00","Ростов-на-Дону, ул. Большая Садовая, д. 77","Шарапов В.","Клиент 640","mail@birdyx.ru","79008889900","Авито","Завершено","да",4]
[44418,{"$f":"DAY('База заказов'!$A642)","v":10},{"$f":"'База заказов'!$A642","v":"2021-08-10"},{"$f":"YEAR('База заказов'!$A642)","v":2021},"Мишин М.","Укладка линолеума на клей",null,7300,null,{"$f":"SUM(Table[[#This Row],[Наличн]:[Безнал]])-SUM(Table[[#This Row],[Наличн]:[Безнал]])*Table[[#This Row],[Скидка]]","v":7300},44418,{"$f":"DAY(Table[[#This Row],[Дата визита]])","v":10},{"$f":"MONTH(Table[[#This Row],[Дата визита]])","v":"1900-01-08"},{"$f":"YEAR(Table[[#This Row],[Дата визита]])","v":2021},{"$f":"WEEKNUM(Table[[#This Row],[Дата визита]])","v":33},"15:00:00","Ростов-на-Дону, ул. 6-я линия, д. 4","Шарапов В.","Клиент 641","mail@birdyx.ru","79008889900","Сайт","Завершено","да",5]
[44418,{"$f":"DAY('База заказов'!$A643)","v":10},{"$f":"'База заказов'!$A643","v":"2021-08-10"},{"$f":"YEAR('База заказов'!$A643)","v":2021},"Иванов И.","Демонтаж оконного блока",null,34400,0.15,{"$f":"SUM(Table[[#This Row],[Наличн]:[Безнал]])-SUM(Table[[#This Row],[Наличн]:[Безнал]])*Table[[#This Row],[Скидка]]","v":29240},44418,{"$f":"DAY(Table[[#This Row],[Дата визита]])","v":10},{"$f":"MONTH(Table[[#This Row],[Дата визита]])","v":"1900-01-08"},{"$f":"YEAR(Table[[#This Row],[Дата визита]])","v":2021},{"$f":"WEEKNUM(Table[[#This Row],[Дата визита]])","v":33},"17:00:00","Ростов-на-Дону, ул. Гагринская, д. 46","Минин В.","Клиент 642","mail@birdyx.ru","79008889900","Авито","Завершено","да",3]
[44421,{"$f":"DAY('База заказов'!$A644)","v":13},{"$f":"'База заказов'!$A644","v":"2021-08-13"},{"$f":"YEAR('База заказов'!$A644)","v":2021},"Гончарова Н.","Установка порожка",null,27100,null,{"$f":"SUM(Table[[#This Row],[Наличн]:[Безнал]])-SUM(Table[[#This Row],[Наличн]:[Безнал]])*Table[[#This Row],[Скидка]]","v":27100},44421,{"$f":"DAY(Table[[#This Row],[Дата визита]])","v":13},{"$f":"MONTH(Table[[#This Row],[Дата визита]])","v":"1900-01-08"},{"$f":"YEAR(Table[[#This Row],[Дата визита]])","v":2021},{"$f":"WEEKNUM(Table[[#This Row],[Дата визита]])","v":33},"09:00:00","Ростов-на-Дону, ул. Вятская, д. 37/1","Белоусов В.","Клиент 643","mail@birdyx.ru","79008889900","Авито","Завершено","да",2]
[44422,{"$f":"DAY('База заказов'!$A645)","v":14},{"$f":"'База заказов'!$A645","v":"2021-08-14"},{"$f":"YEAR('База заказов'!$A645)","v":2021},"Гончарова Н.","Поклейка обоев на потолки",null,17300,null,{"$f":"SUM(Table[[#This Row],[Наличн]:[Безнал]])-SUM(Table[[#This Row],[Наличн]:[Безнал]])*Table[[#This Row],[Скидка]]","v":17300},44422,{"$f":"DAY(Table[[#This Row],[Дата визита]])","v":14},{"$f":"MONTH(Table[[#This Row],[Дата визита]])","v":"1900-01-08"},{"$f":"YEAR(Table[[#This Row],[Дата визита]])","v":2021},{"$f":"WEEKNUM(Table[[#This Row],[Дата визита]])","v":33},"11:00:00","Ростов-на-Дону, ул. Станиславского, д. 58","Субботин С.","Клиент 644","mail@birdyx.ru","79008889900","Инстаграм","Отмена","да",4]
[44423,{"$f":"DAY('База заказов'!$A646)","v":15},{"$f":"'База заказов'!$A646","v":"2021-08-15"},{"$f":"YEAR('База заказов'!$A646)","v":2021},"Иванов И.","Выкройка и монтаж дополнительных углов",null,8900,null,{"$f":"SUM(Table[[#This Row],[Наличн]:[Безнал]])-SUM(Table[[#This Row],[Наличн]:[Безнал]])*Table[[#This Row],[Скидка]]","v":8900},44423,{"$f":"DAY(Table[[#This Row],[Дата визита]])","v":15},{"$f":"MONTH(Table[[#This Row],[Дата визита]])","v":"1900-01-08"},{"$f":"YEAR(Table[[#This Row],[Дата визита]])","v":2021},{"$f":"WEEKNUM(Table[[#This Row],[Дата визита]])","v":34},"15:00:00","Ростов-на-Дону, пер. Нефтяной, д. 4 А","Устинов С.","Клиент 645","mail@birdyx.ru","79008889900","Инстаграм","Завершено","да",5]
[44424,{"$f":"DAY('База заказов'!$A647)","v":16},{"$f":"'База заказов'!$A647","v":"2021-08-16"},{"$f":"YEAR('База заказов'!$A647)","v":2021},"Мишин М.","Установка плинтуса ПВХ",null,38200,null,{"$f":"SUM(Table[[#This Row],[Наличн]:[Безнал]])-SUM(Table[[#This Row],[Наличн]:[Безнал]])*Table[[#This Row],[Скидка]]","v":38200},44424,{"$f":"DAY(Table[[#This Row],[Дата визита]])","v":16},{"$f":"MONTH(Table[[#This Row],[Дата визита]])","v":"1900-01-08"},{"$f":"YEAR(Table[[#This Row],[Дата визита]])","v":2021},{"$f":"WEEKNUM(Table[[#This Row],[Дата визита]])","v":34},"17:00:00","Ростов-на-Дону, ул. Станиславского, д. 167/25","Устинов С.","Клиент 646","mail@birdyx.ru","79008889900","Инстаграм","Завершено","да",5]
[44425,{"$f":"DAY('База заказов'!$A648)","v":17},{"$f":"'База заказов'!$A648","v":"2021-08-17"},{"$f":"YEAR('База заказов'!$A648)","v":2021},"Мишин М.","Монтаж реечных потолков",null,12500,null,{"$f":"SUM(Table[[#This Row],[Наличн]:[Безнал]])-SUM(Table[[#This Row],[Наличн]:[Безнал]])*Table[[#This Row],[Скидка]]","v":12500},44425,{"$f":"DAY(Table[[#This Row],[Дата визита]])","v":17},{"$f":"MONTH(Table[[#This Row],[Дата визита]])","v":"1900-01-08"},{"$f":"YEAR(Table[[#This Row],[Дата визита]])","v":2021},{"$f":"WEEKNUM(Table[[#This Row],[Дата визита]])","v":34},"10:00:00","Ростов-на-Дону, проспект Соколова, д. 85","Минин В.","Клиент 647","mail@birdyx.ru","79008889900","Яндекс","Завершено","да",2]
[44426,{"$f":"DAY('База заказов'!$A649)","v":18},{"$f":"'База заказов'!$A649","v":"2021-08-18"},{"$f":"YEAR('База заказов'!$A649)","v":2021},"Петров В.","Монтаж реечных потолков",null,18100,null,{"$f":"SUM(Table[[#This Row],[Наличн]:[Безнал]])-SUM(Table[[#This Row],[Наличн]:[Безнал]])*Table[[#This Row],[Скидка]]","v":18100},44426,{"$f":"DAY(Table[[#This Row],[Дата визита]])","v":18},{"$f":"MONTH(Table[[#This Row],[Дата визита]])","v":"1900-01-08"},{"$f":"YEAR(Table[[#This Row],[Дата визита]])","v":2021},{"$f":"WEEKNUM(Table[[#This Row],[Дата визита]])","v":34},"12:00:00","Ростов-на-Дону, ул. Московская, д. 80","Субботин С.","Клиент 648","mail@birdyx.ru","79008889900","По совету","Завершено","да",5]
[44427,{"$f":"DAY('База заказов'!$A650)","v":19},{"$f":"'База заказов'!$A650","v":"2021-08-19"},{"$f":"YEAR('База заказов'!$A650)","v":2021},"Петров В.","Поклейка обоев на потолки",null,39700,null,{"$f":"SUM(Table[[#This Row],[Наличн]:[Безнал]])-SUM(Table[[#This Row],[Наличн]:[Безнал]])*Table[[#This Row],[Скидка]]","v":39700},44427,{"$f":"DAY(Table[[#This Row],[Дата визита]])","v":19},{"$f":"MONTH(Table[[#This Row],[Дата визита]])","v":"1900-01-08"},{"$f":"YEAR(Table[[#This Row],[Дата визита]])","v":2021},{"$f":"WEEKNUM(Table[[#This Row],[Дата визита]])","v":34},"16:00:00","Ростов-на-Дону, ул. Текучева, д. 151/2","Субботин С.","Клиент 649","mail@birdyx.ru","79008889900","Авито","Завершено","да",5]
[44428,{"$f":"DAY('База заказов'!$A651)","v":20},{"$f":"'База заказов'!$A651","v":"2021-08-20"},{"$f":"YEAR('База заказов'!$A651)","v":2021},"Гончарова Н.","Поклейка обоев на потолки",null,9800,0.15,{"$f":"SUM(Table[[#This Row],[Наличн]:[Безнал]])-SUM(Table[[#This Row],[Наличн]:[Безнал]])*Table[[#This Row],[Скидка]]","v":8330},44428,{"$f":"DAY(Table[[#This Row],[Дата визита]])","v":20},{"$f":"MONTH(Table[[#This Row],[Дата визита]])","v":"1900-01-08"},{"$f":"YEAR(Table[[#This Row],[Дата визита]])","v":2021},{"$f":"WEEKNUM(Table[[#This Row],[Дата визита]])","v":34},"18:00:00","Ростов-На-Дону, ул. Тургеневская, д. 73","Белоусов В.","Клиент 650","mail@birdyx.ru","79008889900","Авито","Завершено","да",5]
[44429,{"$f":"DAY('База заказов'!$A652)","v":21},{"$f":"'База заказов'!$A652","v":"2021-08-21"},{"$f":"YEAR('База заказов'!$A652)","v":2021},"Иванов И.","Укладка паркетной доски на клей",null,7300,null,{"$f":"SUM(Table[[#This Row],[Наличн]:[Безнал]])-SUM(Table[[#This Row],[Наличн]:[Безнал]])*Table[[#This Row],[Скидка]]","v":7300},44431,{"$f":"DAY(Table[[#This Row],[Дата визита]])","v":23},{"$f":"MONTH(Table[[#This Row],[Дата визита]])","v":"1900-01-08"},{"$f":"YEAR(Table[[#This Row],[Дата визита]])","v":2021},{"$f":"WEEKNUM(Table[[#This Row],[Дата визита]])","v":35},"10:00:00","Ростов-на-Дону, бульвар Комарова, д. 20/1","Белозеров В.","Клиент 651","mail@birdyx.ru","79008889900","Сайт","Завершено","да",4]
[44430,{"$f":"DAY('База заказов'!$A653)","v":22},{"$f":"'База заказов'!$A653","v":"2021-08-22"},{"$f":"YEAR('База заказов'!$A653)","v":2021},"Мишин М.","Укладка паркетной доски на клей",null,32800,null,{"$f":"SUM(Table[[#This Row],[Наличн]:[Безнал]])-SUM(Table[[#This Row],[Наличн]:[Безнал]])*Table[[#This Row],[Скидка]]","v":32800},44431,{"$f":"DAY(Table[[#This Row],[Дата визита]])","v":23},{"$f":"MONTH(Table[[#This Row],[Дата визита]])","v":"1900-01-08"},{"$f":"YEAR(Table[[#This Row],[Дата визита]])","v":2021},{"$f":"WEEKNUM(Table[[#This Row],[Дата визита]])","v":35},"12:00:00","Ростов-на-Дону, ул. Пушкинская, д. 225/41/224","Беспалов Г.","Клиент 652","mail@birdyx.ru","79008889900","Яндекс","Завершено","да",4]
[44431,{"$f":"DAY('База заказов'!$A654)","v":23},{"$f":"'База заказов'!$A654","v":"2021-08-23"},{"$f":"YEAR('База заказов'!$A654)","v":2021},"Мишин М.","Укладка кварцвиниловой плитки на клей",null,22600,null,{"$f":"SUM(Table[[#This Row],[Наличн]:[Безнал]])-SUM(Table[[#This Row],[Наличн]:[Безнал]])*Table[[#This Row],[Скидка]]","v":22600},44431,{"$f":"DAY(Table[[#This Row],[Дата визита]])","v":23},{"$f":"MONTH(Table[[#This Row],[Дата визита]])","v":"1900-01-08"},{"$f":"YEAR(Table[[#This Row],[Дата визита]])","v":2021},{"$f":"WEEKNUM(Table[[#This Row],[Дата визита]])","v":35},"16:00:00","Ростов-На-Дону, ул. Пушкинская, д. 1/36","Белозеров В.","Клиент 653","mail@birdyx.ru","79008889900","Сайт","Завершено","да",5]
[44432,{"$f":"DAY('База заказов'!$A655)","v":24},{"$f":"'База заказов'!$A655","v":"2021-08-24"},{"$f":"YEAR('База заказов'!$A655)","v":2021},"Петров В.","Укладка массивной доски",null,23300,null,{"$f":"SUM(Table[[#This Row],[Наличн]:[Безнал]])-SUM(Table[[#This Row],[Наличн]:[Безнал]])*Table[[#This Row],[Скидка]]","v":23300},44432,{"$f":"DAY(Table[[#This Row],[Дата визита]])","v":24},{"$f":"MONTH(Table[[#This Row],[Дата визита]])","v":"1900-01-08"},{"$f":"YEAR(Table[[#This Row],[Дата визита]])","v":2021},{"$f":"WEEKNUM(Table[[#This Row],[Дата визита]])","v":35},"18:00:00","Ростов-на-Дону, пер. Газетный, д. 92/85","Белозеров В.","Клиент 654","mail@birdyx.ru","79008889900","Авито","Завершено","да",5]
[44433,{"$f":"DAY('База заказов'!$A656)","v":25},{"$f":"'База заказов'!$A656","v":"2021-08-25"},{"$f":"YEAR('База заказов'!$A656)","v":2021},"Петров В.","Укладка линолеума на клей",null,7200,null,{"$f":"SUM(Table[[#This Row],[Наличн]:[Безнал]])-SUM(Table[[#This Row],[Наличн]:[Безнал]])*Table[[#This Row],[Скидка]]","v":7200},44433,{"$f":"DAY(Table[[#This Row],[Дата визита]])","v":25},{"$f":"MONTH(Table[[#This Row],[Дата визита]])","v":"1900-01-08"},{"$f":"YEAR(Table[[#This Row],[Дата визита]])","v":2021},{"$f":"WEEKNUM(Table[[#This Row],[Дата визита]])","v":35},"10:00:00","Ростов-на-Дону, проспект Буденновский, д. 106/2","Беспалов Г.","Клиент 655","mail@birdyx.ru","79008889900","Авито","Завершено","да",5]
[44434,{"$f":"DAY('База заказов'!$A657)","v":26},{"$f":"'База заказов'!$A657","v":"2021-08-26"},{"$f":"YEAR('База заказов'!$A657)","v":2021},"Гончарова Н.","Демонтаж оконного блока",null,30200,null,{"$f":"SUM(Table[[#This Row],[Наличн]:[Безнал]])-SUM(Table[[#This Row],[Наличн]:[Безнал]])*Table[[#This Row],[Скидка]]","v":30200},44434,{"$f":"DAY(Table[[#This Row],[Дата визита]])","v":26},{"$f":"MONTH(Table[[#This Row],[Дата визита]])","v":"1900-01-08"},{"$f":"YEAR(Table[[#This Row],[Дата визита]])","v":2021},{"$f":"WEEKNUM(Table[[#This Row],[Дата визита]])","v":35},"12:00:00","Ростов-на-Дону, ул. Пушкинская, д. 104/32","Шарапов В.","Клиент 656","mail@birdyx.ru","79008889900","Сайт","Завершено","да",5]
[44435,{"$f":"DAY('База заказов'!$A658)","v":27},{"$f":"'База заказов'!$A658","v":"2021-08-27"},{"$f":"YEAR('База заказов'!$A658)","v":2021},"Иванов И.","Установка порожка",null,30200,null,{"$f":"SUM(Table[[#This Row],[Наличн]:[Безнал]])-SUM(Table[[#This Row],[Наличн]:[Безнал]])*Table[[#This Row],[Скидка]]","v":30200},44435,{"$f":"DAY(Table[[#This Row],[Дата визита]])","v":27},{"$f":"MONTH(Table[[#This Row],[Дата визита]])","v":"1900-01-08"},{"$f":"YEAR(Table[[#This Row],[Дата визита]])","v":2021},{"$f":"WEEKNUM(Table[[#This Row],[Дата визита]])","v":35},"16:00:00","Ростов-на-Дону, ул. Республиканская, д. 1/8","Белоусов В.","Клиент 657","mail@birdyx.ru","79008889900","Инстаграм","Завершено","да",5]
[44436,{"$f":"DAY('База заказов'!$A659)","v":28},{"$f":"'База заказов'!$A659","v":"2021-08-28"},{"$f":"YEAR('База заказов'!$A659)","v":2021},"Мишин М.","Поклейка обоев на потолки",null,23400,null,{"$f":"SUM(Table[[#This Row],[Наличн]:[Безнал]])-SUM(Table[[#This Row],[Наличн]:[Безнал]])*Table[[#This Row],[Скидка]]","v":23400},44436,{"$f":"DAY(Table[[#This Row],[Дата визита]])","v":28},{"$f":"MONTH(Table[[#This Row],[Дата визита]])","v":"1900-01-08"},{"$f":"YEAR(Table[[#This Row],[Дата визита]])","v":2021},{"$f":"WEEKNUM(Table[[#This Row],[Дата визита]])","v":35},"18:00:00","Ростов-на-Дону, ул. Красноармейская, д. 33","Минин В.","Клиент 658","mail@birdyx.ru","79008889900","Яндекс","Завершено","да",5]
[44436,{"$f":"DAY('База заказов'!$A660)","v":28},{"$f":"'База заказов'!$A660","v":"2021-08-28"},{"$f":"YEAR('База заказов'!$A660)","v":2021},"Мишин М.","Выкройка и монтаж дополнительных углов",null,23900,null,{"$f":"SUM(Table[[#This Row],[Наличн]:[Безнал]])-SUM(Table[[#This Row],[Наличн]:[Безнал]])*Table[[#This Row],[Скидка]]","v":23900},44436,{"$f":"DAY(Table[[#This Row],[Дата визита]])","v":28},{"$f":"MONTH(Table[[#This Row],[Дата визита]])","v":"1900-01-08"},{"$f":"YEAR(Table[[#This Row],[Дата визита]])","v":2021},{"$f":"WEEKNUM(Table[[#This Row],[Дата визита]])","v":35},"10:00:00","Ростов-на-Дону, ул. Максима Горького, д. 11/43","Шарапов В.","Клиент 659","mail@birdyx.ru","79008889900","По совету","Завершено","да",5]
[44436,{"$f":"DAY('База заказов'!$A661)","v":28},{"$f":"'База заказов'!$A661","v":"2021-08-28"},{"$f":"YEAR('База заказов'!$A661)","v":2021},"Петров В.","Установка плинтуса ПВХ",null,26100,0.15,{"$f":"SUM(Table[[#This Row],[Наличн]:[Безнал]])-SUM(Table[[#This Row],[Наличн]:[Безнал]])*Table[[#This Row],[Скидка]]","v":22185},44436,{"$f":"DAY(Table[[#This Row],[Дата визита]])","v":28},{"$f":"MONTH(Table[[#This Row],[Дата визита]])","v":"1900-01-08"},{"$f":"YEAR(Table[[#This Row],[Дата визита]])","v":2021},{"$f":"WEEKNUM(Table[[#This Row],[Дата визита]])","v":35},"12:00:00","Ростов-на-Дону, ул. Алма-Атинская, д. 29/2 А","Шарапов В.","Клиент 660","mail@birdyx.ru","79008889900","Сайт","Завершено","да",5]
[44439,{"$f":"DAY('База заказов'!$A662)","v":31},{"$f":"'База заказов'!$A662","v":"2021-08-31"},{"$f":"YEAR('База заказов'!$A662)","v":2021},"Петров В.","Монтаж реечных потолков",null,19500,null,{"$f":"SUM(Table[[#This Row],[Наличн]:[Безнал]])-SUM(Table[[#This Row],[Наличн]:[Безнал]])*Table[[#This Row],[Скидка]]","v":19500},44439,{"$f":"DAY(Table[[#This Row],[Дата визита]])","v":31},{"$f":"MONTH(Table[[#This Row],[Дата визита]])","v":"1900-01-08"},{"$f":"YEAR(Table[[#This Row],[Дата визита]])","v":2021},{"$f":"WEEKNUM(Table[[#This Row],[Дата визита]])","v":36},"16:00:00","Ростов-на-Дону, ул. Малиновского, д. 68/1","Шарапов В.","Клиент 661","mail@birdyx.ru","79008889900","Сайт","Завершено","да",5]
[44440,{"$f":"DAY('База заказов'!$A663)","v":1},{"$f":"'База заказов'!$A663","v":"2021-09-01"},{"$f":"YEAR('База заказов'!$A663)","v":2021},"Гончарова Н.","Монтаж реечных потолков",null,7700,null,{"$f":"SUM(Table[[#This Row],[Наличн]:[Безнал]])-SUM(Table[[#This Row],[Наличн]:[Безнал]])*Table[[#This Row],[Скидка]]","v":7700},44440,{"$f":"DAY(Table[[#This Row],[Дата визита]])","v":1},{"$f":"MONTH(Table[[#This Row],[Дата визита]])","v":"1900-01-09"},{"$f":"YEAR(Table[[#This Row],[Дата визита]])","v":2021},{"$f":"WEEKNUM(Table[[#This Row],[Дата визита]])","v":36},"18:00:00","Ростов-на-Дону, ул. Береговая, д. 5","Минин В.","Клиент 662","mail@birdyx.ru","79008889900","Сайт","Завершено","да",5]
[44441,{"$f":"DAY('База заказов'!$A664)","v":2},{"$f":"'База заказов'!$A664","v":"2021-09-02"},{"$f":"YEAR('База заказов'!$A664)","v":2021},"Иванов И.","Поклейка обоев на потолки",null,24500,null,{"$f":"SUM(Table[[#This Row],[Наличн]:[Безнал]])-SUM(Table[[#This Row],[Наличн]:[Безнал]])*Table[[#This Row],[Скидка]]","v":24500},44441,{"$f":"DAY(Table[[#This Row],[Дата визита]])","v":2},{"$f":"MONTH(Table[[#This Row],[Дата визита]])","v":"1900-01-09"},{"$f":"YEAR(Table[[#This Row],[Дата визита]])","v":2021},{"$f":"WEEKNUM(Table[[#This Row],[Дата визита]])","v":36},"10:00:00","Ростов-на-Дону, пл. Гагарина, д. 1","Белоусов В.","Клиент 663","mail@birdyx.ru","79008889900","Сайт","Завершено","да",5]
[44442,{"$f":"DAY('База заказов'!$A665)","v":3},{"$f":"'База заказов'!$A665","v":"2021-09-03"},{"$f":"YEAR('База заказов'!$A665)","v":2021},"Петров В.","Поклейка обоев на потолки",null,19600,null,{"$f":"SUM(Table[[#This Row],[Наличн]:[Безнал]])-SUM(Table[[#This Row],[Наличн]:[Безнал]])*Table[[#This Row],[Скидка]]","v":19600},44442,{"$f":"DAY(Table[[#This Row],[Дата визита]])","v":3},{"$f":"MONTH(Table[[#This Row],[Дата визита]])","v":"1900-01-09"},{"$f":"YEAR(Table[[#This Row],[Дата визита]])","v":2021},{"$f":"WEEKNUM(Table[[#This Row],[Дата визита]])","v":36},"12:00:00","Ростов-на-Дону, ул. Механизаторов, д. 6А","Субботин С.","Клиент 664","mail@birdyx.ru","79008889900","Сайт","Завершено","да",5]
[44443,{"$f":"DAY('База заказов'!$A666)","v":4},{"$f":"'База заказов'!$A666","v":"2021-09-04"},{"$f":"YEAR('База заказов'!$A666)","v":2021},"Мишин М.","Укладка паркетной доски на клей",null,29000,null,{"$f":"SUM(Table[[#This Row],[Наличн]:[Безнал]])-SUM(Table[[#This Row],[Наличн]:[Безнал]])*Table[[#This Row],[Скидка]]","v":29000},44443,{"$f":"DAY(Table[[#This Row],[Дата визита]])","v":4},{"$f":"MONTH(Table[[#This Row],[Дата визита]])","v":"1900-01-09"},{"$f":"YEAR(Table[[#This Row],[Дата визита]])","v":2021},{"$f":"WEEKNUM(Table[[#This Row],[Дата визита]])","v":36},"16:00:00","Ростов-На-Дону, проспект Буденновский, д. 3/3","Устинов С.","Клиент 665","mail@birdyx.ru","79008889900","Инстаграм","Завершено","да",5]
[44444,{"$f":"DAY('База заказов'!$A667)","v":5},{"$f":"'База заказов'!$A667","v":"2021-09-05"},{"$f":"YEAR('База заказов'!$A667)","v":2021},"Петров В.","Укладка паркетной доски на клей",null,28500,null,{"$f":"SUM(Table[[#This Row],[Наличн]:[Безнал]])-SUM(Table[[#This Row],[Наличн]:[Безнал]])*Table[[#This Row],[Скидка]]","v":28500},44444,{"$f":"DAY(Table[[#This Row],[Дата визита]])","v":5},{"$f":"MONTH(Table[[#This Row],[Дата визита]])","v":"1900-01-09"},{"$f":"YEAR(Table[[#This Row],[Дата визита]])","v":2021},{"$f":"WEEKNUM(Table[[#This Row],[Дата визита]])","v":37},"18:00:00","Ростов-на-Дону, ул. Обороны, д. 40/17","Беспалов Г.","Клиент 666","mail@birdyx.ru","79008889900","Инстаграм","Завершено","да",5]
[44445,{"$f":"DAY('База заказов'!$A668)","v":6},{"$f":"'База заказов'!$A668","v":"2021-09-06"},{"$f":"YEAR('База заказов'!$A668)","v":2021},"Петров В.","Укладка кварцвиниловой плитки на клей",null,28100,null,{"$f":"SUM(Table[[#This Row],[Наличн]:[Безнал]])-SUM(Table[[#This Row],[Наличн]:[Безнал]])*Table[[#This Row],[Скидка]]","v":28100},44445,{"$f":"DAY(Table[[#This Row],[Дата визита]])","v":6},{"$f":"MONTH(Table[[#This Row],[Дата визита]])","v":"1900-01-09"},{"$f":"YEAR(Table[[#This Row],[Дата визита]])","v":2021},{"$f":"WEEKNUM(Table[[#This Row],[Дата визита]])","v":37},"10:00:00","Ростов-на-Дону, ул. Судостроительная, д. 55","Минин В.","Клиент 667","mail@birdyx.ru","79008889900","Инстаграм","Завершено","да",5]
[44446,{"$f":"DAY('База заказов'!$A669)","v":7},{"$f":"'База заказов'!$A669","v":"2021-09-07"},{"$f":"YEAR('База заказов'!$A669)","v":2021},"Иванов И.","Укладка массивной доски",null,12600,null,{"$f":"SUM(Table[[#This Row],[Наличн]:[Безнал]])-SUM(Table[[#This Row],[Наличн]:[Безнал]])*Table[[#This Row],[Скидка]]","v":12600},44446,{"$f":"DAY(Table[[#This Row],[Дата визита]])","v":7},{"$f":"MONTH(Table[[#This Row],[Дата визита]])","v":"1900-01-09"},{"$f":"YEAR(Table[[#This Row],[Дата визита]])","v":2021},{"$f":"WEEKNUM(Table[[#This Row],[Дата визита]])","v":37},"12:00:00","Ростов-На-Дону, пер. Семашко, д. 46/1","Шарапов В.","Клиент 668","mail@birdyx.ru","79008889900","Яндекс","Завершено","да",5]
[44447,{"$f":"DAY('База заказов'!$A670)","v":8},{"$f":"'База заказов'!$A670","v":"2021-09-08"},{"$f":"YEAR('База заказов'!$A670)","v":2021},"Петров В.","Укладка линолеума на клей",null,24000,null,{"$f":"SUM(Table[[#This Row],[Наличн]:[Безнал]])-SUM(Table[[#This Row],[Наличн]:[Безнал]])*Table[[#This Row],[Скидка]]","v":24000},44449,{"$f":"DAY(Table[[#This Row],[Дата визита]])","v":10},{"$f":"MONTH(Table[[#This Row],[Дата визита]])","v":"1900-01-09"},{"$f":"YEAR(Table[[#This Row],[Дата визита]])","v":2021},{"$f":"WEEKNUM(Table[[#This Row],[Дата визита]])","v":37},"16:00:00","Ростов-на-Дону, проспект Соколова, д. 11/Б","Шарапов В.","Клиент 669","mail@birdyx.ru","79008889900","По совету","Завершено","да",5]
[44448,{"$f":"DAY('База заказов'!$A671)","v":9},{"$f":"'База заказов'!$A671","v":"2021-09-09"},{"$f":"YEAR('База заказов'!$A671)","v":2021},"Мишин М.","Демонтаж оконного блока",null,38600,0.15,{"$f":"SUM(Table[[#This Row],[Наличн]:[Безнал]])-SUM(Table[[#This Row],[Наличн]:[Безнал]])*Table[[#This Row],[Скидка]]","v":32810},44449,{"$f":"DAY(Table[[#This Row],[Дата визита]])","v":10},{"$f":"MONTH(Table[[#This Row],[Дата визита]])","v":"1900-01-09"},{"$f":"YEAR(Table[[#This Row],[Дата визита]])","v":2021},{"$f":"WEEKNUM(Table[[#This Row],[Дата визита]])","v":37},"18:00:00","Ростов-на-Дону, ул. Ларина, д. 41/19","Шарапов В.","Клиент 670","mail@birdyx.ru","79008889900","Авито","Завершено","да",5]
[44449,{"$f":"DAY('База заказов'!$A672)","v":10},{"$f":"'База заказов'!$A672","v":"2021-09-10"},{"$f":"YEAR('База заказов'!$A672)","v":2021},"Петров В.","Установка порожка",null,7300,null,{"$f":"SUM(Table[[#This Row],[Наличн]:[Безнал]])-SUM(Table[[#This Row],[Наличн]:[Безнал]])*Table[[#This Row],[Скидка]]","v":7300},44449,{"$f":"DAY(Table[[#This Row],[Дата визита]])","v":10},{"$f":"MONTH(Table[[#This Row],[Дата визита]])","v":"1900-01-09"},{"$f":"YEAR(Table[[#This Row],[Дата визита]])","v":2021},{"$f":"WEEKNUM(Table[[#This Row],[Дата визита]])","v":37},"10:00:00","Ростов-на-Дону, проспект Коммунистический, д. 20/4","Минин В.","Клиент 671","mail@birdyx.ru","79008889900","Авито","Завершено","да",5]
[44450,{"$f":"DAY('База заказов'!$A673)","v":11},{"$f":"'База заказов'!$A673","v":"2021-09-11"},{"$f":"YEAR('База заказов'!$A673)","v":2021},"Петров В.","Поклейка обоев на потолки",null,34400,null,{"$f":"SUM(Table[[#This Row],[Наличн]:[Безнал]])-SUM(Table[[#This Row],[Наличн]:[Безнал]])*Table[[#This Row],[Скидка]]","v":34400},44450,{"$f":"DAY(Table[[#This Row],[Дата визита]])","v":11},{"$f":"MONTH(Table[[#This Row],[Дата визита]])","v":"1900-01-09"},{"$f":"YEAR(Table[[#This Row],[Дата визита]])","v":2021},{"$f":"WEEKNUM(Table[[#This Row],[Дата визита]])","v":37},"12:00:00","Ростов-на-Дону, ул. Цезаря Куникова, д. 32/А","Белоусов В.","Клиент 672","mail@birdyx.ru","79008889900","Сайт","Завершено","да",5]
[44451,{"$f":"DAY('База заказов'!$A674)","v":12},{"$f":"'База заказов'!$A674","v":"2021-09-12"},{"$f":"YEAR('База заказов'!$A674)","v":2021},"Иванов И.","Выкройка и монтаж дополнительных углов",null,27100,null,{"$f":"SUM(Table[[#This Row],[Наличн]:[Безнал]])-SUM(Table[[#This Row],[Наличн]:[Безнал]])*Table[[#This Row],[Скидка]]","v":27100},44451,{"$f":"DAY(Table[[#This Row],[Дата визита]])","v":12},{"$f":"MONTH(Table[[#This Row],[Дата визита]])","v":"1900-01-09"},{"$f":"YEAR(Table[[#This Row],[Дата визита]])","v":2021},{"$f":"WEEKNUM(Table[[#This Row],[Дата визита]])","v":38},"16:00:00","Ростов-на-Дону, ул. Красноармейская, д. 21","Субботин С.","Клиент 673","mail@birdyx.ru","79008889900","Сайт","Завершено","да",5]
[44452,{"$f":"DAY('База заказов'!$A675)","v":13},{"$f":"'База заказов'!$A675","v":"2021-09-13"},{"$f":"YEAR('База заказов'!$A675)","v":2021},"Петров В.","Установка плинтуса ПВХ",null,17300,null,{"$f":"SUM(Table[[#This Row],[Наличн]:[Безнал]])-SUM(Table[[#This Row],[Наличн]:[Безнал]])*Table[[#This Row],[Скидка]]","v":17300},44452,{"$f":"DAY(Table[[#This Row],[Дата визита]])","v":13},{"$f":"MONTH(Table[[#This Row],[Дата визита]])","v":"1900-01-09"},{"$f":"YEAR(Table[[#This Row],[Дата визита]])","v":2021},{"$f":"WEEKNUM(Table[[#This Row],[Дата визита]])","v":38},"18:00:00","Ростов-на-Дону, проспект 40-летия Победы, д. 95/3","Устинов С.","Клиент 674","mail@birdyx.ru","79008889900","Сайт","Завершено","да",5]
[44453,{"$f":"DAY('База заказов'!$A676)","v":14},{"$f":"'База заказов'!$A676","v":"2021-09-14"},{"$f":"YEAR('База заказов'!$A676)","v":2021},"Мишин М.","Монтаж реечных потолков",null,8900,null,{"$f":"SUM(Table[[#This Row],[Наличн]:[Безнал]])-SUM(Table[[#This Row],[Наличн]:[Безнал]])*Table[[#This Row],[Скидка]]","v":8900},44453,{"$f":"DAY(Table[[#This Row],[Дата визита]])","v":14},{"$f":"MONTH(Table[[#This Row],[Дата визита]])","v":"1900-01-09"},{"$f":"YEAR(Table[[#This Row],[Дата визита]])","v":2021},{"$f":"WEEKNUM(Table[[#This Row],[Дата визита]])","v":38},"10:00:00","Ростов-на-Дону, ул. Станиславского, д. 58","Шарапов В.","Клиент 675","mail@birdyx.ru","79008889900","Сайт","Завершено","да",5]
[44454,{"$f":"DAY('База заказов'!$A677)","v":15},{"$f":"'База заказов'!$A677","v":"2021-09-15"},{"$f":"YEAR('База заказов'!$A677)","v":2021},"Петров В.","Монтаж реечных потолков",null,38200,null,{"$f":"SUM(Table[[#This Row],[Наличн]:[Безнал]])-SUM(Table[[#This Row],[Наличн]:[Безнал]])*Table[[#This Row],[Скидка]]","v":38200},44454,{"$f":"DAY(Table[[#This Row],[Дата визита]])","v":15},{"$f":"MONTH(Table[[#This Row],[Дата визита]])","v":"1900-01-09"},{"$f":"YEAR(Table[[#This Row],[Дата визита]])","v":2021},{"$f":"WEEKNUM(Table[[#This Row],[Дата визита]])","v":38},"12:00:00","Ростов-на-Дону, проспект Буденновский, 86/197","Минин В.","Клиент 676","mail@birdyx.ru","79008889900","Инстаграм","Завершено","да",5]
[44455,{"$f":"DAY('База заказов'!$A678)","v":16},{"$f":"'База заказов'!$A678","v":"2021-09-16"},{"$f":"YEAR('База заказов'!$A678)","v":2021},"Петров В.","Поклейка обоев на потолки",null,12500,null,{"$f":"SUM(Table[[#This Row],[Наличн]:[Безнал]])-SUM(Table[[#This Row],[Наличн]:[Безнал]])*Table[[#This Row],[Скидка]]","v":12500},44455,{"$f":"DAY(Table[[#This Row],[Дата визита]])","v":16},{"$f":"MONTH(Table[[#This Row],[Дата визита]])","v":"1900-01-09"},{"$f":"YEAR(Table[[#This Row],[Дата визита]])","v":2021},{"$f":"WEEKNUM(Table[[#This Row],[Дата визита]])","v":38},"16:00:00","Ростов-на-Дону, ул. Липовая, 5","Белоусов В.","Клиент 677","mail@birdyx.ru","79008889900","Яндекс","Завершено","да",5]
[44456,{"$f":"DAY('База заказов'!$A679)","v":17},{"$f":"'База заказов'!$A679","v":"2021-09-17"},{"$f":"YEAR('База заказов'!$A679)","v":2021},"Иванов И.","Поклейка обоев на потолки",null,18100,null,{"$f":"SUM(Table[[#This Row],[Наличн]:[Безнал]])-SUM(Table[[#This Row],[Наличн]:[Безнал]])*Table[[#This Row],[Скидка]]","v":18100},44456,{"$f":"DAY(Table[[#This Row],[Дата визита]])","v":17},{"$f":"MONTH(Table[[#This Row],[Дата визита]])","v":"1900-01-09"},{"$f":"YEAR(Table[[#This Row],[Дата визита]])","v":2021},{"$f":"WEEKNUM(Table[[#This Row],[Дата визита]])","v":38},"18:00:00","Ростов-на-Дону, ул. Станиславского, д. 58","Субботин С.","Клиент 678","mail@birdyx.ru","79008889900","По совету","Завершено","да",5]
[44457,{"$f":"DAY('База заказов'!$A680)","v":18},{"$f":"'База заказов'!$A680","v":"2021-09-18"},{"$f":"YEAR('База заказов'!$A680)","v":2021},"Петров В.","Укладка паркетной доски на клей",null,39700,0.15,{"$f":"SUM(Table[[#This Row],[Наличн]:[Безнал]])-SUM(Table[[#This Row],[Наличн]:[Безнал]])*Table[[#This Row],[Скидка]]","v":33745},44457,{"$f":"DAY(Table[[#This Row],[Дата визита]])","v":18},{"$f":"MONTH(Table[[#This Row],[Дата визита]])","v":"1900-01-09"},{"$f":"YEAR(Table[[#This Row],[Дата визита]])","v":2021},{"$f":"WEEKNUM(Table[[#This Row],[Дата визита]])","v":38},"09:00:00","Ростов-на-Дону, ул. Беляева, д. 22А","Устинов С.","Клиент 679","mail@birdyx.ru","79008889900","Авито","Завершено","да",5]
[44458,{"$f":"DAY('База заказов'!$A681)","v":19},{"$f":"'База заказов'!$A681","v":"2021-09-19"},{"$f":"YEAR('База заказов'!$A681)","v":2021},"Мишин М.","Укладка паркетной доски на клей",null,9800,null,{"$f":"SUM(Table[[#This Row],[Наличн]:[Безнал]])-SUM(Table[[#This Row],[Наличн]:[Безнал]])*Table[[#This Row],[Скидка]]","v":9800},44458,{"$f":"DAY(Table[[#This Row],[Дата визита]])","v":19},{"$f":"MONTH(Table[[#This Row],[Дата визита]])","v":"1900-01-09"},{"$f":"YEAR(Table[[#This Row],[Дата визита]])","v":2021},{"$f":"WEEKNUM(Table[[#This Row],[Дата визита]])","v":39},"11:00:00","Ростов-на-Дону, ул. 22 Линия, д. 34","Белоусов В.","Клиент 680","mail@birdyx.ru","79008889900","Сайт","Завершено","да",5]
[44459,{"$f":"DAY('База заказов'!$A682)","v":20},{"$f":"'База заказов'!$A682","v":"2021-09-20"},{"$f":"YEAR('База заказов'!$A682)","v":2021},"Мишин М.","Укладка кварцвиниловой плитки на клей",null,7300,null,{"$f":"SUM(Table[[#This Row],[Наличн]:[Безнал]])-SUM(Table[[#This Row],[Наличн]:[Безнал]])*Table[[#This Row],[Скидка]]","v":7300},44459,{"$f":"DAY(Table[[#This Row],[Дата визита]])","v":20},{"$f":"MONTH(Table[[#This Row],[Дата визита]])","v":"1900-01-09"},{"$f":"YEAR(Table[[#This Row],[Дата визита]])","v":2021},{"$f":"WEEKNUM(Table[[#This Row],[Дата визита]])","v":39},"15:00:00","Ростов-На-Дону, проспект Шолохова, д. 288","Шарапов В.","Клиент 681","mail@birdyx.ru","79008889900","Инстаграм","Завершено","да",5]
[44460,{"$f":"DAY('База заказов'!$A683)","v":21},{"$f":"'База заказов'!$A683","v":"2021-09-21"},{"$f":"YEAR('База заказов'!$A683)","v":2021},"Иванов И.","Укладка массивной доски",null,32800,null,{"$f":"SUM(Table[[#This Row],[Наличн]:[Безнал]])-SUM(Table[[#This Row],[Наличн]:[Безнал]])*Table[[#This Row],[Скидка]]","v":32800},44460,{"$f":"DAY(Table[[#This Row],[Дата визита]])","v":21},{"$f":"MONTH(Table[[#This Row],[Дата визита]])","v":"1900-01-09"},{"$f":"YEAR(Table[[#This Row],[Дата визита]])","v":2021},{"$f":"WEEKNUM(Table[[#This Row],[Дата визита]])","v":39},"17:00:00","Ростов-на-Дону, проспект Кировский, д. 57","Белоусов В.","Клиент 682","mail@birdyx.ru","79008889900","Инстаграм","Завершено","да",4]
[44460,{"$f":"DAY('База заказов'!$A684)","v":21},{"$f":"'База заказов'!$A684","v":"2021-09-21"},{"$f":"YEAR('База заказов'!$A684)","v":2021},"Петров В.","Укладка линолеума на клей",null,22600,null,{"$f":"SUM(Table[[#This Row],[Наличн]:[Безнал]])-SUM(Table[[#This Row],[Наличн]:[Безнал]])*Table[[#This Row],[Скидка]]","v":22600},44460,{"$f":"DAY(Table[[#This Row],[Дата визита]])","v":21},{"$f":"MONTH(Table[[#This Row],[Дата визита]])","v":"1900-01-09"},{"$f":"YEAR(Table[[#This Row],[Дата визита]])","v":2021},{"$f":"WEEKNUM(Table[[#This Row],[Дата визита]])","v":39},"09:00:00","Ростов-на-Дону, Стартовая 20","Беспалов Г.","Клиент 683","mail@birdyx.ru","79008889900","Инстаграм","Завершено","да",4]
[44462,{"$f":"DAY('База заказов'!$A685)","v":23},{"$f":"'База заказов'!$A685","v":"2021-09-23"},{"$f":"YEAR('База заказов'!$A685)","v":2021},"Иванов И.","Демонтаж оконного блока",null,22200,null,{"$f":"SUM(Table[[#This Row],[Наличн]:[Безнал]])-SUM(Table[[#This Row],[Наличн]:[Безнал]])*Table[[#This Row],[Скидка]]","v":22200},44462,{"$f":"DAY(Table[[#This Row],[Дата визита]])","v":23},{"$f":"MONTH(Table[[#This Row],[Дата визита]])","v":"1900-01-09"},{"$f":"YEAR(Table[[#This Row],[Дата визита]])","v":2021},{"$f":"WEEKNUM(Table[[#This Row],[Дата визита]])","v":39},"11:00:00","Ростов-на-Дону, Стартовая 22","Минин В.","Клиент 684","mail@birdyx.ru","79008889900","Инстаграм","Завершено","да",4]
[44463,{"$f":"DAY('База заказов'!$A686)","v":24},{"$f":"'База заказов'!$A686","v":"2021-09-24"},{"$f":"YEAR('База заказов'!$A686)","v":2021},"Гончарова Н.","Установка порожка",null,28000,null,{"$f":"SUM(Table[[#This Row],[Наличн]:[Безнал]])-SUM(Table[[#This Row],[Наличн]:[Безнал]])*Table[[#This Row],[Скидка]]","v":28000},44463,{"$f":"DAY(Table[[#This Row],[Дата визита]])","v":24},{"$f":"MONTH(Table[[#This Row],[Дата визита]])","v":"1900-01-09"},{"$f":"YEAR(Table[[#This Row],[Дата визита]])","v":2021},{"$f":"WEEKNUM(Table[[#This Row],[Дата визита]])","v":39},"15:00:00","Ростов-на-Дону, Жданова 15","Субботин С.","Клиент 685","mail@birdyx.ru","79008889900","Инстаграм","Завершено","да",4]
[44464,{"$f":"DAY('База заказов'!$A687)","v":25},{"$f":"'База заказов'!$A687","v":"2021-09-25"},{"$f":"YEAR('База заказов'!$A687)","v":2021},"Мишин М.","Поклейка обоев на потолки",null,8800,null,{"$f":"SUM(Table[[#This Row],[Наличн]:[Безнал]])-SUM(Table[[#This Row],[Наличн]:[Безнал]])*Table[[#This Row],[Скидка]]","v":8800},44464,{"$f":"DAY(Table[[#This Row],[Дата визита]])","v":25},{"$f":"MONTH(Table[[#This Row],[Дата визита]])","v":"1900-01-09"},{"$f":"YEAR(Table[[#This Row],[Дата визита]])","v":2021},{"$f":"WEEKNUM(Table[[#This Row],[Дата визита]])","v":39},"17:00:00","Ростов-на-Дону, ул. Пацаева, д. 2","Субботин С.","Клиент 686","mail@birdyx.ru","79008889900","Яндекс","Завершено","да",4]
[44465,{"$f":"DAY('База заказов'!$A688)","v":26},{"$f":"'База заказов'!$A688","v":"2021-09-26"},{"$f":"YEAR('База заказов'!$A688)","v":2021},"Иванов И.","Выкройка и монтаж дополнительных углов",null,7900,null,{"$f":"SUM(Table[[#This Row],[Наличн]:[Безнал]])-SUM(Table[[#This Row],[Наличн]:[Безнал]])*Table[[#This Row],[Скидка]]","v":7900},44465,{"$f":"DAY(Table[[#This Row],[Дата визита]])","v":26},{"$f":"MONTH(Table[[#This Row],[Дата визита]])","v":"1900-01-09"},{"$f":"YEAR(Table[[#This Row],[Дата визита]])","v":2021},{"$f":"WEEKNUM(Table[[#This Row],[Дата визита]])","v":40},"09:00:00","Ростов-на-Дону, ул. 14 Линия, д. 33","Минин В.","Клиент 687","mail@birdyx.ru","79008889900","По совету","Завершено","да",4]
[44466,{"$f":"DAY('База заказов'!$A689)","v":27},{"$f":"'База заказов'!$A689","v":"2021-09-27"},{"$f":"YEAR('База заказов'!$A689)","v":2021},"Петров В.","Установка плинтуса ПВХ",null,9500,null,{"$f":"SUM(Table[[#This Row],[Наличн]:[Безнал]])-SUM(Table[[#This Row],[Наличн]:[Безнал]])*Table[[#This Row],[Скидка]]","v":9500},44466,{"$f":"DAY(Table[[#This Row],[Дата визита]])","v":27},{"$f":"MONTH(Table[[#This Row],[Дата визита]])","v":"1900-01-09"},{"$f":"YEAR(Table[[#This Row],[Дата визита]])","v":2021},{"$f":"WEEKNUM(Table[[#This Row],[Дата визита]])","v":40},"11:00:00","Ростов-на-Дону, пер. Беломорский, д. 94","Шарапов В.","Клиент 688","mail@birdyx.ru","79008889900","Авито","Отмена","да",4]
[44467,{"$f":"DAY('База заказов'!$A690)","v":28},{"$f":"'База заказов'!$A690","v":"2021-09-28"},{"$f":"YEAR('База заказов'!$A690)","v":2021},"Гончарова Н.","Монтаж реечных потолков",26300,null,null,{"$f":"SUM(Table[[#This Row],[Наличн]:[Безнал]])-SUM(Table[[#This Row],[Наличн]:[Безнал]])*Table[[#This Row],[Скидка]]","v":26300},44467,{"$f":"DAY(Table[[#This Row],[Дата визита]])","v":28},{"$f":"MONTH(Table[[#This Row],[Дата визита]])","v":"1900-01-09"},{"$f":"YEAR(Table[[#This Row],[Дата визита]])","v":2021},{"$f":"WEEKNUM(Table[[#This Row],[Дата визита]])","v":40},"15:00:00","Ростов-На-Дону, ул. Извилистая, д. 13/2","Шарапов В.","Клиент 689","mail@birdyx.ru","79008889900","Авито","Завершено","да",4]
[44468,{"$f":"DAY('База заказов'!$A691)","v":29},{"$f":"'База заказов'!$A691","v":"2021-09-29"},{"$f":"YEAR('База заказов'!$A691)","v":2021},"Гончарова Н.","Монтаж реечных потолков",26400,null,0.15,{"$f":"SUM(Table[[#This Row],[Наличн]:[Безнал]])-SUM(Table[[#This Row],[Наличн]:[Безнал]])*Table[[#This Row],[Скидка]]","v":22440},44468,{"$f":"DAY(Table[[#This Row],[Дата визита]])","v":29},{"$f":"MONTH(Table[[#This Row],[Дата визита]])","v":"1900-01-09"},{"$f":"YEAR(Table[[#This Row],[Дата визита]])","v":2021},{"$f":"WEEKNUM(Table[[#This Row],[Дата визита]])","v":40},"17:00:00","Ростов-на-Дону, пер. Братский, д. 36","Шарапов В.","Клиент 690","mail@birdyx.ru","79008889900","Сайт","Завершено","да",4]
[44469,{"$f":"DAY('База заказов'!$A692)","v":30},{"$f":"'База заказов'!$A692","v":"2021-09-30"},{"$f":"YEAR('База заказов'!$A692)","v":2021},"Иванов И.","Поклейка обоев на потолки",13800,null,0.15,{"$f":"SUM(Table[[#This Row],[Наличн]:[Безнал]])-SUM(Table[[#This Row],[Наличн]:[Безнал]])*Table[[#This Row],[Скидка]]","v":11730},44469,{"$f":"DAY(Table[[#This Row],[Дата визита]])","v":30},{"$f":"MONTH(Table[[#This Row],[Дата визита]])","v":"1900-01-09"},{"$f":"YEAR(Table[[#This Row],[Дата визита]])","v":2021},{"$f":"WEEKNUM(Table[[#This Row],[Дата визита]])","v":40},"09:00:00","Ростов-На-Дону, ул. Андрея Сладкова, д. 87","Минин В.","Клиент 691","mail@birdyx.ru","79008889900","Яндекс","Завершено","да",4]
[44470,{"$f":"DAY('База заказов'!$A693)","v":1},{"$f":"'База заказов'!$A693","v":"2021-10-01"},{"$f":"YEAR('База заказов'!$A693)","v":2021},"Мишин М.","Поклейка обоев на потолки",31800,null,0.15,{"$f":"SUM(Table[[#This Row],[Наличн]:[Безнал]])-SUM(Table[[#This Row],[Наличн]:[Безнал]])*Table[[#This Row],[Скидка]]","v":27030},44470,{"$f":"DAY(Table[[#This Row],[Дата визита]])","v":1},{"$f":"MONTH(Table[[#This Row],[Дата визита]])","v":"1900-01-10"},{"$f":"YEAR(Table[[#This Row],[Дата визита]])","v":2021},{"$f":"WEEKNUM(Table[[#This Row],[Дата визита]])","v":40},"11:00:00","Ростов-на-Дону, ул. 339-й Стрелковой Дивизии, д. 33","Белоусов В.","Клиент 692","mail@birdyx.ru","79008889900","Сайт","Завершено","да",4]
[44471,{"$f":"DAY('База заказов'!$A694)","v":2},{"$f":"'База заказов'!$A694","v":"2021-10-02"},{"$f":"YEAR('База заказов'!$A694)","v":2021},"Мишин М.","Укладка паркетной доски на клей",328000,null,0.15,{"$f":"SUM(Table[[#This Row],[Наличн]:[Безнал]])-SUM(Table[[#This Row],[Наличн]:[Безнал]])*Table[[#This Row],[Скидка]]","v":278800},44471,{"$f":"DAY(Table[[#This Row],[Дата визита]])","v":2},{"$f":"MONTH(Table[[#This Row],[Дата визита]])","v":"1900-01-10"},{"$f":"YEAR(Table[[#This Row],[Дата визита]])","v":2021},{"$f":"WEEKNUM(Table[[#This Row],[Дата визита]])","v":40},"15:00:00","Ростов-на-Дону, Ленина 1","Субботин С.","Клиент 693","mail@birdyx.ru","79008889900","Инстаграм","Завершено","да",4]
[44472,{"$f":"DAY('База заказов'!$A695)","v":3},{"$f":"'База заказов'!$A695","v":"2021-10-03"},{"$f":"YEAR('База заказов'!$A695)","v":2021},"Петров В.","Укладка паркетной доски на клей",90000,null,null,{"$f":"SUM(Table[[#This Row],[Наличн]:[Безнал]])-SUM(Table[[#This Row],[Наличн]:[Безнал]])*Table[[#This Row],[Скидка]]","v":90000},44472,{"$f":"DAY(Table[[#This Row],[Дата визита]])","v":3},{"$f":"MONTH(Table[[#This Row],[Дата визита]])","v":"1900-01-10"},{"$f":"YEAR(Table[[#This Row],[Дата визита]])","v":2021},{"$f":"WEEKNUM(Table[[#This Row],[Дата визита]])","v":41},"17:00:00","Ростов-на-Дону, Михаила Нагибина 32","Устинов С.","Клиент 694","mail@birdyx.ru","79008889900","Инстаграм","Завершено","да",5]
[44473,{"$f":"DAY('База заказов'!$A696)","v":4},{"$f":"'База заказов'!$A696","v":"2021-10-04"},{"$f":"YEAR('База заказов'!$A696)","v":2021},"Петров В.","Укладка кварцвиниловой плитки на клей",null,8900,null,{"$f":"SUM(Table[[#This Row],[Наличн]:[Безнал]])-SUM(Table[[#This Row],[Наличн]:[Безнал]])*Table[[#This Row],[Скидка]]","v":8900},44473,{"$f":"DAY(Table[[#This Row],[Дата визита]])","v":4},{"$f":"MONTH(Table[[#This Row],[Дата визита]])","v":"1900-01-10"},{"$f":"YEAR(Table[[#This Row],[Дата визита]])","v":2021},{"$f":"WEEKNUM(Table[[#This Row],[Дата визита]])","v":41},"10:00:00","Ростов-на-Дону, Михаила Нагибина 32","Шарапов В.","Клиент 695","mail@birdyx.ru","79008889900","Сайт","Завершено","да",5]
[44473,{"$f":"DAY('База заказов'!$A697)","v":4},{"$f":"'База заказов'!$A697","v":"2021-10-04"},{"$f":"YEAR('База заказов'!$A697)","v":2021},"Гончарова Н.","Укладка массивной доски",null,7000,null,{"$f":"SUM(Table[[#This Row],[Наличн]:[Безнал]])-SUM(Table[[#This Row],[Наличн]:[Безнал]])*Table[[#This Row],[Скидка]]","v":7000},44473,{"$f":"DAY(Table[[#This Row],[Дата визита]])","v":4},{"$f":"MONTH(Table[[#This Row],[Дата визита]])","v":"1900-01-10"},{"$f":"YEAR(Table[[#This Row],[Дата визита]])","v":2021},{"$f":"WEEKNUM(Table[[#This Row],[Дата визита]])","v":41},"12:00:00","Ростов-на-Дону, ул. Таганрогская, д. 149/1 К 35","Шарапов В.","Клиент 696","mail@birdyx.ru","79008889900","Инстаграм","Завершено","да",3]
[44475,{"$f":"DAY('База заказов'!$A698)","v":6},{"$f":"'База заказов'!$A698","v":"2021-10-06"},{"$f":"YEAR('База заказов'!$A698)","v":2021},"Иванов И.","Укладка линолеума на клей",null,50000,null,{"$f":"SUM(Table[[#This Row],[Наличн]:[Безнал]])-SUM(Table[[#This Row],[Наличн]:[Безнал]])*Table[[#This Row],[Скидка]]","v":50000},44475,{"$f":"DAY(Table[[#This Row],[Дата визита]])","v":6},{"$f":"MONTH(Table[[#This Row],[Дата визита]])","v":"1900-01-10"},{"$f":"YEAR(Table[[#This Row],[Дата визита]])","v":2021},{"$f":"WEEKNUM(Table[[#This Row],[Дата визита]])","v":41},"16:00:00","Ростов-На-Дону, ул. Большая Садовая, д. 115","Шарапов В.","Клиент 697","mail@birdyx.ru","79008889900","Яндекс","Завершено","да",4]
[44476,{"$f":"DAY('База заказов'!$A699)","v":7},{"$f":"'База заказов'!$A699","v":"2021-10-07"},{"$f":"YEAR('База заказов'!$A699)","v":2021},"Мишин М.","Демонтаж оконного блока",2000,null,null,{"$f":"SUM(Table[[#This Row],[Наличн]:[Безнал]])-SUM(Table[[#This Row],[Наличн]:[Безнал]])*Table[[#This Row],[Скидка]]","v":2000},44476,{"$f":"DAY(Table[[#This Row],[Дата визита]])","v":7},{"$f":"MONTH(Table[[#This Row],[Дата визита]])","v":"1900-01-10"},{"$f":"YEAR(Table[[#This Row],[Дата визита]])","v":2021},{"$f":"WEEKNUM(Table[[#This Row],[Дата визита]])","v":41},"18:00:00","Ростов-на-Дону, ул. Большая Садовая, д. 69","Минин В.","Клиент 698","mail@birdyx.ru","79008889900","По совету","Завершено","да",4]
[44477,{"$f":"DAY('База заказов'!$A700)","v":8},{"$f":"'База заказов'!$A700","v":"2021-10-08"},{"$f":"YEAR('База заказов'!$A700)","v":2021},"Мишин М.","Установка порожка",null,5000,null,{"$f":"SUM(Table[[#This Row],[Наличн]:[Безнал]])-SUM(Table[[#This Row],[Наличн]:[Безнал]])*Table[[#This Row],[Скидка]]","v":5000},44477,{"$f":"DAY(Table[[#This Row],[Дата визита]])","v":8},{"$f":"MONTH(Table[[#This Row],[Дата визита]])","v":"1900-01-10"},{"$f":"YEAR(Table[[#This Row],[Дата визита]])","v":2021},{"$f":"WEEKNUM(Table[[#This Row],[Дата визита]])","v":41},"10:00:00","Ростов-на-Дону, пер. Университетский, д. 133","Белоусов В.","Клиент 699","mail@birdyx.ru","79008889900","Авито","Завершено","да",5]
[44478,{"$f":"DAY('База заказов'!$A701)","v":9},{"$f":"'База заказов'!$A701","v":"2021-10-09"},{"$f":"YEAR('База заказов'!$A701)","v":2021},"Петров В.","Поклейка обоев на потолки",40000,null,null,{"$f":"SUM(Table[[#This Row],[Наличн]:[Безнал]])-SUM(Table[[#This Row],[Наличн]:[Безнал]])*Table[[#This Row],[Скидка]]","v":40000},44478,{"$f":"DAY(Table[[#This Row],[Дата визита]])","v":9},{"$f":"MONTH(Table[[#This Row],[Дата визита]])","v":"1900-01-10"},{"$f":"YEAR(Table[[#This Row],[Дата визита]])","v":2021},{"$f":"WEEKNUM(Table[[#This Row],[Дата визита]])","v":41},"12:00:00","Ростов-на-Дону, пер. Соборный, д. 26","Субботин С.","Клиент 700","mail@birdyx.ru","79008889900","Сайт","Завершено","да",3]
[44479,{"$f":"DAY('База заказов'!$A702)","v":10},{"$f":"'База заказов'!$A702","v":"2021-10-10"},{"$f":"YEAR('База заказов'!$A702)","v":2021},"Петров В.","Выкройка и монтаж дополнительных углов",null,1000,null,{"$f":"SUM(Table[[#This Row],[Наличн]:[Безнал]])-SUM(Table[[#This Row],[Наличн]:[Безнал]])*Table[[#This Row],[Скидка]]","v":1000},44479,{"$f":"DAY(Table[[#This Row],[Дата визита]])","v":10},{"$f":"MONTH(Table[[#This Row],[Дата визита]])","v":"1900-01-10"},{"$f":"YEAR(Table[[#This Row],[Дата визита]])","v":2021},{"$f":"WEEKNUM(Table[[#This Row],[Дата визита]])","v":42},"16:00:00","Ростов-на-Дону, проспект Сиверса, д. 1","Устинов С.","Клиент 701","mail@birdyx.ru","79008889900","Инстаграм","Завершено","да",2]
[44480,{"$f":"DAY('База заказов'!$A703)","v":11},{"$f":"'База заказов'!$A703","v":"2021-10-11"},{"$f":"YEAR('База заказов'!$A703)","v":2021},"Гончарова Н.","Установка плинтуса ПВХ",10000,null,null,{"$f":"SUM(Table[[#This Row],[Наличн]:[Безнал]])-SUM(Table[[#This Row],[Наличн]:[Безнал]])*Table[[#This Row],[Скидка]]","v":10000},44480,{"$f":"DAY(Table[[#This Row],[Дата визита]])","v":11},{"$f":"MONTH(Table[[#This Row],[Дата визита]])","v":"1900-01-10"},{"$f":"YEAR(Table[[#This Row],[Дата визита]])","v":2021},{"$f":"WEEKNUM(Table[[#This Row],[Дата визита]])","v":42},"18:00:00","Ростов-на-Дону, ул. Большая Садовая, д. 105/42","Беспалов Г.","Клиент 702","mail@birdyx.ru","79008889900","Инстаграм","Завершено","да",4]
[44481,{"$f":"DAY('База заказов'!$A704)","v":12},{"$f":"'База заказов'!$A704","v":"2021-10-12"},{"$f":"YEAR('База заказов'!$A704)","v":2021},"Иванов И.","Монтаж реечных потолков",30000,null,null,{"$f":"SUM(Table[[#This Row],[Наличн]:[Безнал]])-SUM(Table[[#This Row],[Наличн]:[Безнал]])*Table[[#This Row],[Скидка]]","v":30000},44481,{"$f":"DAY(Table[[#This Row],[Дата визита]])","v":12},{"$f":"MONTH(Table[[#This Row],[Дата визита]])","v":"1900-01-10"},{"$f":"YEAR(Table[[#This Row],[Дата визита]])","v":2021},{"$f":"WEEKNUM(Table[[#This Row],[Дата визита]])","v":42},"10:00:00","Ростов-на-Дону, ул. Максима Горького, д. 149","Шарапов В.","Клиент 703","mail@birdyx.ru","79008889900","Инстаграм","Завершено","да",5]
[44482,{"$f":"DAY('База заказов'!$A705)","v":13},{"$f":"'База заказов'!$A705","v":"2021-10-13"},{"$f":"YEAR('База заказов'!$A705)","v":2021},"Мишин М.","Монтаж реечных потолков",56000,null,null,{"$f":"SUM(Table[[#This Row],[Наличн]:[Безнал]])-SUM(Table[[#This Row],[Наличн]:[Безнал]])*Table[[#This Row],[Скидка]]","v":56000},44482,{"$f":"DAY(Table[[#This Row],[Дата визита]])","v":13},{"$f":"MONTH(Table[[#This Row],[Дата визита]])","v":"1900-01-10"},{"$f":"YEAR(Table[[#This Row],[Дата визита]])","v":2021},{"$f":"WEEKNUM(Table[[#This Row],[Дата визита]])","v":42},"12:00:00","Ростов-на-Дону, проспект Буденновский, д. 97","Белоусов В.","Клиент 704","mail@birdyx.ru","79008889900","Сайт","Завершено","да",5]
[44483,{"$f":"DAY('База заказов'!$A706)","v":14},{"$f":"'База заказов'!$A706","v":"2021-10-14"},{"$f":"YEAR('База заказов'!$A706)","v":2021},"Мишин М.","Поклейка обоев на потолки",null,20000,null,{"$f":"SUM(Table[[#This Row],[Наличн]:[Безнал]])-SUM(Table[[#This Row],[Наличн]:[Безнал]])*Table[[#This Row],[Скидка]]","v":20000},44483,{"$f":"DAY(Table[[#This Row],[Дата визита]])","v":14},{"$f":"MONTH(Table[[#This Row],[Дата визита]])","v":"1900-01-10"},{"$f":"YEAR(Table[[#This Row],[Дата визита]])","v":2021},{"$f":"WEEKNUM(Table[[#This Row],[Дата визита]])","v":42},"16:00:00","Ростов-на-Дону, ул. Советская, д. 26/1","Шарапов В.","Клиент 705","mail@birdyx.ru","79008889900","Сайт","Завершено","да",5]
[44484,{"$f":"DAY('База заказов'!$A707)","v":15},{"$f":"'База заказов'!$A707","v":"2021-10-15"},{"$f":"YEAR('База заказов'!$A707)","v":2021},"Петров В.","Поклейка обоев на потолки",10000,null,null,{"$f":"SUM(Table[[#This Row],[Наличн]:[Безнал]])-SUM(Table[[#This Row],[Наличн]:[Безнал]])*Table[[#This Row],[Скидка]]","v":10000},44486,{"$f":"DAY(Table[[#This Row],[Дата визита]])","v":17},{"$f":"MONTH(Table[[#This Row],[Дата визита]])","v":"1900-01-10"},{"$f":"YEAR(Table[[#This Row],[Дата визита]])","v":2021},{"$f":"WEEKNUM(Table[[#This Row],[Дата визита]])","v":43},"18:00:00","Ростов-на-Дону, ул. Мечникова, д. 43","Белоусов В.","Клиент 706","mail@birdyx.ru","79008889900","Авито","Завершено","да",5]
[44485,{"$f":"DAY('База заказов'!$A708)","v":16},{"$f":"'База заказов'!$A708","v":"2021-10-16"},{"$f":"YEAR('База заказов'!$A708)","v":2021},"Петров В.","Укладка паркетной доски на клей",null,8000,null,{"$f":"SUM(Table[[#This Row],[Наличн]:[Безнал]])-SUM(Table[[#This Row],[Наличн]:[Безнал]])*Table[[#This Row],[Скидка]]","v":8000},44486,{"$f":"DAY(Table[[#This Row],[Дата визита]])","v":17},{"$f":"MONTH(Table[[#This Row],[Дата визита]])","v":"1900-01-10"},{"$f":"YEAR(Table[[#This Row],[Дата визита]])","v":2021},{"$f":"WEEKNUM(Table[[#This Row],[Дата визита]])","v":43},"10:00:00","Ростов-на-Дону, пер. Островского, д. 47","Беспалов Г.","Клиент 707","mail@birdyx.ru","79008889900","Сайт","Завершено","да",5]
[44486,{"$f":"DAY('База заказов'!$A709)","v":17},{"$f":"'База заказов'!$A709","v":"2021-10-17"},{"$f":"YEAR('База заказов'!$A709)","v":2021},"Гончарова Н.","Укладка паркетной доски на клей",null,9000,null,{"$f":"SUM(Table[[#This Row],[Наличн]:[Безнал]])-SUM(Table[[#This Row],[Наличн]:[Безнал]])*Table[[#This Row],[Скидка]]","v":9000},44486,{"$f":"DAY(Table[[#This Row],[Дата визита]])","v":17},{"$f":"MONTH(Table[[#This Row],[Дата визита]])","v":"1900-01-10"},{"$f":"YEAR(Table[[#This Row],[Дата визита]])","v":2021},{"$f":"WEEKNUM(Table[[#This Row],[Дата визита]])","v":43},"12:00:00","Ростов-на-Дону, ул. Пушкинская, д. 225","Минин В.","Клиент 708","mail@birdyx.ru","79008889900","Инстаграм","Завершено","да",5]
[44487,{"$f":"DAY('База заказов'!$A710)","v":18},{"$f":"'База заказов'!$A710","v":"2021-10-18"},{"$f":"YEAR('База заказов'!$A710)","v":2021},"Иванов И.","Укладка кварцвиниловой плитки на клей",null,9000,null,{"$f":"SUM(Table[[#This Row],[Наличн]:[Безнал]])-SUM(Table[[#This Row],[Наличн]:[Безнал]])*Table[[#This Row],[Скидка]]","v":9000},44487,{"$f":"DAY(Table[[#This Row],[Дата визита]])","v":18},{"$f":"MONTH(Table[[#This Row],[Дата визита]])","v":"1900-01-10"},{"$f":"YEAR(Table[[#This Row],[Дата визита]])","v":2021},{"$f":"WEEKNUM(Table[[#This Row],[Дата визита]])","v":43},"16:00:00","Ростов-На-Дону, ул. Ченцова, д. 57/81","Субботин С.","Клиент 709","mail@birdyx.ru","79008889900","Инстаграм","Завершено","да",4]
[44488,{"$f":"DAY('База заказов'!$A711)","v":19},{"$f":"'База заказов'!$A711","v":"2021-10-19"},{"$f":"YEAR('База заказов'!$A711)","v":2021},"Петров В.","Укладка массивной доски",20000,null,null,{"$f":"SUM(Table[[#This Row],[Наличн]:[Безнал]])-SUM(Table[[#This Row],[Наличн]:[Безнал]])*Table[[#This Row],[Скидка]]","v":20000},44488,{"$f":"DAY(Table[[#This Row],[Дата визита]])","v":19},{"$f":"MONTH(Table[[#This Row],[Дата визита]])","v":"1900-01-10"},{"$f":"YEAR(Table[[#This Row],[Дата визита]])","v":2021},{"$f":"WEEKNUM(Table[[#This Row],[Дата визита]])","v":43},"18:00:00","Ростов-на-Дону, ул. Текучева, д. 135","Субботин С.","Клиент 710","mail@birdyx.ru","79008889900","Инстаграм","Завершено","да",4]
[44489,{"$f":"DAY('База заказов'!$A712)","v":20},{"$f":"'База заказов'!$A712","v":"2021-10-20"},{"$f":"YEAR('База заказов'!$A712)","v":2021},"Мишин М.","Укладка линолеума на клей",null,27300,0.15,{"$f":"SUM(Table[[#This Row],[Наличн]:[Безнал]])-SUM(Table[[#This Row],[Наличн]:[Безнал]])*Table[[#This Row],[Скидка]]","v":23205},44489,{"$f":"DAY(Table[[#This Row],[Дата визита]])","v":20},{"$f":"MONTH(Table[[#This Row],[Дата визита]])","v":"1900-01-10"},{"$f":"YEAR(Table[[#This Row],[Дата визита]])","v":2021},{"$f":"WEEKNUM(Table[[#This Row],[Дата визита]])","v":43},"10:00:00","Ростов-на-Дону, пер. Газетный, д. 99","Белоусов В.","Клиент 711","mail@birdyx.ru","79008889900","Яндекс","Завершено","да",4]
[44490,{"$f":"DAY('База заказов'!$A713)","v":21},{"$f":"'База заказов'!$A713","v":"2021-10-21"},{"$f":"YEAR('База заказов'!$A713)","v":2021},"Петров В.","Демонтаж оконного блока",7600,"",0.15,{"$f":"SUM(Table[[#This Row],[Наличн]:[Безнал]])-SUM(Table[[#This Row],[Наличн]:[Безнал]])*Table[[#This Row],[Скидка]]","v":6460},44490,{"$f":"DAY(Table[[#This Row],[Дата визита]])","v":21},{"$f":"MONTH(Table[[#This Row],[Дата визита]])","v":"1900-01-10"},{"$f":"YEAR(Table[[#This Row],[Дата визита]])","v":2021},{"$f":"WEEKNUM(Table[[#This Row],[Дата визита]])","v":43},"12:00:00","Ростов-на-Дону, проспект Кировский, д. 90","Белозеров В.","Клиент 712","mail@birdyx.ru","79008889900","По совету","Завершено","да",4]
[44491,{"$f":"DAY('База заказов'!$A714)","v":22},{"$f":"'База заказов'!$A714","v":"2021-10-22"},{"$f":"YEAR('База заказов'!$A714)","v":2021},"Петров В.","Установка порожка",35100,"",0.15,{"$f":"SUM(Table[[#This Row],[Наличн]:[Безнал]])-SUM(Table[[#This Row],[Наличн]:[Безнал]])*Table[[#This Row],[Скидка]]","v":29835},44491,{"$f":"DAY(Table[[#This Row],[Дата визита]])","v":22},{"$f":"MONTH(Table[[#This Row],[Дата визита]])","v":"1900-01-10"},{"$f":"YEAR(Table[[#This Row],[Дата визита]])","v":2021},{"$f":"WEEKNUM(Table[[#This Row],[Дата визита]])","v":43},"16:00:00","Ростов-на-Дону, ул. 14 Линия, д. 14","Беспалов Г.","Клиент 713","mail@birdyx.ru","79008889900","Авито","Завершено","да",4]
[44492,{"$f":"DAY('База заказов'!$A715)","v":23},{"$f":"'База заказов'!$A715","v":"2021-10-23"},{"$f":"YEAR('База заказов'!$A715)","v":2021},"Иванов И.","Поклейка обоев на потолки",35100,"",0.15,{"$f":"SUM(Table[[#This Row],[Наличн]:[Безнал]])-SUM(Table[[#This Row],[Наличн]:[Безнал]])*Table[[#This Row],[Скидка]]","v":29835},44492,{"$f":"DAY(Table[[#This Row],[Дата визита]])","v":23},{"$f":"MONTH(Table[[#This Row],[Дата визита]])","v":"1900-01-10"},{"$f":"YEAR(Table[[#This Row],[Дата визита]])","v":2021},{"$f":"WEEKNUM(Table[[#This Row],[Дата визита]])","v":43},"18:00:00","Ростов-на-Дону, ул. Береговая, д. 30","Белозеров В.","Клиент 714","mail@birdyx.ru","79008889900","Авито","Завершено","да",4]
[44493,{"$f":"DAY('База заказов'!$A716)","v":24},{"$f":"'База заказов'!$A716","v":"2021-10-24"},{"$f":"YEAR('База заказов'!$A716)","v":2021},"Петров В.","Выкройка и монтаж дополнительных углов",25400,"",null,{"$f":"SUM(Table[[#This Row],[Наличн]:[Безнал]])-SUM(Table[[#This Row],[Наличн]:[Безнал]])*Table[[#This Row],[Скидка]]","v":25400},44493,{"$f":"DAY(Table[[#This Row],[Дата визита]])","v":24},{"$f":"MONTH(Table[[#This Row],[Дата визита]])","v":"1900-01-10"},{"$f":"YEAR(Table[[#This Row],[Дата визита]])","v":2021},{"$f":"WEEKNUM(Table[[#This Row],[Дата визита]])","v":44},"10:00:00","Ростов-на-Дону, ул. Большая Садовая, д. 77","Устинов С.","Клиент 715","mail@birdyx.ru","79008889900","Сайт","Завершено","да",4]
[44493,{"$f":"DAY('База заказов'!$A717)","v":24},{"$f":"'База заказов'!$A717","v":"2021-10-24"},{"$f":"YEAR('База заказов'!$A717)","v":2021},"Мишин М.","Установка плинтуса ПВХ",null,14200,null,{"$f":"SUM(Table[[#This Row],[Наличн]:[Безнал]])-SUM(Table[[#This Row],[Наличн]:[Безнал]])*Table[[#This Row],[Скидка]]","v":14200},44493,{"$f":"DAY(Table[[#This Row],[Дата визита]])","v":24},{"$f":"MONTH(Table[[#This Row],[Дата визита]])","v":"1900-01-10"},{"$f":"YEAR(Table[[#This Row],[Дата визита]])","v":2021},{"$f":"WEEKNUM(Table[[#This Row],[Дата визита]])","v":44},"12:00:00","Ростов-на-Дону, ул. 6-я линия, д. 4","Минин В.","Клиент 716","mail@birdyx.ru","79008889900","Сайт","Завершено","да",4]
[44495,{"$f":"DAY('База заказов'!$A718)","v":26},{"$f":"'База заказов'!$A718","v":"2021-10-26"},{"$f":"YEAR('База заказов'!$A718)","v":2021},"Петров В.","Монтаж реечных потолков",20900,null,null,{"$f":"SUM(Table[[#This Row],[Наличн]:[Безнал]])-SUM(Table[[#This Row],[Наличн]:[Безнал]])*Table[[#This Row],[Скидка]]","v":20900},44495,{"$f":"DAY(Table[[#This Row],[Дата визита]])","v":26},{"$f":"MONTH(Table[[#This Row],[Дата визита]])","v":"1900-01-10"},{"$f":"YEAR(Table[[#This Row],[Дата визита]])","v":2021},{"$f":"WEEKNUM(Table[[#This Row],[Дата визита]])","v":44},"16:00:00","Ростов-на-Дону, ул. Гагринская, д. 46","Субботин С.","Клиент 717","mail@birdyx.ru","79008889900","Инстаграм","Завершено","да",4]
[44496,{"$f":"DAY('База заказов'!$A719)","v":27},{"$f":"'База заказов'!$A719","v":"2021-10-27"},{"$f":"YEAR('База заказов'!$A719)","v":2021},"Петров В.","Монтаж реечных потолков",245000,null,null,{"$f":"SUM(Table[[#This Row],[Наличн]:[Безнал]])-SUM(Table[[#This Row],[Наличн]:[Безнал]])*Table[[#This Row],[Скидка]]","v":245000},44496,{"$f":"DAY(Table[[#This Row],[Дата визита]])","v":27},{"$f":"MONTH(Table[[#This Row],[Дата визита]])","v":"1900-01-10"},{"$f":"YEAR(Table[[#This Row],[Дата визита]])","v":2021},{"$f":"WEEKNUM(Table[[#This Row],[Дата визита]])","v":44},"18:00:00","Ростов-на-Дону, ул. Вятская, д. 37/1","Субботин С.","Клиент 718","mail@birdyx.ru","79008889900","Инстаграм","Завершено","да",4]
[44497,{"$f":"DAY('База заказов'!$A720)","v":28},{"$f":"'База заказов'!$A720","v":"2021-10-28"},{"$f":"YEAR('База заказов'!$A720)","v":2021},"Иванов И.","Поклейка обоев на потолки",90000,null,null,{"$f":"SUM(Table[[#This Row],[Наличн]:[Безнал]])-SUM(Table[[#This Row],[Наличн]:[Безнал]])*Table[[#This Row],[Скидка]]","v":90000},44497,{"$f":"DAY(Table[[#This Row],[Дата визита]])","v":28},{"$f":"MONTH(Table[[#This Row],[Дата визита]])","v":"1900-01-10"},{"$f":"YEAR(Table[[#This Row],[Дата визита]])","v":2021},{"$f":"WEEKNUM(Table[[#This Row],[Дата визита]])","v":44},"10:00:00","Ростов-на-Дону, ул. Станиславского, д. 58","Белоусов В.","Клиент 719","mail@birdyx.ru","79008889900","Инстаграм","Завершено","да",4]
[44498,{"$f":"DAY('База заказов'!$A721)","v":29},{"$f":"'База заказов'!$A721","v":"2021-10-29"},{"$f":"YEAR('База заказов'!$A721)","v":2021},"Петров В.","Поклейка обоев на потолки",null,8900,null,{"$f":"SUM(Table[[#This Row],[Наличн]:[Безнал]])-SUM(Table[[#This Row],[Наличн]:[Безнал]])*Table[[#This Row],[Скидка]]","v":8900},44498,{"$f":"DAY(Table[[#This Row],[Дата визита]])","v":29},{"$f":"MONTH(Table[[#This Row],[Дата визита]])","v":"1900-01-10"},{"$f":"YEAR(Table[[#This Row],[Дата визита]])","v":2021},{"$f":"WEEKNUM(Table[[#This Row],[Дата визита]])","v":44},"12:00:00","Ростов-на-Дону, пер. Нефтяной, д. 4 А","Белозеров В.","Клиент 720","mail@birdyx.ru","79008889900","Сайт","Завершено","да",4]
[44499,{"$f":"DAY('База заказов'!$A722)","v":30},{"$f":"'База заказов'!$A722","v":"2021-10-30"},{"$f":"YEAR('База заказов'!$A722)","v":2021},"Мишин М.","Укладка паркетной доски на клей",null,7000,null,{"$f":"SUM(Table[[#This Row],[Наличн]:[Безнал]])-SUM(Table[[#This Row],[Наличн]:[Безнал]])*Table[[#This Row],[Скидка]]","v":7000},44499,{"$f":"DAY(Table[[#This Row],[Дата визита]])","v":30},{"$f":"MONTH(Table[[#This Row],[Дата визита]])","v":"1900-01-10"},{"$f":"YEAR(Table[[#This Row],[Дата визита]])","v":2021},{"$f":"WEEKNUM(Table[[#This Row],[Дата визита]])","v":44},"16:00:00","Ростов-на-Дону, ул. Станиславского, д. 167/25","Беспалов Г.","Клиент 721","mail@birdyx.ru","79008889900","Сайт","Завершено","да",5]
[44500,{"$f":"DAY('База заказов'!$A723)","v":31},{"$f":"'База заказов'!$A723","v":"2021-10-31"},{"$f":"YEAR('База заказов'!$A723)","v":2021},"Петров В.","Укладка паркетной доски на клей",null,50000,null,{"$f":"SUM(Table[[#This Row],[Наличн]:[Безнал]])-SUM(Table[[#This Row],[Наличн]:[Безнал]])*Table[[#This Row],[Скидка]]","v":50000},44500,{"$f":"DAY(Table[[#This Row],[Дата визита]])","v":31},{"$f":"MONTH(Table[[#This Row],[Дата визита]])","v":"1900-01-10"},{"$f":"YEAR(Table[[#This Row],[Дата визита]])","v":2021},{"$f":"WEEKNUM(Table[[#This Row],[Дата визита]])","v":45},"18:00:00","Ростов-на-Дону, проспект Соколова, д. 85","Белозеров В.","Клиент 722","mail@birdyx.ru","79008889900","Авито","Завершено","да",4]
[44501,{"$f":"DAY('База заказов'!$A724)","v":1},{"$f":"'База заказов'!$A724","v":"2021-11-01"},{"$f":"YEAR('База заказов'!$A724)","v":2021},"Петров В.","Укладка кварцвиниловой плитки на клей",2000,null,null,{"$f":"SUM(Table[[#This Row],[Наличн]:[Безнал]])-SUM(Table[[#This Row],[Наличн]:[Безнал]])*Table[[#This Row],[Скидка]]","v":2000},44501,{"$f":"DAY(Table[[#This Row],[Дата визита]])","v":1},{"$f":"MONTH(Table[[#This Row],[Дата визита]])","v":"1900-01-11"},{"$f":"YEAR(Table[[#This Row],[Дата визита]])","v":2021},{"$f":"WEEKNUM(Table[[#This Row],[Дата визита]])","v":45},"10:00:00","Ростов-на-Дону, ул. Московская, д. 80","Устинов С.","Клиент 723","mail@birdyx.ru","79008889900","Сайт","Отмена","да",4]
[44502,{"$f":"DAY('База заказов'!$A725)","v":2},{"$f":"'База заказов'!$A725","v":"2021-11-02"},{"$f":"YEAR('База заказов'!$A725)","v":2021},"Иванов И.","Укладка массивной доски",null,5000,null,{"$f":"SUM(Table[[#This Row],[Наличн]:[Безнал]])-SUM(Table[[#This Row],[Наличн]:[Безнал]])*Table[[#This Row],[Скидка]]","v":5000},44502,{"$f":"DAY(Table[[#This Row],[Дата визита]])","v":2},{"$f":"MONTH(Table[[#This Row],[Дата визита]])","v":"1900-01-11"},{"$f":"YEAR(Table[[#This Row],[Дата визита]])","v":2021},{"$f":"WEEKNUM(Table[[#This Row],[Дата визита]])","v":45},"12:00:00","Ростов-на-Дону, ул. Текучева, д. 151/2","Минин В.","Клиент 724","mail@birdyx.ru","79008889900","По совету","Завершено","да",4]
[44503,{"$f":"DAY('База заказов'!$A726)","v":3},{"$f":"'База заказов'!$A726","v":"2021-11-03"},{"$f":"YEAR('База заказов'!$A726)","v":2021},"Петров В.","Укладка линолеума на клей",40000,null,null,{"$f":"SUM(Table[[#This Row],[Наличн]:[Безнал]])-SUM(Table[[#This Row],[Наличн]:[Безнал]])*Table[[#This Row],[Скидка]]","v":40000},44503,{"$f":"DAY(Table[[#This Row],[Дата визита]])","v":3},{"$f":"MONTH(Table[[#This Row],[Дата визита]])","v":"1900-01-11"},{"$f":"YEAR(Table[[#This Row],[Дата визита]])","v":2021},{"$f":"WEEKNUM(Table[[#This Row],[Дата визита]])","v":45},"16:00:00","Ростов-На-Дону, ул. Тургеневская, д. 73","Субботин С.","Клиент 725","mail@birdyx.ru","79008889900","Яндекс","Завершено","да",4]
[44504,{"$f":"DAY('База заказов'!$A727)","v":4},{"$f":"'База заказов'!$A727","v":"2021-11-04"},{"$f":"YEAR('База заказов'!$A727)","v":2021},"Мишин М.","Демонтаж оконного блока",null,1000,0.15,{"$f":"SUM(Table[[#This Row],[Наличн]:[Безнал]])-SUM(Table[[#This Row],[Наличн]:[Безнал]])*Table[[#This Row],[Скидка]]","v":850},44504,{"$f":"DAY(Table[[#This Row],[Дата визита]])","v":4},{"$f":"MONTH(Table[[#This Row],[Дата визита]])","v":"1900-01-11"},{"$f":"YEAR(Table[[#This Row],[Дата визита]])","v":2021},{"$f":"WEEKNUM(Table[[#This Row],[Дата визита]])","v":45},"18:00:00","Ростов-на-Дону, бульвар Комарова, д. 20/1","Белоусов В.","Клиент 726","mail@birdyx.ru","79008889900","Инстаграм","Завершено","да",5]
[44505,{"$f":"DAY('База заказов'!$A728)","v":5},{"$f":"'База заказов'!$A728","v":"2021-11-05"},{"$f":"YEAR('База заказов'!$A728)","v":2021},"Мишин М.","Установка порожка",10000,null,null,{"$f":"SUM(Table[[#This Row],[Наличн]:[Безнал]])-SUM(Table[[#This Row],[Наличн]:[Безнал]])*Table[[#This Row],[Скидка]]","v":10000},44505,{"$f":"DAY(Table[[#This Row],[Дата визита]])","v":5},{"$f":"MONTH(Table[[#This Row],[Дата визита]])","v":"1900-01-11"},{"$f":"YEAR(Table[[#This Row],[Дата визита]])","v":2021},{"$f":"WEEKNUM(Table[[#This Row],[Дата визита]])","v":45},"09:00:00","Ростов-на-Дону, ул. Пушкинская, д. 225/41/224","Белозеров В.","Клиент 727","mail@birdyx.ru","79008889900","Яндекс","Завершено","да",5]
[44506,{"$f":"DAY('База заказов'!$A729)","v":6},{"$f":"'База заказов'!$A729","v":"2021-11-06"},{"$f":"YEAR('База заказов'!$A729)","v":2021},"Иванов И.","Поклейка обоев на потолки",30000,null,null,{"$f":"SUM(Table[[#This Row],[Наличн]:[Безнал]])-SUM(Table[[#This Row],[Наличн]:[Безнал]])*Table[[#This Row],[Скидка]]","v":30000},44506,{"$f":"DAY(Table[[#This Row],[Дата визита]])","v":6},{"$f":"MONTH(Table[[#This Row],[Дата визита]])","v":"1900-01-11"},{"$f":"YEAR(Table[[#This Row],[Дата визита]])","v":2021},{"$f":"WEEKNUM(Table[[#This Row],[Дата визита]])","v":45},"11:00:00","Ростов-На-Дону, ул. Пушкинская, д. 1/36","Беспалов Г.","Клиент 728","mail@birdyx.ru","79008889900","Сайт","Завершено","да",3]
[44507,{"$f":"DAY('База заказов'!$A730)","v":7},{"$f":"'База заказов'!$A730","v":"2021-11-07"},{"$f":"YEAR('База заказов'!$A730)","v":2021},"Петров В.","Выкройка и монтаж дополнительных углов",56000,null,null,{"$f":"SUM(Table[[#This Row],[Наличн]:[Безнал]])-SUM(Table[[#This Row],[Наличн]:[Безнал]])*Table[[#This Row],[Скидка]]","v":56000},44507,{"$f":"DAY(Table[[#This Row],[Дата визита]])","v":7},{"$f":"MONTH(Table[[#This Row],[Дата визита]])","v":"1900-01-11"},{"$f":"YEAR(Table[[#This Row],[Дата визита]])","v":2021},{"$f":"WEEKNUM(Table[[#This Row],[Дата визита]])","v":46},"15:00:00","Ростов-на-Дону, пер. Газетный, д. 92/85","Белозеров В.","Клиент 729","mail@birdyx.ru","79008889900","Инстаграм","Завершено","да",4]
[44508,{"$f":"DAY('База заказов'!$A731)","v":8},{"$f":"'База заказов'!$A731","v":"2021-11-08"},{"$f":"YEAR('База заказов'!$A731)","v":2021},"Гончарова Н.","Установка плинтуса ПВХ",null,20000,null,{"$f":"SUM(Table[[#This Row],[Наличн]:[Безнал]])-SUM(Table[[#This Row],[Наличн]:[Безнал]])*Table[[#This Row],[Скидка]]","v":20000},44508,{"$f":"DAY(Table[[#This Row],[Дата визита]])","v":8},{"$f":"MONTH(Table[[#This Row],[Дата визита]])","v":"1900-01-11"},{"$f":"YEAR(Table[[#This Row],[Дата визита]])","v":2021},{"$f":"WEEKNUM(Table[[#This Row],[Дата визита]])","v":46},"17:00:00","Ростов-на-Дону, проспект Буденновский, д. 106/2","Устинов С.","Клиент 730","mail@birdyx.ru","79008889900","Инстаграм","Завершено","да",4]
[44509,{"$f":"DAY('База заказов'!$A732)","v":9},{"$f":"'База заказов'!$A732","v":"2021-11-09"},{"$f":"YEAR('База заказов'!$A732)","v":2021},"Гончарова Н.","Монтаж реечных потолков",10000,null,null,{"$f":"SUM(Table[[#This Row],[Наличн]:[Безнал]])-SUM(Table[[#This Row],[Наличн]:[Безнал]])*Table[[#This Row],[Скидка]]","v":10000},44509,{"$f":"DAY(Table[[#This Row],[Дата визита]])","v":9},{"$f":"MONTH(Table[[#This Row],[Дата визита]])","v":"1900-01-11"},{"$f":"YEAR(Table[[#This Row],[Дата визита]])","v":2021},{"$f":"WEEKNUM(Table[[#This Row],[Дата визита]])","v":46},"09:00:00","Ростов-на-Дону, ул. Пушкинская, д. 104/32","Белозеров В.","Клиент 731","mail@birdyx.ru","79008889900","Сайт","Завершено","да",5]
[44510,{"$f":"DAY('База заказов'!$A733)","v":10},{"$f":"'База заказов'!$A733","v":"2021-11-10"},{"$f":"YEAR('База заказов'!$A733)","v":2021},"Мишин М.","Монтаж реечных потолков",null,8000,null,{"$f":"SUM(Table[[#This Row],[Наличн]:[Безнал]])-SUM(Table[[#This Row],[Наличн]:[Безнал]])*Table[[#This Row],[Скидка]]","v":8000},44510,{"$f":"DAY(Table[[#This Row],[Дата визита]])","v":10},{"$f":"MONTH(Table[[#This Row],[Дата визита]])","v":"1900-01-11"},{"$f":"YEAR(Table[[#This Row],[Дата визита]])","v":2021},{"$f":"WEEKNUM(Table[[#This Row],[Дата визита]])","v":46},"11:00:00","Ростов-на-Дону, ул. Республиканская, д. 1/8","Минин В.","Клиент 732","mail@birdyx.ru","79008889900","Инстаграм","Завершено","да",3]
[44511,{"$f":"DAY('База заказов'!$A734)","v":11},{"$f":"'База заказов'!$A734","v":"2021-11-11"},{"$f":"YEAR('База заказов'!$A734)","v":2021},"Иванов И.","Поклейка обоев на потолки",null,9000,null,{"$f":"SUM(Table[[#This Row],[Наличн]:[Безнал]])-SUM(Table[[#This Row],[Наличн]:[Безнал]])*Table[[#This Row],[Скидка]]","v":9000},44511,{"$f":"DAY(Table[[#This Row],[Дата визита]])","v":11},{"$f":"MONTH(Table[[#This Row],[Дата визита]])","v":"1900-01-11"},{"$f":"YEAR(Table[[#This Row],[Дата визита]])","v":2021},{"$f":"WEEKNUM(Table[[#This Row],[Дата визита]])","v":46},"15:00:00","Ростов-на-Дону, ул. Красноармейская, д. 33","Шарапов В.","Клиент 733","mail@birdyx.ru","79008889900","Инстаграм","Завершено","да",2]
[44512,{"$f":"DAY('База заказов'!$A735)","v":12},{"$f":"'База заказов'!$A735","v":"2021-11-12"},{"$f":"YEAR('База заказов'!$A735)","v":2021},"Петров В.","Поклейка обоев на потолки",null,9000,0.15,{"$f":"SUM(Table[[#This Row],[Наличн]:[Безнал]])-SUM(Table[[#This Row],[Наличн]:[Безнал]])*Table[[#This Row],[Скидка]]","v":7650},44512,{"$f":"DAY(Table[[#This Row],[Дата визита]])","v":12},{"$f":"MONTH(Table[[#This Row],[Дата визита]])","v":"1900-01-11"},{"$f":"YEAR(Table[[#This Row],[Дата визита]])","v":2021},{"$f":"WEEKNUM(Table[[#This Row],[Дата визита]])","v":46},"17:00:00","Ростов-на-Дону, ул. Максима Горького, д. 11/43","Шарапов В.","Клиент 734","mail@birdyx.ru","79008889900","Инстаграм","Завершено","да",4]
[44513,{"$f":"DAY('База заказов'!$A736)","v":13},{"$f":"'База заказов'!$A736","v":"2021-11-13"},{"$f":"YEAR('База заказов'!$A736)","v":2021},"Гончарова Н.","Укладка паркетной доски на клей",20000,null,null,{"$f":"SUM(Table[[#This Row],[Наличн]:[Безнал]])-SUM(Table[[#This Row],[Наличн]:[Безнал]])*Table[[#This Row],[Скидка]]","v":20000},44513,{"$f":"DAY(Table[[#This Row],[Дата визита]])","v":13},{"$f":"MONTH(Table[[#This Row],[Дата визита]])","v":"1900-01-11"},{"$f":"YEAR(Table[[#This Row],[Дата визита]])","v":2021},{"$f":"WEEKNUM(Table[[#This Row],[Дата визита]])","v":46},"09:00:00","Ростов-на-Дону, ул. Алма-Атинская, д. 29/2 А","Шарапов В.","Клиент 735","mail@birdyx.ru","79008889900","Яндекс","Завершено","да",5]
[44514,{"$f":"DAY('База заказов'!$A737)","v":14},{"$f":"'База заказов'!$A737","v":"2021-11-14"},{"$f":"YEAR('База заказов'!$A737)","v":2021},"Гончарова Н.","Укладка паркетной доски на клей",null,27300,null,{"$f":"SUM(Table[[#This Row],[Наличн]:[Безнал]])-SUM(Table[[#This Row],[Наличн]:[Безнал]])*Table[[#This Row],[Скидка]]","v":27300},44514,{"$f":"DAY(Table[[#This Row],[Дата визита]])","v":14},{"$f":"MONTH(Table[[#This Row],[Дата визита]])","v":"1900-01-11"},{"$f":"YEAR(Table[[#This Row],[Дата визита]])","v":2021},{"$f":"WEEKNUM(Table[[#This Row],[Дата визита]])","v":47},"11:00:00","Ростов-на-Дону, ул. Малиновского, д. 68/1","Минин В.","Клиент 736","mail@birdyx.ru","79008889900","По совету","Завершено","да",5]
[44515,{"$f":"DAY('База заказов'!$A738)","v":15},{"$f":"'База заказов'!$A738","v":"2021-11-15"},{"$f":"YEAR('База заказов'!$A738)","v":2021},"Иванов И.","Укладка кварцвиниловой плитки на клей",7600,"",null,{"$f":"SUM(Table[[#This Row],[Наличн]:[Безнал]])-SUM(Table[[#This Row],[Наличн]:[Безнал]])*Table[[#This Row],[Скидка]]","v":7600},44515,{"$f":"DAY(Table[[#This Row],[Дата визита]])","v":15},{"$f":"MONTH(Table[[#This Row],[Дата визита]])","v":"1900-01-11"},{"$f":"YEAR(Table[[#This Row],[Дата визита]])","v":2021},{"$f":"WEEKNUM(Table[[#This Row],[Дата визита]])","v":47},"15:00:00","Ростов-на-Дону, ул. Береговая, д. 5","Белоусов В.","Клиент 737","mail@birdyx.ru","79008889900","Авито","Завершено","да",5]
[44516,{"$f":"DAY('База заказов'!$A739)","v":16},{"$f":"'База заказов'!$A739","v":"2021-11-16"},{"$f":"YEAR('База заказов'!$A739)","v":2021},"Мишин М.","Укладка массивной доски",35100,"",null,{"$f":"SUM(Table[[#This Row],[Наличн]:[Безнал]])-SUM(Table[[#This Row],[Наличн]:[Безнал]])*Table[[#This Row],[Скидка]]","v":35100},44516,{"$f":"DAY(Table[[#This Row],[Дата визита]])","v":16},{"$f":"MONTH(Table[[#This Row],[Дата визита]])","v":"1900-01-11"},{"$f":"YEAR(Table[[#This Row],[Дата визита]])","v":2021},{"$f":"WEEKNUM(Table[[#This Row],[Дата визита]])","v":47},"17:00:00","Ростов-на-Дону, пл. Гагарина, д. 1","Субботин С.","Клиент 738","mail@birdyx.ru","79008889900","Авито","Завершено","да",5]
[44516,{"$f":"DAY('База заказов'!$A740)","v":16},{"$f":"'База заказов'!$A740","v":"2021-11-16"},{"$f":"YEAR('База заказов'!$A740)","v":2021},"Мишин М.","Укладка линолеума на клей",35100,"",0.15,{"$f":"SUM(Table[[#This Row],[Наличн]:[Безнал]])-SUM(Table[[#This Row],[Наличн]:[Безнал]])*Table[[#This Row],[Скидка]]","v":29835},44516,{"$f":"DAY(Table[[#This Row],[Дата визита]])","v":16},{"$f":"MONTH(Table[[#This Row],[Дата визита]])","v":"1900-01-11"},{"$f":"YEAR(Table[[#This Row],[Дата визита]])","v":2021},{"$f":"WEEKNUM(Table[[#This Row],[Дата визита]])","v":47},"09:00:00","Ростов-на-Дону, ул. Механизаторов, д. 6А","Устинов С.","Клиент 739","mail@birdyx.ru","79008889900","Сайт","Завершено","да",5]
[44518,{"$f":"DAY('База заказов'!$A741)","v":18},{"$f":"'База заказов'!$A741","v":"2021-11-18"},{"$f":"YEAR('База заказов'!$A741)","v":2021},"Петров В.","Демонтаж оконного блока",25400,"",null,{"$f":"SUM(Table[[#This Row],[Наличн]:[Безнал]])-SUM(Table[[#This Row],[Наличн]:[Безнал]])*Table[[#This Row],[Скидка]]","v":25400},44518,{"$f":"DAY(Table[[#This Row],[Дата визита]])","v":18},{"$f":"MONTH(Table[[#This Row],[Дата визита]])","v":"1900-01-11"},{"$f":"YEAR(Table[[#This Row],[Дата визита]])","v":2021},{"$f":"WEEKNUM(Table[[#This Row],[Дата визита]])","v":47},"11:00:00","Ростов-На-Дону, проспект Буденновский, д. 3/3","Субботин С.","Клиент 740","mail@birdyx.ru","79008889900","Сайт","Завершено","да",5]
[44519,{"$f":"DAY('База заказов'!$A742)","v":19},{"$f":"'База заказов'!$A742","v":"2021-11-19"},{"$f":"YEAR('База заказов'!$A742)","v":2021},"Петров В.","Установка порожка",null,14200,null,{"$f":"SUM(Table[[#This Row],[Наличн]:[Безнал]])-SUM(Table[[#This Row],[Наличн]:[Безнал]])*Table[[#This Row],[Скидка]]","v":14200},44519,{"$f":"DAY(Table[[#This Row],[Дата визита]])","v":19},{"$f":"MONTH(Table[[#This Row],[Дата визита]])","v":"1900-01-11"},{"$f":"YEAR(Table[[#This Row],[Дата визита]])","v":2021},{"$f":"WEEKNUM(Table[[#This Row],[Дата визита]])","v":47},"15:00:00","Ростов-на-Дону, ул. Обороны, д. 40/17","Белоусов В.","Клиент 741","mail@birdyx.ru","79008889900","Сайт","Завершено","да",4]
[44520,{"$f":"DAY('База заказов'!$A743)","v":20},{"$f":"'База заказов'!$A743","v":"2021-11-20"},{"$f":"YEAR('База заказов'!$A743)","v":2021},"Гончарова Н.","Поклейка обоев на потолки",20900,null,null,{"$f":"SUM(Table[[#This Row],[Наличн]:[Безнал]])-SUM(Table[[#This Row],[Наличн]:[Безнал]])*Table[[#This Row],[Скидка]]","v":20900},44520,{"$f":"DAY(Table[[#This Row],[Дата визита]])","v":20},{"$f":"MONTH(Table[[#This Row],[Дата визита]])","v":"1900-01-11"},{"$f":"YEAR(Table[[#This Row],[Дата визита]])","v":2021},{"$f":"WEEKNUM(Table[[#This Row],[Дата визита]])","v":47},"17:00:00","Ростов-на-Дону, ул. Судостроительная, д. 55","Белозеров В.","Клиент 742","mail@birdyx.ru","79008889900","Инстаграм","Завершено","да",4]
[44521,{"$f":"DAY('База заказов'!$A744)","v":21},{"$f":"'База заказов'!$A744","v":"2021-11-21"},{"$f":"YEAR('База заказов'!$A744)","v":2021},"Иванов И.","Выкройка и монтаж дополнительных углов",31900,null,null,{"$f":"SUM(Table[[#This Row],[Наличн]:[Безнал]])-SUM(Table[[#This Row],[Наличн]:[Безнал]])*Table[[#This Row],[Скидка]]","v":31900},44541,{"$f":"DAY(Table[[#This Row],[Дата визита]])","v":11},{"$f":"MONTH(Table[[#This Row],[Дата визита]])","v":"1900-01-12"},{"$f":"YEAR(Table[[#This Row],[Дата визита]])","v":2021},{"$f":"WEEKNUM(Table[[#This Row],[Дата визита]])","v":50},"10:00:00","Ростов-На-Дону, пер. Семашко, д. 46/1","Беспалов Г.","Клиент 743","mail@birdyx.ru","79008889900","Сайт","В работе"]
[44522,{"$f":"DAY('База заказов'!$A745)","v":22},{"$f":"'База заказов'!$A745","v":"2021-11-22"},{"$f":"YEAR('База заказов'!$A745)","v":2021},"Мишин М.","Установка плинтуса ПВХ",90000,null,null,{"$f":"SUM(Table[[#This Row],[Наличн]:[Безнал]])-SUM(Table[[#This Row],[Наличн]:[Безнал]])*Table[[#This Row],[Скидка]]","v":90000},44541,{"$f":"DAY(Table[[#This Row],[Дата визита]])","v":11},{"$f":"MONTH(Table[[#This Row],[Дата визита]])","v":"1900-01-12"},{"$f":"YEAR(Table[[#This Row],[Дата визита]])","v":2021},{"$f":"WEEKNUM(Table[[#This Row],[Дата визита]])","v":50},"12:00:00","Ростов-на-Дону, проспект Соколова, д. 11/Б","Белозеров В.","Клиент 744","mail@birdyx.ru","79008889900","По совету","В работе"]
[44523,{"$f":"DAY('База заказов'!$A746)","v":23},{"$f":"'База заказов'!$A746","v":"2021-11-23"},{"$f":"YEAR('База заказов'!$A746)","v":2021},"Мишин М.","Монтаж реечных потолков",null,8900,null,{"$f":"SUM(Table[[#This Row],[Наличн]:[Безнал]])-SUM(Table[[#This Row],[Наличн]:[Безнал]])*Table[[#This Row],[Скидка]]","v":8900},44541,{"$f":"DAY(Table[[#This Row],[Дата визита]])","v":11},{"$f":"MONTH(Table[[#This Row],[Дата визита]])","v":"1900-01-12"},{"$f":"YEAR(Table[[#This Row],[Дата визита]])","v":2021},{"$f":"WEEKNUM(Table[[#This Row],[Дата визита]])","v":50},"16:00:00","Ростов-на-Дону, ул. Ларина, д. 41/19","Устинов С.","Клиент 745","mail@birdyx.ru","79008889900","Яндекс","В работе"]
[44524,{"$f":"DAY('База заказов'!$A747)","v":24},{"$f":"'База заказов'!$A747","v":"2021-11-24"},{"$f":"YEAR('База заказов'!$A747)","v":2021},"Петров В.","Монтаж реечных потолков",null,7000,null,{"$f":"SUM(Table[[#This Row],[Наличн]:[Безнал]])-SUM(Table[[#This Row],[Наличн]:[Безнал]])*Table[[#This Row],[Скидка]]","v":7000},44541,{"$f":"DAY(Table[[#This Row],[Дата визита]])","v":11},{"$f":"MONTH(Table[[#This Row],[Дата визита]])","v":"1900-01-12"},{"$f":"YEAR(Table[[#This Row],[Дата визита]])","v":2021},{"$f":"WEEKNUM(Table[[#This Row],[Дата визита]])","v":50},"18:00:00","Ростов-на-Дону, проспект Коммунистический, д. 20/4","Минин В.","Клиент 746","mail@birdyx.ru","79008889900","Инстаграм","В работе"]
[44525,{"$f":"DAY('База заказов'!$A748)","v":25},{"$f":"'База заказов'!$A748","v":"2021-11-25"},{"$f":"YEAR('База заказов'!$A748)","v":2021},"Петров В.","Поклейка обоев на потолки",null,50000,null,{"$f":"SUM(Table[[#This Row],[Наличн]:[Безнал]])-SUM(Table[[#This Row],[Наличн]:[Безнал]])*Table[[#This Row],[Скидка]]","v":50000},44541,{"$f":"DAY(Table[[#This Row],[Дата визита]])","v":11},{"$f":"MONTH(Table[[#This Row],[Дата визита]])","v":"1900-01-12"},{"$f":"YEAR(Table[[#This Row],[Дата визита]])","v":2021},{"$f":"WEEKNUM(Table[[#This Row],[Дата визита]])","v":50},"10:00:00","Ростов-на-Дону, ул. Цезаря Куникова, д. 32/А","Шарапов В.","Клиент 747","mail@birdyx.ru","79008889900","Яндекс","В работе"]
[44526,{"$f":"DAY('База заказов'!$A749)","v":26},{"$f":"'База заказов'!$A749","v":"2021-11-26"},{"$f":"YEAR('База заказов'!$A749)","v":2021},"Гончарова Н.","Поклейка обоев на потолки",2000,null,null,{"$f":"SUM(Table[[#This Row],[Наличн]:[Безнал]])-SUM(Table[[#This Row],[Наличн]:[Безнал]])*Table[[#This Row],[Скидка]]","v":2000},44542,{"$f":"DAY(Table[[#This Row],[Дата визита]])","v":12},{"$f":"MONTH(Table[[#This Row],[Дата визита]])","v":"1900-01-12"},{"$f":"YEAR(Table[[#This Row],[Дата визита]])","v":2021},{"$f":"WEEKNUM(Table[[#This Row],[Дата визита]])","v":51},"12:00:00","Ростов-на-Дону, ул. Красноармейская, д. 21","Шарапов В.","Клиент 748","mail@birdyx.ru","79008889900","Сайт","В работе"]
[44529,{"$f":"DAY('База заказов'!$A750)","v":29},{"$f":"'База заказов'!$A750","v":"2021-11-29"},{"$f":"YEAR('База заказов'!$A750)","v":2021},"Иванов И.","Укладка паркетной доски на клей",null,5000,null,{"$f":"SUM(Table[[#This Row],[Наличн]:[Безнал]])-SUM(Table[[#This Row],[Наличн]:[Безнал]])*Table[[#This Row],[Скидка]]","v":5000},44542,{"$f":"DAY(Table[[#This Row],[Дата визита]])","v":12},{"$f":"MONTH(Table[[#This Row],[Дата визита]])","v":"1900-01-12"},{"$f":"YEAR(Table[[#This Row],[Дата визита]])","v":2021},{"$f":"WEEKNUM(Table[[#This Row],[Дата визита]])","v":51},"16:00:00","Ростов-на-Дону, проспект 40-летия Победы, д. 95/3","Шарапов В.","Клиент 749","mail@birdyx.ru","79008889900","Инстаграм","В работе"]
[44531,{"$f":"DAY('База заказов'!$A751)","v":1},{"$f":"'База заказов'!$A751","v":"2021-12-01"},{"$f":"YEAR('База заказов'!$A751)","v":2021},"Мишин М.","Укладка паркетной доски на клей",40000,null,null,{"$f":"SUM(Table[[#This Row],[Наличн]:[Безнал]])-SUM(Table[[#This Row],[Наличн]:[Безнал]])*Table[[#This Row],[Скидка]]","v":40000},44542,{"$f":"DAY(Table[[#This Row],[Дата визита]])","v":12},{"$f":"MONTH(Table[[#This Row],[Дата визита]])","v":"1900-01-12"},{"$f":"YEAR(Table[[#This Row],[Дата визита]])","v":2021},{"$f":"WEEKNUM(Table[[#This Row],[Дата визита]])","v":51},"18:00:00","Ростов-на-Дону, ул. Станиславского, д. 58","Минин В.","Клиент 750","mail@birdyx.ru","79008889900","Авито","В работе"]
[44531,{"$f":"DAY('База заказов'!$A752)","v":1},{"$f":"'База заказов'!$A752","v":"2021-12-01"},{"$f":"YEAR('База заказов'!$A752)","v":2021},"Мишин М.","Укладка кварцвиниловой плитки на клей",null,1000,null,{"$f":"SUM(Table[[#This Row],[Наличн]:[Безнал]])-SUM(Table[[#This Row],[Наличн]:[Безнал]])*Table[[#This Row],[Скидка]]","v":1000},44542,{"$f":"DAY(Table[[#This Row],[Дата визита]])","v":12},{"$f":"MONTH(Table[[#This Row],[Дата визита]])","v":"1900-01-12"},{"$f":"YEAR(Table[[#This Row],[Дата визита]])","v":2021},{"$f":"WEEKNUM(Table[[#This Row],[Дата визита]])","v":51},"10:00:00","Ростов-на-Дону, проспект Буденновский, 86/197","Белоусов В.","Клиент 751","mail@birdyx.ru","79008889900","Инстаграм","В работе"]
[44531,{"$f":"DAY('База заказов'!$A753)","v":1},{"$f":"'База заказов'!$A753","v":"2021-12-01"},{"$f":"YEAR('База заказов'!$A753)","v":2021},"Петров В.","Укладка массивной доски",10000,null,null,{"$f":"SUM(Table[[#This Row],[Наличн]:[Безнал]])-SUM(Table[[#This Row],[Наличн]:[Безнал]])*Table[[#This Row],[Скидка]]","v":10000},44542,{"$f":"DAY(Table[[#This Row],[Дата визита]])","v":12},{"$f":"MONTH(Table[[#This Row],[Дата визита]])","v":"1900-01-12"},{"$f":"YEAR(Table[[#This Row],[Дата визита]])","v":2021},{"$f":"WEEKNUM(Table[[#This Row],[Дата визита]])","v":51},"12:00:00","Ростов-на-Дону, ул. Липовая, 5","Субботин С.","Клиент 752","mail@birdyx.ru","79008889900","Инстаграм","В работе"]
[44531,{"$f":"DAY('База заказов'!$A754)","v":1},{"$f":"'База заказов'!$A754","v":"2021-12-01"},{"$f":"YEAR('База заказов'!$A754)","v":2021},"Петров В.","Укладка линолеума на клей",30000,null,null,{"$f":"SUM(Table[[#This Row],[Наличн]:[Безнал]])-SUM(Table[[#This Row],[Наличн]:[Безнал]])*Table[[#This Row],[Скидка]]","v":30000},44543,{"$f":"DAY(Table[[#This Row],[Дата визита]])","v":13},{"$f":"MONTH(Table[[#This Row],[Дата визита]])","v":"1900-01-12"},{"$f":"YEAR(Table[[#This Row],[Дата визита]])","v":2021},{"$f":"WEEKNUM(Table[[#This Row],[Дата визита]])","v":51},"16:00:00","Ростов-на-Дону, ул. Беляева, д. 22А","Устинов С.","Клиент 753","mail@birdyx.ru","79008889900","Инстаграм","В работе"]
[44532,{"$f":"DAY('База заказов'!$A755)","v":2},{"$f":"'База заказов'!$A755","v":"2021-12-02"},{"$f":"YEAR('База заказов'!$A755)","v":2021},"Гончарова Н.","Демонтаж оконного блока",56000,null,null,{"$f":"SUM(Table[[#This Row],[Наличн]:[Безнал]])-SUM(Table[[#This Row],[Наличн]:[Безнал]])*Table[[#This Row],[Скидка]]","v":56000},44543,{"$f":"DAY(Table[[#This Row],[Дата визита]])","v":13},{"$f":"MONTH(Table[[#This Row],[Дата визита]])","v":"1900-01-12"},{"$f":"YEAR(Table[[#This Row],[Дата визита]])","v":2021},{"$f":"WEEKNUM(Table[[#This Row],[Дата визита]])","v":51},"18:00:00","Ростов-на-Дону, ул. Беляева, д. 22А","Минин В.","Клиент 754","mail@birdyx.ru","79008889900","Яндекс","В работе"]
[44533,{"$f":"DAY('База заказов'!$A756)","v":3},{"$f":"'База заказов'!$A756","v":"2021-12-03"},{"$f":"YEAR('База заказов'!$A756)","v":2021},"Иванов И.","Установка порожка",null,20000,null,{"$f":"SUM(Table[[#This Row],[Наличн]:[Безнал]])-SUM(Table[[#This Row],[Наличн]:[Безнал]])*Table[[#This Row],[Скидка]]","v":20000},44543,{"$f":"DAY(Table[[#This Row],[Дата визита]])","v":13},{"$f":"MONTH(Table[[#This Row],[Дата визита]])","v":"1900-01-12"},{"$f":"YEAR(Table[[#This Row],[Дата визита]])","v":2021},{"$f":"WEEKNUM(Table[[#This Row],[Дата визита]])","v":51},"09:00:00","Ростов-на-Дону, ул. 22 Линия, д. 34","Белозеров В.","Клиент 755","mail@birdyx.ru","79008889900","По совету","В работе"]
[44534,{"$f":"DAY('База заказов'!$A757)","v":4},{"$f":"'База заказов'!$A757","v":"2021-12-04"},{"$f":"YEAR('База заказов'!$A757)","v":2021},"Петров В.","Поклейка обоев на потолки",10000,null,0.15,{"$f":"SUM(Table[[#This Row],[Наличн]:[Безнал]])-SUM(Table[[#This Row],[Наличн]:[Безнал]])*Table[[#This Row],[Скидка]]","v":8500},44543,{"$f":"DAY(Table[[#This Row],[Дата визита]])","v":13},{"$f":"MONTH(Table[[#This Row],[Дата визита]])","v":"1900-01-12"},{"$f":"YEAR(Table[[#This Row],[Дата визита]])","v":2021},{"$f":"WEEKNUM(Table[[#This Row],[Дата визита]])","v":51},"11:00:00","Ростов-На-Дону, проспект Шолохова, д. 288","Беспалов Г.","Клиент 756","mail@birdyx.ru","79008889900","Авито","В работе"]
[44535,{"$f":"DAY('База заказов'!$A758)","v":5},{"$f":"'База заказов'!$A758","v":"2021-12-05"},{"$f":"YEAR('База заказов'!$A758)","v":2021},"Мишин М.","Выкройка и монтаж дополнительных углов",null,8000,0.15,{"$f":"SUM(Table[[#This Row],[Наличн]:[Безнал]])-SUM(Table[[#This Row],[Наличн]:[Безнал]])*Table[[#This Row],[Скидка]]","v":6800},44544,{"$f":"DAY(Table[[#This Row],[Дата визита]])","v":14},{"$f":"MONTH(Table[[#This Row],[Дата визита]])","v":"1900-01-12"},{"$f":"YEAR(Table[[#This Row],[Дата визита]])","v":2021},{"$f":"WEEKNUM(Table[[#This Row],[Дата визита]])","v":51},"15:00:00","Ростов-на-Дону, проспект Кировский, д. 57","Шарапов В.","Клиент 757","mail@birdyx.ru","79008889900","Авито","В работе"]
[44535,{"$f":"DAY('База заказов'!$A759)","v":5},{"$f":"'База заказов'!$A759","v":"2021-12-05"},{"$f":"YEAR('База заказов'!$A759)","v":2021},"Петров В.","Установка плинтуса ПВХ",null,9000,0.15,{"$f":"SUM(Table[[#This Row],[Наличн]:[Безнал]])-SUM(Table[[#This Row],[Наличн]:[Безнал]])*Table[[#This Row],[Скидка]]","v":7650},44544,{"$f":"DAY(Table[[#This Row],[Дата визита]])","v":14},{"$f":"MONTH(Table[[#This Row],[Дата визита]])","v":"1900-01-12"},{"$f":"YEAR(Table[[#This Row],[Дата визита]])","v":2021},{"$f":"WEEKNUM(Table[[#This Row],[Дата визита]])","v":51},"17:00:00","Ростов-на-Дону, Стартовая 20","Белоусов В.","Клиент 758","mail@birdyx.ru","79008889900","Сайт","В работе"]
[44537,{"$f":"DAY('База заказов'!$A760)","v":7},{"$f":"'База заказов'!$A760","v":"2021-12-07"},{"$f":"YEAR('База заказов'!$A760)","v":2021},"Петров В.","Монтаж реечных потолков",90000,null,0.15,{"$f":"SUM(Table[[#This Row],[Наличн]:[Безнал]])-SUM(Table[[#This Row],[Наличн]:[Безнал]])*Table[[#This Row],[Скидка]]","v":76500},44544,{"$f":"DAY(Table[[#This Row],[Дата визита]])","v":14},{"$f":"MONTH(Table[[#This Row],[Дата визита]])","v":"1900-01-12"},{"$f":"YEAR(Table[[#This Row],[Дата визита]])","v":2021},{"$f":"WEEKNUM(Table[[#This Row],[Дата визита]])","v":51},"10:00:00","Ростов-на-Дону, Стартовая 22","Шарапов В.","Клиент 759","mail@birdyx.ru","79008889900","Сайт","В работе"]
[44537,{"$f":"DAY('База заказов'!$A761)","v":7},{"$f":"'База заказов'!$A761","v":"2021-12-07"},{"$f":"YEAR('База заказов'!$A761)","v":2021},"Иванов И.","Монтаж реечных потолков",null,8900,0.15,{"$f":"SUM(Table[[#This Row],[Наличн]:[Безнал]])-SUM(Table[[#This Row],[Наличн]:[Безнал]])*Table[[#This Row],[Скидка]]","v":7565},44544,{"$f":"DAY(Table[[#This Row],[Дата визита]])","v":14},{"$f":"MONTH(Table[[#This Row],[Дата визита]])","v":"1900-01-12"},{"$f":"YEAR(Table[[#This Row],[Дата визита]])","v":2021},{"$f":"WEEKNUM(Table[[#This Row],[Дата визита]])","v":51},"12:00:00","Ростов-на-Дону, Жданова 15","Минин В.","Клиент 760","mail@birdyx.ru","79008889900","Сайт","В работе"]
[44537,{"$f":"DAY('База заказов'!$A762)","v":7},{"$f":"'База заказов'!$A762","v":"2021-12-07"},{"$f":"YEAR('База заказов'!$A762)","v":2021},"Петров В.","Поклейка обоев на потолки",null,7000,0.15,{"$f":"SUM(Table[[#This Row],[Наличн]:[Безнал]])-SUM(Table[[#This Row],[Наличн]:[Безнал]])*Table[[#This Row],[Скидка]]","v":5950},44545,{"$f":"DAY(Table[[#This Row],[Дата визита]])","v":15},{"$f":"MONTH(Table[[#This Row],[Дата визита]])","v":"1900-01-12"},{"$f":"YEAR(Table[[#This Row],[Дата визита]])","v":2021},{"$f":"WEEKNUM(Table[[#This Row],[Дата визита]])","v":51},"16:00:00","Ростов-на-Дону, ул. Пацаева, д. 2","Белоусов В.","Клиент 761","mail@birdyx.ru","79008889900","Сайт","В работе"]
[44537,{"$f":"DAY('База заказов'!$A763)","v":7},{"$f":"'База заказов'!$A763","v":"2021-12-07"},{"$f":"YEAR('База заказов'!$A763)","v":2021},"Мишин М.","Поклейка обоев на потолки",null,50000,null,{"$f":"SUM(Table[[#This Row],[Наличн]:[Безнал]])-SUM(Table[[#This Row],[Наличн]:[Безнал]])*Table[[#This Row],[Скидка]]","v":50000},44545,{"$f":"DAY(Table[[#This Row],[Дата визита]])","v":15},{"$f":"MONTH(Table[[#This Row],[Дата визита]])","v":"1900-01-12"},{"$f":"YEAR(Table[[#This Row],[Дата визита]])","v":2021},{"$f":"WEEKNUM(Table[[#This Row],[Дата визита]])","v":51},"16:00:00","Ростов-на-Дону, ул. 14 Линия, д. 33","Устинов С.","Клиент 762","mail@birdyx.ru","79008889900","Авито","В работе"]
[44537,{"$f":"DAY('База заказов'!$A764)","v":7},{"$f":"'База заказов'!$A764","v":"2021-12-07"},{"$f":"YEAR('База заказов'!$A764)","v":2021},"Петров В.","Укладка паркетной доски на клей",2000,null,null,{"$f":"SUM(Table[[#This Row],[Наличн]:[Безнал]])-SUM(Table[[#This Row],[Наличн]:[Безнал]])*Table[[#This Row],[Скидка]]","v":2000},44545,{"$f":"DAY(Table[[#This Row],[Дата визита]])","v":15},{"$f":"MONTH(Table[[#This Row],[Дата визита]])","v":"1900-01-12"},{"$f":"YEAR(Table[[#This Row],[Дата визита]])","v":2021},{"$f":"WEEKNUM(Table[[#This Row],[Дата визита]])","v":51},"18:00:00","Ростов-на-Дону, пер. Беломорский, д. 94","Шарапов В.","Клиент 763","mail@birdyx.ru","79008889900","Сайт","В работе"]
[44538,8,"2021-12-08",2021,"Сергеев М.","Демонтаж межкомнатной двери",7000,null,0.05,6650,44545,null,null,null,null,"14:00:00","Ростов-на-Дону, Горького 151","Беспалов Г.","Клиент 764","mail@birdyx.ru",79808008080,"Инстаграм","В работе"]
[44538,8,"2021-12-08",2021,"Мишин М.","Установка плинтуса ПВХ",null,48000,0.15,40800,44546,null,null,null,null,"16:00:00","Ростов-на-Дону, Евдокимова 35","Михалев И.","Клиент 765","mail@birdyx.ru",79808008080,"Сайт","В работе"]

{"sheet":"Добавить заказ","index":5,"n_rows":20,"n_cols":14,"rows_kept":20,"cut":false,"hidden":false,"merged":[[19,6,19,14],[16,1,16,4],[19,1,19,4],[7,6,7,9],[10,6,10,9],[13,6,13,9],[16,6,16,9],[7,11,7,14],[10,11,10,14],[7,1,7,4],[10,1,10,4],[13,1,13,4],[13,11,13,14],[1,11,1,12],[1,8,1,10],[1,13,1,14],[16,11,16,14],[18,6,18,14]]}
[]
[null,null,null,null,null,null,null,null,"Менеджер",null,null,null,null,{"$f":"TODAY()","v":44541}]
[]
[null,"Заказчик",null,null,null,null,"Подробнее",null,null,null,null,"Оплата"]
[]
[]
[null,"ФИО",null,null,null,null,"Услуга",null,null,null,null,"Кол-во (шт, кв.м и др)"]
[]
[]
[null,"Номер телефона",null,null,null,null,"Дата визита",null,null,null,null,"Стоимость, руб"]
[null,null,null,null,null,null,null,null,null,null,null,{"$f":"IFERROR(VLOOKUP(G8,data!B:C,2,FALSE),0)*L8","v":0}]
[]
[null,"E-mail",null,null,null,null,"Время визита",null,null,null,null,"Оплата"]
[]
[]
[null,"Адрес",null,null,null,null,"Мастер",null,null,null,null,"Скидка"]
[]
[]
[null,"Как узнали о нас?",null,null,null,null,"Итого, руб"]
[null,null,null,null,null,null,{"$f":"L11-L11*L17","v":0}]

{"sheet":"Добавить сотрудника","index":6,"n_rows":17,"n_cols":2,"rows_kept":17,"cut":false,"hidden":false,"merged":[[12,17,12,19],[17,18,17,19],[4,1,4,6],[7,1,7,6],[10,1,10,6],[13,1,13,6],[16,1,16,6],[9,16,9,19],[10,18,10,19],[11,17,11,19]]}
[]
[]
[]
[null,"Фамилия И."]
[]
[]
[null,"Дата рождения"]
[]
[]
[null,"Должность"]
[]
[]
[null,"Оклад"]
[]
[]
[null,"Дата принятия"]
[null,{"$f":"TODAY()","v":44541}]

{"sheet":"Сотрудники","index":7,"n_rows":15,"n_cols":11,"rows_kept":15,"cut":false,"hidden":false,"merged":[[0,8,0,10]]}
["Сотрудники",null,null,null,null,null,null,null,"Оклад"]
["ФИО","Дата\nрождения","ДР в дашборд","Должность","Дата\nпринятия","Дата\nувольнения","Статус","Выборка","2019","2020","2021"]
["Белозеров В.",32765,{"$f":"IF(MONTH(Таблица57[[#This Row],[Дата\nрождения]])=MONTH(Расчеты!$D$2),\"др\",\"\")","v":""},"Мастер",43435," ",{"$f":"IF(Таблица57[[#This Row],[Дата\nувольнения]]<>\" \",\"уволен\",\"\")","v":""},{"$f":"IF(OR(Расчеты!$D$2>Таблица57[[#This Row],[Дата\nувольнения]],Расчеты!$D$2<Таблица57[[#This Row],[Дата\nпринятия]]),FALSE,TRUE)","v":true},10000,12000,15000]
["Белоусов В.",26666,{"$f":"IF(MONTH(Таблица57[[#This Row],[Дата\nрождения]])=MONTH(Расчеты!$D$2),\"др\",\"\")","v":""},"Мастер",43435," ",{"$f":"IF(Таблица57[[#This Row],[Дата\nувольнения]]<>\" \",\"уволен\",\"\")","v":""},{"$f":"IF(OR(Расчеты!$D$2>Таблица57[[#This Row],[Дата\nувольнения]],Расчеты!$D$2<Таблица57[[#This Row],[Дата\nпринятия]]),FALSE,TRUE)","v":true},10000,12000,15000]
["Беспалов Г.",24521,{"$f":"IF(MONTH(Таблица57[[#This Row],[Дата\nрождения]])=MONTH(Расчеты!$D$2),\"др\",\"\")","v":""},"Мастер",43450," ",{"$f":"IF(Таблица57[[#This Row],[Дата\nувольнения]]<>\" \",\"уволен\",\"\")","v":""},{"$f":"IF(OR(Расчеты!$D$2>Таблица57[[#This Row],[Дата\nувольнения]],Расчеты!$D$2<Таблица57[[#This Row],[Дата\nпринятия]]),FALSE,TRUE)","v":true},10000,12000,15000]
["Минин В.",33094,{"$f":"IF(MONTH(Таблица57[[#This Row],[Дата\nрождения]])=MONTH(Расчеты!$D$2),\"др\",\"\")","v":""},"Мастер",43450,44509,{"$f":"IF(Таблица57[[#This Row],[Дата\nувольнения]]<>\" \",\"уволен\",\"\")","v":"уволен"},{"$f":"IF(OR(Расчеты!$D$2>Таблица57[[#This Row],[Дата\nувольнения]],Расчеты!$D$2<Таблица57[[#This Row],[Дата\nпринятия]]),FALSE,TRUE)","v":true},10000,12000,15000]
["Субботин С.",29177,{"$f":"IF(MONTH(Таблица57[[#This Row],[Дата\nрождения]])=MONTH(Расчеты!$D$2),\"др\",\"\")","v":"др"},"Мастер",43450," ",{"$f":"IF(Таблица57[[#This Row],[Дата\nувольнения]]<>\" \",\"уволен\",\"\")","v":""},{"$f":"IF(OR(Расчеты!$D$2>Таблица57[[#This Row],[Дата\nувольнения]],Расчеты!$D$2<Таблица57[[#This Row],[Дата\nпринятия]]),FALSE,TRUE)","v":true},10000,12000,15000]
["Устинов С.",34906,{"$f":"IF(MONTH(Таблица57[[#This Row],[Дата\nрождения]])=MONTH(Расчеты!$D$2),\"др\",\"\")","v":""},"Мастер",43450," ",{"$f":"IF(Таблица57[[#This Row],[Дата\nувольнения]]<>\" \",\"уволен\",\"\")","v":""},{"$f":"IF(OR(Расчеты!$D$2>Таблица57[[#This Row],[Дата\nувольнения]],Расчеты!$D$2<Таблица57[[#This Row],[Дата\nпринятия]]),FALSE,TRUE)","v":true},8000,10000,12000]
["Шарапов В.",29371,{"$f":"IF(MONTH(Таблица57[[#This Row],[Дата\nрождения]])=MONTH(Расчеты!$D$2),\"др\",\"\")","v":""},"Мастер",43840," ",{"$f":"IF(Таблица57[[#This Row],[Дата\nувольнения]]<>\" \",\"уволен\",\"\")","v":""},{"$f":"IF(OR(Расчеты!$D$2>Таблица57[[#This Row],[Дата\nувольнения]],Расчеты!$D$2<Таблица57[[#This Row],[Дата\nпринятия]]),FALSE,TRUE)","v":true},12000,15000,18000]
["Гончарова Н.",34436,{"$f":"IF(MONTH(Сотрудники!$B10)=MONTH(Расчеты!$D$2),\"др\",\"\")","v":""},"Менеджер",43435," ",{"$f":"IF(Таблица57[[#This Row],[Дата\nувольнения]]<>\" \",\"уволен\",\"\")","v":""},{"$f":"IF(OR(Расчеты!$D$2>Таблица57[[#This Row],[Дата\nувольнения]],Расчеты!$D$2<Таблица57[[#This Row],[Дата\nпринятия]]),FALSE,TRUE)","v":true},12000,15000,18000]
["Иванов И.",32756,{"$f":"IF(MONTH(Сотрудники!$B11)=MONTH(Расчеты!$D$2),\"др\",\"\")","v":""},"Менеджер",43435," ",{"$f":"IF(Таблица57[[#This Row],[Дата\nувольнения]]<>\" \",\"уволен\",\"\")","v":""},{"$f":"IF(OR(Расчеты!$D$2>Таблица57[[#This Row],[Дата\nувольнения]],Расчеты!$D$2<Таблица57[[#This Row],[Дата\nпринятия]]),FALSE,TRUE)","v":true},12000,15000,18000]
["Мишин М.",31109,{"$f":"IF(MONTH(Сотрудники!$B12)=MONTH(Расчеты!$D$2),\"др\",\"\")","v":""},"Менеджер",43435," ",{"$f":"IF(Таблица57[[#This Row],[Дата\nувольнения]]<>\" \",\"уволен\",\"\")","v":""},{"$f":"IF(OR(Расчеты!$D$2>Таблица57[[#This Row],[Дата\nувольнения]],Расчеты!$D$2<Таблица57[[#This Row],[Дата\nпринятия]]),FALSE,TRUE)","v":true},12000,15000,18000]
["Петров В.",33230,{"$f":"IF(MONTH(Сотрудники!$B13)=MONTH(Расчеты!$D$2),\"др\",\"\")","v":""},"Менеджер",43435,44538,{"$f":"IF(Таблица57[[#This Row],[Дата\nувольнения]]<>\" \",\"уволен\",\"\")","v":"уволен"},{"$f":"IF(OR(Расчеты!$D$2>Таблица57[[#This Row],[Дата\nувольнения]],Расчеты!$D$2<Таблица57[[#This Row],[Дата\nпринятия]]),FALSE,TRUE)","v":true},12000,15000,18000]
["Сергеев М.",34683,{"$f":"IF(MONTH(Таблица57[[#This Row],[Дата\nрождения]])=MONTH(Расчеты!$D$2),\"др\",\"\")","v":""},"Менеджер",44538," ",{"$f":"IF(Таблица57[[#This Row],[Дата\nувольнения]]<>\" \",\"уволен\",\"\")","v":""},{"$f":"IF(OR(Расчеты!$D$2>Таблица57[[#This Row],[Дата\nувольнения]],Расчеты!$D$2<Таблица57[[#This Row],[Дата\nпринятия]]),FALSE,TRUE)","v":false},null,null,16000]
["Михалев И.",32003,{"$f":"IF(MONTH(Таблица57[[#This Row],[Дата\nрождения]])=MONTH(Расчеты!$D$2),\"др\",\"\")","v":""},"Мастер",44538," ",{"$f":"IF(Таблица57[[#This Row],[Дата\nувольнения]]<>\" \",\"уволен\",\"\")","v":""},{"$f":"IF(OR(Расчеты!$D$2>Таблица57[[#This Row],[Дата\nувольнения]],Расчеты!$D$2<Таблица57[[#This Row],[Дата\nпринятия]]),FALSE,TRUE)","v":false},null,null,14000]

{"sheet":"План KPI","index":8,"n_rows":38,"n_cols":6,"rows_kept":38,"cut":false,"hidden":false,"merged":[]}
["ПЛАН","Менеджеры","Мастера","<100%","100%",">100%"]
[null,"Продажи","Число заказов"]
["2019-01-01",150000,4,0,5000,0.03]
["2019-02-01",150000,4,0,5000,0.03]
["2019-03-01",150000,4,0,5000,0.03]
["2019-04-01",150000,4,0,5000,0.03]
["2019-05-01",150000,4,0,5000,0.03]
["2019-06-01",150000,5,0,5000,0.03]
["2019-07-01",150000,5,0,5000,0.03]
["2019-08-01",150000,5,0,5000,0.03]
["2019-09-01",150000,5,0,5000,0.03]
["2019-10-01",150000,5,0,5000,0.03]
["2019-11-01",150000,5,0,5000,0.03]
["2019-12-01",150000,5,0,5000,0.03]
["2020-01-01",150000,5,0,5000,0.03]
["2020-02-01",180000,5,0,5000,0.03]
["2020-03-01",180000,5,0,5000,0.03]
["2020-04-01",180000,5,0,5000,0.03]
["2020-05-01",180000,5,0,5000,0.03]
["2020-06-01",180000,5,0,5000,0.03]
["2020-07-01",180000,5,0,5000,0.03]
["2020-08-01",180000,5,0,5000,0.03]
["2020-09-01",180000,5,0,5000,0.03]
["2020-10-01",180000,5,0,5000,0.03]
["2020-11-01",180000,6,0,5000,0.03]
["2020-12-01",180000,6,0,5000,0.03]
["2021-01-01",180000,6,0,5000,0.03]
["2021-02-01",200000,6,0,5000,0.03]
["2021-03-01",200000,6,0,5000,0.03]
["2021-04-01",200000,6,0,5000,0.03]
["2021-05-01",200000,6,0,5000,0.03]
["2021-06-01",200000,6,0,5000,0.03]
["2021-07-01",200000,6,0,5000,0.03]
["2021-08-01",200000,6,0,5000,0.03]
["2021-09-01",200000,6,0,5000,0.03]
["2021-10-01",230000,6,0,5000,0.03]
["2021-11-01",230000,6,0,5000,0.03]
["2021-12-01",140000,3,0,5000,0.03]

{"sheet":"data","index":9,"n_rows":29,"n_cols":7,"rows_kept":29,"cut":false,"hidden":false,"merged":[]}
[null,"Данные для выпадающих списков"]
[]
[null,"Услуги","Цена",null,"Статус",null,"Трафик"]
[null,"Демонтаж душевой кабины",25000,null,"В работе",null,"Сайт"]
[null,"Демонтаж душевого поддона",34000,null,"Отмена",null,"Авито"]
[null,"Демонтаж раковины",12000,null,"Завершено",null,"Инстаграм"]
[null,"Демонтаж входной двери",5000,null,null,null,"Яндекс"]
[null,"Демонтаж оконного блока",5600,null,null,null,"По совету"]
[null,"Демонтаж балконного блока",6700]
[null,"Укладка фанеры в 1 слой",7400]
[null,"Укладка линолеума на клей",14500]
[null,"Укладка ламината на подложку",8000]
[null,"Укладка кварцвиниловой плитки на подложку",9800]
[null,"Укладка кварцвиниловой плитки на клей",14000]
[null,"Укладка паркетной доски на подложку",24000]
[null,"Укладка паркетной доски на клей",32000]
[null,"Укладка массивной доски",43000]
[null,"Укладка керамической плитки, керамогранита на пол с затиркой",53000]
[null,"Установка порожка",20000]
[null,"Установка плинтуса ПВХ",12000]
[null,"Установка деревянного плинтуса на клей",2000]
[null,"Монтаж тепло-пароизоляции потолка",45000]
[null,"Монтаж реечных потолков",2500]
[null,"Поклейка обоев на потолки",6000]
[null,"Нанесение декоративной штукатурки на потолки",5000]
[null,"Монтаж потолочного плинтуса",5000]
[null,"Изготовление и монтаж натяжных потолков (матовый, глянцевый)",23000]
[null,"Выкройка и монтаж дополнительных углов",3000]
[null,"Демонтаж межкомнатной двери",7000]

{"sheet":"today","index":10,"n_rows":14,"n_cols":18,"rows_kept":14,"cut":false,"hidden":true,"merged":[]}
["Статус","(несколько элементов)","Статус","(несколько элементов)",null,null,"Статус","В работе","Телефон","Услуга","Мастер","Время",5,null,"Названия строк","Количество по полю Статус"]
[null,null,null,null,null,null,null,null,null,null,null,null,"Позиция в базе","Уведомление",44541,5]
["Названия строк",null,"Названия строк","Сумма по полю Итого",null,null,"Названия строк",null,null,null,null,null,null,null,"В работе",5,"В работе",{"$f":"IFERROR(VLOOKUP(Q3,O:P,2,FALSE),0)","v":5}]
[44541,null,44541,187800,null,null,44541,null,null,null,null,null,null,null,null,null,"Завершено",{"$f":"IFERROR(VLOOKUP(Q4,O:P,2,FALSE),0)","v":0}]
["Ростов-На-Дону, пер. Семашко, д. 46/1",null,null,null,null,null,"Клиент 743",null,{"$f":"IFERROR(INDEX(Table[Телефон],MATCH(today!G5,Table[Клиент],0)),\"\")","v":"79008889900"},{"$f":"IFERROR(INDEX(Table[Услуга],MATCH(today!G5,Table[Клиент],0)),\"\")","v":"Выкройка и монтаж дополнительных углов"},{"$f":"IFERROR(INDEX(Table[Мастер],MATCH(today!G5,Table[Клиент],0)),\"\")","v":"Беспалов Г."},{"$f":"IFERROR(INDEX(Table[Время визита],MATCH(today!G5,Table[Клиент],0)),\"\")","v":"10:00:00"},{"$f":"IFERROR(MATCH(TODAY()&G5,'База заказов'!K:K&'База заказов'!S:S,0),\"\")","v":744},{"$f":"IF(IFERROR(INDEX('База заказов'!X:X,today!M5),\"\")=\"да\",\"a\",\"\")","v":""},null,null,"Отмена",{"$f":"IFERROR(VLOOKUP(Q5,O:P,2,FALSE),0)","v":0}]
["Ростов-на-Дону, проспект Коммунистический, д. 20/4",null,null,null,null,null,"Клиент 744",null,{"$f":"IFERROR(INDEX(Table[Телефон],MATCH(today!G6,Table[Клиент],0)),\"\")","v":"79008889900"},{"$f":"IFERROR(INDEX(Table[Услуга],MATCH(today!G6,Table[Клиент],0)),\"\")","v":"Установка плинтуса ПВХ"},{"$f":"IFERROR(INDEX(Table[Мастер],MATCH(today!G6,Table[Клиент],0)),\"\")","v":"Белозеров В."},{"$f":"IFERROR(INDEX(Table[Время визита],MATCH(today!G6,Table[Клиент],0)),\"\")","v":"12:00:00"},{"$f":"IFERROR(MATCH(TODAY()&G6,'База заказов'!K:K&'База заказов'!S:S,0),\"\")","v":745},{"$f":"IF(IFERROR(INDEX('База заказов'!X:X,today!M6),\"\")=\"да\",\"a\",\"\")","v":""}]
["Ростов-на-Дону, проспект Соколова, д. 11/Б",null,null,null,null,null,"Клиент 745",null,{"$f":"IFERROR(INDEX(Table[Телефон],MATCH(today!G7,Table[Клиент],0)),\"\")","v":"79008889900"},{"$f":"IFERROR(INDEX(Table[Услуга],MATCH(today!G7,Table[Клиент],0)),\"\")","v":"Монтаж реечных потолков"},{"$f":"IFERROR(INDEX(Table[Мастер],MATCH(today!G7,Table[Клиент],0)),\"\")","v":"Устинов С."},{"$f":"IFERROR(INDEX(Table[Время визита],MATCH(today!G7,Table[Клиент],0)),\"\")","v":"16:00:00"},{"$f":"IFERROR(MATCH(TODAY()&G7,'База заказов'!K:K&'База заказов'!S:S,0),\"\")","v":746},{"$f":"IF(IFERROR(INDEX('База заказов'!X:X,today!M7),\"\")=\"да\",\"a\",\"\")","v":""}]
["Ростов-на-Дону, ул. Ларина, д. 41/19",null,null,null,null,null,"Клиент 746",null,{"$f":"IFERROR(INDEX(Table[Телефон],MATCH(today!G8,Table[Клиент],0)),\"\")","v":"79008889900"},{"$f":"IFERROR(INDEX(Table[Услуга],MATCH(today!G8,Table[Клиент],0)),\"\")","v":"Монтаж реечных потолков"},{"$f":"IFERROR(INDEX(Table[Мастер],MATCH(today!G8,Table[Клиент],0)),\"\")","v":"Минин В."},{"$f":"IFERROR(INDEX(Table[Время визита],MATCH(today!G8,Table[Клиент],0)),\"\")","v":"18:00:00"},{"$f":"IFERROR(MATCH(TODAY()&G8,'База заказов'!K:K&'База заказов'!S:S,0),\"\")","v":747},{"$f":"IF(IFERROR(INDEX('База заказов'!X:X,today!M8),\"\")=\"да\",\"a\",\"\")","v":""}]
["Ростов-на-Дону, ул. Цезаря Куникова, д. 32/А",null,null,null,null,null,"Клиент 747",null,{"$f":"IFERROR(INDEX(Table[Телефон],MATCH(today!G9,Table[Клиент],0)),\"\")","v":"79008889900"},{"$f":"IFERROR(INDEX(Table[Услуга],MATCH(today!G9,Table[Клиент],0)),\"\")","v":"Поклейка обоев на потолки"},{"$f":"IFERROR(INDEX(Table[Мастер],MATCH(today!G9,Table[Клиент],0)),\"\")","v":"Шарапов В."},{"$f":"IFERROR(INDEX(Table[Время визита],MATCH(today!G9,Table[Клиент],0)),\"\")","v":"10:00:00"},{"$f":"IFERROR(MATCH(TODAY()&G9,'База заказов'!K:K&'База заказов'!S:S,0),\"\")","v":748},{"$f":"IF(IFERROR(INDEX('База заказов'!X:X,today!M9),\"\")=\"да\",\"a\",\"\")","v":""}]
[null,null,null,null,null,null,null,null,{"$f":"IFERROR(INDEX(Table[Телефон],MATCH(today!G10,Table[Клиент],0)),\"\")","v":""},{"$f":"IFERROR(INDEX(Table[Услуга],MATCH(today!G10,Table[Клиент],0)),\"\")","v":""},{"$f":"IFERROR(INDEX(Table[Мастер],MATCH(today!G10,Table[Клиент],0)),\"\")","v":""},{"$f":"IFERROR(INDEX(Table[Время визита],MATCH(today!G10,Table[Клиент],0)),\"\")","v":""},{"$f":"IFERROR(MATCH(TODAY()&G10,'База заказов'!K:K&'База заказов'!S:S,0),\"\")","v":""},{"$f":"IF(IFERROR(INDEX('База заказов'!X:X,today!M10),\"\")=\"да\",\"a\",\"\")","v":""}]
[null,null,null,null,null,null,null,null,{"$f":"IFERROR(INDEX(Table[Телефон],MATCH(today!G11,Table[Клиент],0)),\"\")","v":""},{"$f":"IFERROR(INDEX(Table[Услуга],MATCH(today!G11,Table[Клиент],0)),\"\")","v":""},{"$f":"IFERROR(INDEX(Table[Мастер],MATCH(today!G11,Table[Клиент],0)),\"\")","v":""},{"$f":"IFERROR(INDEX(Table[Время визита],MATCH(today!G11,Table[Клиент],0)),\"\")","v":""},{"$f":"IFERROR(MATCH(TODAY()&G11,'База заказов'!K:K&'База заказов'!S:S,0),\"\")","v":""},{"$f":"IF(IFERROR(INDEX('База заказов'!X:X,today!M11),\"\")=\"да\",\"a\",\"\")","v":""}]
[null,null,null,null,null,null,null,null,{"$f":"IFERROR(INDEX(Table[Телефон],MATCH(today!G12,Table[Клиент],0)),\"\")","v":""},{"$f":"IFERROR(INDEX(Table[Услуга],MATCH(today!G12,Table[Клиент],0)),\"\")","v":""},{"$f":"IFERROR(INDEX(Table[Мастер],MATCH(today!G12,Table[Клиент],0)),\"\")","v":""},{"$f":"IFERROR(INDEX(Table[Время визита],MATCH(today!G12,Table[Клиент],0)),\"\")","v":""},{"$f":"IFERROR(MATCH(TODAY()&G12,'База заказов'!K:K&'База заказов'!S:S,0),\"\")","v":""},{"$f":"IF(IFERROR(INDEX('База заказов'!X:X,today!M12),\"\")=\"да\",\"a\",\"\")","v":""}]
[null,null,null,null,null,null,null,null,{"$f":"IFERROR(INDEX(Table[Телефон],MATCH(today!G13,Table[Клиент],0)),\"\")","v":""},{"$f":"IFERROR(INDEX(Table[Услуга],MATCH(today!G13,Table[Клиент],0)),\"\")","v":""},{"$f":"IFERROR(INDEX(Table[Мастер],MATCH(today!G13,Table[Клиент],0)),\"\")","v":""},{"$f":"IFERROR(INDEX(Table[Время визита],MATCH(today!G13,Table[Клиент],0)),\"\")","v":""},{"$f":"IFERROR(MATCH(TODAY()&G13,'База заказов'!K:K&'База заказов'!S:S,0),\"\")","v":""},{"$f":"IF(IFERROR(INDEX('База заказов'!X:X,today!M13),\"\")=\"да\",\"a\",\"\")","v":""}]
[null,null,null,null,null,null,null,null,{"$f":"IFERROR(INDEX(Table[Телефон],MATCH(today!G14,Table[Клиент],0)),\"\")","v":""},{"$f":"IFERROR(INDEX(Table[Услуга],MATCH(today!G14,Table[Клиент],0)),\"\")","v":""},{"$f":"IFERROR(INDEX(Table[Мастер],MATCH(today!G14,Table[Клиент],0)),\"\")","v":""},{"$f":"IFERROR(INDEX(Table[Время визита],MATCH(today!G14,Table[Клиент],0)),\"\")","v":""},{"$f":"IFERROR(MATCH(TODAY()&G14,'База заказов'!K:K&'База заказов'!S:S,0),\"\")","v":""},{"$f":"IF(IFERROR(INDEX('База заказов'!X:X,today!M14),\"\")=\"да\",\"a\",\"\")","v":""}]

{"sheet":"pivot table","index":11,"n_rows":49,"n_cols":44,"rows_kept":49,"cut":false,"hidden":true,"merged":[]}
["Названия строк","Выручка","тыс руб","Названия строк","Выручка",null,"Названия строк","Количество по полю Итого",null,"Названия строк","Количество по полю Безнал","Количество по полю Наличн",null,"Наличные","Безнал",null,"Названия строк","Сумма по полю Итого",null,{"$f":"TODAY()","v":"2021-12-11"},1,"Понедельник","Названия строк","Количество по полю Итого","Среднее по полю Оценка клиента",null,"Названия строк","Количество по полю Статус",null,null,"Названия строк","Количество по полю Статус",null,"Названия строк","Количество по полю Мастер",null,"Названия строк",{"$f":"DATE(AK2,MONTH(VLOOKUP(AK3,AM1:AN12,2,FALSE)),1)","v":44501},"янв",36526,null,"Названия строк","Сумма по полю Итого","текущая выручка"]
["2020",7936115,null,"2020",4476150,null,"2020",1,null,"2020",268,101,null,{"$f":"IFERROR(GETPIVOTDATA(\"Количество по полю Наличн\",$J$1)/SUM(K3:L3),0)","v":0.27371273712737126},{"$f":"IF(N2=0,0,1-N2)","v":0.72628726287262868},null,"2020",7936115,null,{"$f":"VLOOKUP(WEEKDAY(TODAY(),2),U1:V7,2,FALSE)","v":"Суббота"},2,"Вторник","2020",352,4.2244318181818183,null,"2020",352,null,null,"2020",352,null,"2021",null,null,"2021",null,"фев",36557,null,"2021"]
["янв",481945,null,"Демонтаж входной двери",1147640,null,"Сайт",0.43181818181818182,null,"Общий итог",268,101,null,null,null,null,"Гончарова Н.",2238490,null,null,3,"Среда","Белозеров В.",69,4.1739130434782608,null,"Завершено",339,"В работе",{"$f":"IFERROR(VLOOKUP(AC3,AA:AB,2,FALSE),0)","v":0},"Общий итог",352,null,"ноя",27,null,"ноя",null,"мар",36586,null,"ноя",573635]
["фев",734275,null,"Укладка массивной доски",1047205,null,"Авито",0.20738636363636365,null,null,null,null,null,null,null,null,"Иванов И.",2723880,null,null,4,"Четверг","Субботин С.",59,4.2711864406779663,null,"Отмена",13,"Завершено",{"$f":"IFERROR(VLOOKUP(AC4,AA:AB,2,FALSE),0)","v":339},null,null,null,"Белозеров В.",5,null,"Общий итог",null,"апр",36617,null,"Общий итог",573635]
["мар",722035,null,"Укладка паркетной доски на клей",851600,null,"Инстаграм",0.14488636363636365,null,null,null,null,null,null,null,null,"Мишин М.",1246940,null,null,5,"Пятница","Беспалов Г.",56,4.2321428571428568,null,"Общий итог",352,"Отмена",13,null,null,null,"Белоусов В.",3,null,null,null,"май",36647]
["апр",691380,null,"Монтаж потолочного плинтуса",808975,null,"Яндекс",0.13068181818181818,null,null,null,null,null,null,null,null,"Петров В.",1726805,null,null,6,"Суббота","Белоусов В.",51,4.4117647058823533,null,null,null,null,null,null,null,null,"Беспалов Г.",2,null,null,null,"июн",36678]
["май",635145,null,"Нанесение декоративной штукатурки ",620730,null,"По совету",8.5227272727272721E-2,null,null,null,null,null,null,null,null,null,null,null,null,7,"Воскресенье","Минин В.",48,4.270833333333333,null,null,null,null,null,null,null,null,"Минин В.",4,null,null,null,"июл",36708]
["июн",652400,null,"Общий итог",4476150,null,"Общий итог",1,null,null,null,null,null,null,null,null,null,null,null,null,null,null,"Шарапов В.",39,3.8205128205128207,null,null,null,null,null,null,null,null,"Субботин С.",3,null,null,null,"авг",36739]
["июл",755630,null,null,null,null,null,null,null,null,null,null,null,null,null,null,null,null,null,null,null,null,"Устинов С.",30,4.3666666666666663,null,null,null,null,null,null,null,null,"Устинов С.",4,null,null,null,"сен",36770]
["авг",667665,null,null,null,null,null,null,null,null,null,null,null,null,null,null,null,null,null,null,null,null,null,null,null,null,null,null,null,null,null,null,null,"Шарапов В.",6,null,null,null,"окт",36800]
["сен",681640,null,null,null,null,null,null,null,null,null,null,null,null,null,null,null,null,null,null,null,null,null,null,null,null,null,null,null,null,null,null,null,"Общий итог",27,null,null,null,"ноя",36831]
["окт",663240,null,null,null,null,null,null,null,null,null,null,null,null,null,null,null,null,null,null,null,null,null,null,null,null,null,null,null,null,null,null,null,null,null,null,null,null,"дек",36861]
["ноя",642480]
["дек",608280]
["Общий итог",7936115]
[]
[]
[]
[]
[]
[]
[]
[]
[]
[]
[]
[]
[]
[]
[]
[]
[]
[]
[]
[]
[]
[]
[]
[]
[]
[]
[null,null,null,null,null,null,null,null,null,null,null,null,null,null,null,null,null,null,null,null,null,null,null,null,null,null,null,null,null,null,null,null,null,"Названия строк","Сумма по полю Итого"]
[null,null,null,null,null,null,null,null,null,null,null,null,null,null,null,null,null,null,null,null,null,null,null,null,null,null,null,null,null,null,null,null,null,"2021"]
[null,null,null,null,null,null,null,null,null,null,null,null,null,null,null,null,null,null,null,null,null,null,null,null,null,null,null,null,null,null,null,null,null,"ноя",573635]
[null,null,null,null,null,null,null,null,null,null,null,null,null,null,null,null,null,null,null,null,null,null,null,null,null,null,null,null,null,null,null,null,null,"Гончарова Н.",100200]
[null,null,null,null,null,null,null,null,null,null,null,null,null,null,null,null,null,null,null,null,null,null,null,null,null,null,null,null,null,null,null,null,null,"Иванов И.",88500]
[null,null,null,null,null,null,null,null,null,null,null,null,null,null,null,null,null,null,null,null,null,null,null,null,null,null,null,null,null,null,null,null,null,"Мишин М.",182685]
[null,null,null,null,null,null,null,null,null,null,null,null,null,null,null,null,null,null,null,null,null,null,null,null,null,null,null,null,null,null,null,null,null,"Петров В.",202250]
[null,null,null,null,null,null,null,null,null,null,null,null,null,null,null,null,null,null,null,null,null,null,null,null,null,null,null,null,null,null,null,null,null,"Общий итог",573635]

{"sheet":"Расчеты","index":12,"n_rows":26,"n_cols":20,"rows_kept":26,"cut":false,"hidden":true,"merged":[[0,7,0,8],[0,10,0,12],[0,13,2,13]]}
["День рождения",null,null,"Текущий выбор на листе KPI",null,null,null,"План",null,null,"KPI",null,null,"Текущий список","Мастер","Менеджер",null,"ЗП",{"$f":"IFERROR(INDEX(Сотрудники!$A$3:$A$40,SMALL(IF(Сотрудники!$H$3:$H$40=TRUE,ROW($E$1:$E$37)),ROW(E1))),\"\")","v":"Белозеров В."},{"$f":"IFERROR(IF(VLOOKUP(S1,KPI!I:R,10,FALSE)<1,$K$3+VLOOKUP(S1,KPI!I:L,4,FALSE),IF(VLOOKUP(S1,KPI!I:R,10,FALSE)=1,Расчеты!$L$3+VLOOKUP(S1,KPI!I:L,4,FALSE),IF(VLOOKUP(S1,KPI!I:R,10,FALSE)>1,Расчеты!$M$3*'pivot table'!$AQ$4+VLOOKUP(S1,KPI!I:L,4,FALSE),\"\"))),\"\")","v":15000}]
["ФИО","Дата",null,{"$f":"'pivot table'!AL1","v":44501},null,null,null,"Менеджеры",{"$f":"IFERROR(VLOOKUP(D2,Таблица1[],2,FALSE),0)","v":230000},null,"<100%","100%",">100%",null,{"$f":"IFERROR(INDEX(Сотрудники!$A$3:$A$40,SMALL(IF((Сотрудники!$D$3:$D$40=\"Мастер\")*(Сотрудники!$G$3:$G$40=\"\"),ROW($E$1:$E$37)),ROW(E1))),\"\")","v":"Белозеров В."},{"$f":"IFERROR(INDEX(Сотрудники!$A$3:$A$40,SMALL(IF((Сотрудники!$D$3:$D$40=\"Менеджер\")*(Сотрудники!$G$3:$G$40=\"\"),ROW($E$1:$E$37)),ROW(E1))),\"\")","v":"Гончарова Н."},null,{"$f":"SUM(T1:T26)","v":182000},{"$f":"IFERROR(INDEX(Сотрудники!$A$3:$A$40,SMALL(IF(Сотрудники!$H$3:$H$40=TRUE,ROW($E$1:$E$37)),ROW(E2))),\"\")","v":"Белоусов В."},{"$f":"IFERROR(IF(VLOOKUP(S2,KPI!I:R,10,FALSE)<1,$K$3+VLOOKUP(S2,KPI!I:L,4,FALSE),IF(VLOOKUP(S2,KPI!I:R,10,FALSE)=1,Расчеты!$L$3+VLOOKUP(S2,KPI!I:L,4,FALSE),IF(VLOOKUP(S2,KPI!I:R,10,FALSE)>1,Расчеты!$M$3*'pivot table'!$AQ$4+VLOOKUP(S2,KPI!I:L,4,FALSE),\"\"))),\"\")","v":15000}]
[{"$f":"IFERROR(INDEX(Сотрудники!$A$3:$A$40,SMALL(IF((Сотрудники!$C$3:$C$40=\"др\")*(Сотрудники!$G$3:$G$40=\"\"),ROW($E$1:$E$37)),ROW(E1))),\"\")","v":"Субботин С."},{"$f":"IFERROR(TEXT(VLOOKUP(A3,Сотрудники!A:C,2,FALSE),\"ДД МММ\"),\"\")","v":"18 ноя"},null,null,null,null,null,"Мастера",{"$f":"IFERROR(VLOOKUP(D2,Таблица1[],3,FALSE),0)","v":6},null,{"$f":"IFERROR(VLOOKUP(D2,Таблица1[],4,FALSE),0)","v":0},{"$f":"IFERROR(VLOOKUP(D2,Таблица1[],5,FALSE),0)","v":5000},{"$f":"IFERROR(VLOOKUP(D2,Таблица1[],6,FALSE),0)","v":0.03},null,{"$f":"IFERROR(INDEX(Сотрудники!$A$3:$A$40,SMALL(IF((Сотрудники!$D$3:$D$40=\"Мастер\")*(Сотрудники!$G$3:$G$40=\"\"),ROW($E$1:$E$37)),ROW(E2))),\"\")","v":"Белоусов В."},{"$f":"IFERROR(INDEX(Сотрудники!$A$3:$A$40,SMALL(IF((Сотрудники!$D$3:$D$40=\"Менеджер\")*(Сотрудники!$G$3:$G$40=\"\"),ROW($E$1:$E$37)),ROW(E2))),\"\")","v":"Иванов И."},null,"Чистая прибыль",{"$f":"IFERROR(INDEX(Сотрудники!$A$3:$A$40,SMALL(IF(Сотрудники!$H$3:$H$40=TRUE,ROW($E$1:$E$37)),ROW(E3))),\"\")","v":"Беспалов Г."},{"$f":"IFERROR(IF(VLOOKUP(S3,KPI!I:R,10,FALSE)<1,$K$3+VLOOKUP(S3,KPI!I:L,4,FALSE),IF(VLOOKUP(S3,KPI!I:R,10,FALSE)=1,Расчеты!$L$3+VLOOKUP(S3,KPI!I:L,4,FALSE),IF(VLOOKUP(S3,KPI!I:R,10,FALSE)>1,Расчеты!$M$3*'pivot table'!$AQ$4+VLOOKUP(S3,KPI!I:L,4,FALSE),\"\"))),\"\")","v":15000}]
[{"$f":"IFERROR(INDEX(Сотрудники!$A$3:$A$40,SMALL(IF((Сотрудники!$C$3:$C$40=\"др\")*(Сотрудники!$G$3:$G$40=\"\"),ROW($E$1:$E$37)),ROW(E2))),\"\")","v":""},{"$f":"IFERROR(TEXT(VLOOKUP(A4,Сотрудники!A:C,2,FALSE),\"ДД МММ\"),\"\")","v":""},null,null,null,null,null,null,null,null,null,null,null,null,{"$f":"IFERROR(INDEX(Сотрудники!$A$3:$A$40,SMALL(IF((Сотрудники!$D$3:$D$40=\"Мастер\")*(Сотрудники!$G$3:$G$40=\"\"),ROW($E$1:$E$37)),ROW(E3))),\"\")","v":"Беспалов Г."},{"$f":"IFERROR(INDEX(Сотрудники!$A$3:$A$40,SMALL(IF((Сотрудники!$D$3:$D$40=\"Менеджер\")*(Сотрудники!$G$3:$G$40=\"\"),ROW($E$1:$E$37)),ROW(E3))),\"\")","v":"Мишин М."},null,{"$f":"IFERROR('pivot table'!AQ4-Расчеты!R2,\"\")","v":391635},{"$f":"IFERROR(INDEX(Сотрудники!$A$3:$A$40,SMALL(IF(Сотрудники!$H$3:$H$40=TRUE,ROW($E$1:$E$37)),ROW(E4))),\"\")","v":"Минин В."},{"$f":"IFERROR(IF(VLOOKUP(S4,KPI!I:R,10,FALSE)<1,$K$3+VLOOKUP(S4,KPI!I:L,4,FALSE),IF(VLOOKUP(S4,KPI!I:R,10,FALSE)=1,Расчеты!$L$3+VLOOKUP(S4,KPI!I:L,4,FALSE),IF(VLOOKUP(S4,KPI!I:R,10,FALSE)>1,Расчеты!$M$3*'pivot table'!$AQ$4+VLOOKUP(S4,KPI!I:L,4,FALSE),\"\"))),\"\")","v":15000}]
[{"$f":"IFERROR(INDEX(Сотрудники!$A$3:$A$40,SMALL(IF((Сотрудники!$C$3:$C$40=\"др\")*(Сотрудники!$G$3:$G$40=\"\"),ROW($E$1:$E$37)),ROW(E3))),\"\")","v":""},{"$f":"IFERROR(TEXT(VLOOKUP(A5,Сотрудники!A:C,2,FALSE),\"ДД МММ\"),\"\")","v":""},null,null,null,null,null,null,null,null,null,null,null,null,{"$f":"IFERROR(INDEX(Сотрудники!$A$3:$A$40,SMALL(IF((Сотрудники!$D$3:$D$40=\"Мастер\")*(Сотрудники!$G$3:$G$40=\"\"),ROW($E$1:$E$37)),ROW(E4))),\"\")","v":"Субботин С."},{"$f":"IFERROR(INDEX(Сотрудники!$A$3:$A$40,SMALL(IF((Сотрудники!$D$3:$D$40=\"Менеджер\")*(Сотрудники!$G$3:$G$40=\"\"),ROW($E$1:$E$37)),ROW(E4))),\"\")","v":"Сергеев М."},null,null,{"$f":"IFERROR(INDEX(Сотрудники!$A$3:$A$40,SMALL(IF(Сотрудники!$H$3:$H$40=TRUE,ROW($E$1:$E$37)),ROW(E5))),\"\")","v":"Субботин С."},{"$f":"IFERROR(IF(VLOOKUP(S5,KPI!I:R,10,FALSE)<1,$K$3+VLOOKUP(S5,KPI!I:L,4,FALSE),IF(VLOOKUP(S5,KPI!I:R,10,FALSE)=1,Расчеты!$L$3+VLOOKUP(S5,KPI!I:L,4,FALSE),IF(VLOOKUP(S5,KPI!I:R,10,FALSE)>1,Расчеты!$M$3*'pivot table'!$AQ$4+VLOOKUP(S5,KPI!I:L,4,FALSE),\"\"))),\"\")","v":15000}]
[{"$f":"IFERROR(INDEX(Сотрудники!$A$3:$A$40,SMALL(IF((Сотрудники!$C$3:$C$40=\"др\")*(Сотрудники!$G$3:$G$40=\"\"),ROW($E$1:$E$37)),ROW(E4))),\"\")","v":""},{"$f":"IFERROR(TEXT(VLOOKUP(A6,Сотрудники!A:C,2,FALSE),\"ДД МММ\"),\"\")","v":""},null,null,null,null,null,null,null,null,null,null,null,null,{"$f":"IFERROR(INDEX(Сотрудники!$A$3:$A$40,SMALL(IF((Сотрудники!$D$3:$D$40=\"Мастер\")*(Сотрудники!$G$3:$G$40=\"\"),ROW($E$1:$E$37)),ROW(E5))),\"\")","v":"Устинов С."},{"$f":"IFERROR(INDEX(Сотрудники!$A$3:$A$40,SMALL(IF((Сотрудники!$D$3:$D$40=\"Менеджер\")*(Сотрудники!$G$3:$G$40=\"\"),ROW($E$1:$E$37)),ROW(E5))),\"\")","v":""},null,null,{"$f":"IFERROR(INDEX(Сотрудники!$A$3:$A$40,SMALL(IF(Сотрудники!$H$3:$H$40=TRUE,ROW($E$1:$E$37)),ROW(E6))),\"\")","v":"Устинов С."},{"$f":"IFERROR(IF(VLOOKUP(S6,KPI!I:R,10,FALSE)<1,$K$3+VLOOKUP(S6,KPI!I:L,4,FALSE),IF(VLOOKUP(S6,KPI!I:R,10,FALSE)=1,Расчеты!$L$3+VLOOKUP(S6,KPI!I:L,4,FALSE),IF(VLOOKUP(S6,KPI!I:R,10,FALSE)>1,Расчеты!$M$3*'pivot table'!$AQ$4+VLOOKUP(S6,KPI!I:L,4,FALSE),\"\"))),\"\")","v":12000}]
[{"$f":"IFERROR(INDEX(Сотрудники!$A$3:$A$40,SMALL(IF((Сотрудники!$C$3:$C$40=\"др\")*(Сотрудники!$G$3:$G$40=\"\"),ROW($E$1:$E$37)),ROW(E5))),\"\")","v":""},{"$f":"IFERROR(TEXT(VLOOKUP(A7,Сотрудники!A:C,2,FALSE),\"ДД МММ\"),\"\")","v":""},null,null,null,null,null,null,null,null,null,null,null,null,{"$f":"IFERROR(INDEX(Сотрудники!$A$3:$A$40,SMALL(IF((Сотрудники!$D$3:$D$40=\"Мастер\")*(Сотрудники!$G$3:$G$40=\"\"),ROW($E$1:$E$37)),ROW(E6))),\"\")","v":"Шарапов В."},{"$f":"IFERROR(INDEX(Сотрудники!$A$3:$A$40,SMALL(IF((Сотрудники!$D$3:$D$40=\"Менеджер\")*(Сотрудники!$G$3:$G$40=\"\"),ROW($E$1:$E$37)),ROW(E6))),\"\")","v":""},null,null,{"$f":"IFERROR(INDEX(Сотрудники!$A$3:$A$40,SMALL(IF(Сотрудники!$H$3:$H$40=TRUE,ROW($E$1:$E$37)),ROW(E7))),\"\")","v":"Шарапов В."},{"$f":"IFERROR(IF(VLOOKUP(S7,KPI!I:R,10,FALSE)<1,$K$3+VLOOKUP(S7,KPI!I:L,4,FALSE),IF(VLOOKUP(S7,KPI!I:R,10,FALSE)=1,Расчеты!$L$3+VLOOKUP(S7,KPI!I:L,4,FALSE),IF(VLOOKUP(S7,KPI!I:R,10,FALSE)>1,Расчеты!$M$3*'pivot table'!$AQ$4+VLOOKUP(S7,KPI!I:L,4,FALSE),\"\"))),\"\")","v":23000}]
[{"$f":"IFERROR(INDEX(Сотрудники!$A$3:$A$40,SMALL(IF((Сотрудники!$C$3:$C$40=\"др\")*(Сотрудники!$G$3:$G$40=\"\"),ROW($E$1:$E$37)),ROW(E6))),\"\")","v":""},{"$f":"IFERROR(TEXT(VLOOKUP(A8,Сотрудники!A:C,2,FALSE),\"ДД МММ\"),\"\")","v":""},null,null,null,null,null,null,null,null,null,null,null,null,{"$f":"IFERROR(INDEX(Сотрудники!$A$3:$A$40,SMALL(IF((Сотрудники!$D$3:$D$40=\"Мастер\")*(Сотрудники!$G$3:$G$40=\"\"),ROW($E$1:$E$37)),ROW(E7))),\"\")","v":"Михалев И."},{"$f":"IFERROR(INDEX(Сотрудники!$A$3:$A$40,SMALL(IF((Сотрудники!$D$3:$D$40=\"Менеджер\")*(Сотрудники!$G$3:$G$40=\"\"),ROW($E$1:$E$37)),ROW(E7))),\"\")","v":""},null,null,{"$f":"IFERROR(INDEX(Сотрудники!$A$3:$A$40,SMALL(IF(Сотрудники!$H$3:$H$40=TRUE,ROW($E$1:$E$37)),ROW(E8))),\"\")","v":"Гончарова Н."},{"$f":"IFERROR(IF(VLOOKUP(S8,KPI!I:R,10,FALSE)<1,$K$3+VLOOKUP(S8,KPI!I:L,4,FALSE),IF(VLOOKUP(S8,KPI!I:R,10,FALSE)=1,Расчеты!$L$3+VLOOKUP(S8,KPI!I:L,4,FALSE),IF(VLOOKUP(S8,KPI!I:R,10,FALSE)>1,Расчеты!$M$3*'pivot table'!$AQ$4+VLOOKUP(S8,KPI!I:L,4,FALSE),\"\"))),\"\")","v":18000}]
[{"$f":"IFERROR(INDEX(Сотрудники!$A$3:$A$40,SMALL(IF((Сотрудники!$C$3:$C$40=\"др\")*(Сотрудники!$G$3:$G$40=\"\"),ROW($E$1:$E$37)),ROW(E7))),\"\")","v":""},{"$f":"IFERROR(TEXT(VLOOKUP(A9,Сотрудники!A:C,2,FALSE),\"ДД МММ\"),\"\")","v":""},null,null,null,null,null,null,null,null,null,null,null,null,{"$f":"IFERROR(INDEX(Сотрудники!$A$3:$A$40,SMALL(IF((Сотрудники!$D$3:$D$40=\"Мастер\")*(Сотрудники!$G$3:$G$40=\"\"),ROW($E$1:$E$37)),ROW(E8))),\"\")","v":""},{"$f":"IFERROR(INDEX(Сотрудники!$A$3:$A$40,SMALL(IF((Сотрудники!$D$3:$D$40=\"Менеджер\")*(Сотрудники!$G$3:$G$40=\"\"),ROW($E$1:$E$37)),ROW(E8))),\"\")","v":""},null,null,{"$f":"IFERROR(INDEX(Сотрудники!$A$3:$A$40,SMALL(IF(Сотрудники!$H$3:$H$40=TRUE,ROW($E$1:$E$37)),ROW(E9))),\"\")","v":"Иванов И."},{"$f":"IFERROR(IF(VLOOKUP(S9,KPI!I:R,10,FALSE)<1,$K$3+VLOOKUP(S9,KPI!I:L,4,FALSE),IF(VLOOKUP(S9,KPI!I:R,10,FALSE)=1,Расчеты!$L$3+VLOOKUP(S9,KPI!I:L,4,FALSE),IF(VLOOKUP(S9,KPI!I:R,10,FALSE)>1,Расчеты!$M$3*'pivot table'!$AQ$4+VLOOKUP(S9,KPI!I:L,4,FALSE),\"\"))),\"\")","v":18000}]
[{"$f":"IFERROR(INDEX(Сотрудники!$A$3:$A$40,SMALL(IF((Сотрудники!$C$3:$C$40=\"др\")*(Сотрудники!$G$3:$G$40=\"\"),ROW($E$1:$E$37)),ROW(E8))),\"\")","v":""},{"$f":"IFERROR(TEXT(VLOOKUP(A10,Сотрудники!A:C,2,FALSE),\"ДД МММ\"),\"\")","v":""},null,null,null,null,null,null,null,null,null,null,null,null,{"$f":"IFERROR(INDEX(Сотрудники!$A$3:$A$40,SMALL(IF((Сотрудники!$D$3:$D$40=\"Мастер\")*(Сотрудники!$G$3:$G$40=\"\"),ROW($E$1:$E$37)),ROW(E9))),\"\")","v":""},{"$f":"IFERROR(INDEX(Сотрудники!$A$3:$A$40,SMALL(IF((Сотрудники!$D$3:$D$40=\"Менеджер\")*(Сотрудники!$G$3:$G$40=\"\"),ROW($E$1:$E$37)),ROW(E9))),\"\")","v":""},null,null,{"$f":"IFERROR(INDEX(Сотрудники!$A$3:$A$40,SMALL(IF(Сотрудники!$H$3:$H$40=TRUE,ROW($E$1:$E$37)),ROW(E10))),\"\")","v":"Мишин М."},{"$f":"IFERROR(IF(VLOOKUP(S10,KPI!I:R,10,FALSE)<1,$K$3+VLOOKUP(S10,KPI!I:L,4,FALSE),IF(VLOOKUP(S10,KPI!I:R,10,FALSE)=1,Расчеты!$L$3+VLOOKUP(S10,KPI!I:L,4,FALSE),IF(VLOOKUP(S10,KPI!I:R,10,FALSE)>1,Расчеты!$M$3*'pivot table'!$AQ$4+VLOOKUP(S10,KPI!I:L,4,FALSE),\"\"))),\"\")","v":18000}]
[null,null,null,null,null,null,null,null,null,null,null,null,null,null,{"$f":"IFERROR(INDEX(Сотрудники!$A$3:$A$40,SMALL(IF((Сотрудники!$D$3:$D$40=\"Мастер\")*(Сотрудники!$G$3:$G$40=\"\"),ROW($E$1:$E$37)),ROW(E10))),\"\")","v":""},{"$f":"IFERROR(INDEX(Сотрудники!$A$3:$A$40,SMALL(IF((Сотрудники!$D$3:$D$40=\"Менеджер\")*(Сотрудники!$G$3:$G$40=\"\"),ROW($E$1:$E$37)),ROW(E10))),\"\")","v":""},null,null,{"$f":"IFERROR(INDEX(Сотрудники!$A$3:$A$40,SMALL(IF(Сотрудники!$H$3:$H$40=TRUE,ROW($E$1:$E$37)),ROW(E11))),\"\")","v":"Петров В."},{"$f":"IFERROR(IF(VLOOKUP(S11,KPI!I:R,10,FALSE)<1,$K$3+VLOOKUP(S11,KPI!I:L,4,FALSE),IF(VLOOKUP(S11,KPI!I:R,10,FALSE)=1,Расчеты!$L$3+VLOOKUP(S11,KPI!I:L,4,FALSE),IF(VLOOKUP(S11,KPI!I:R,10,FALSE)>1,Расчеты!$M$3*'pivot table'!$AQ$4+VLOOKUP(S11,KPI!I:L,4,FALSE),\"\"))),\"\")","v":18000}]
[null,null,null,null,null,null,null,null,null,null,null,null,null,null,{"$f":"IFERROR(INDEX(Сотрудники!$A$3:$A$40,SMALL(IF((Сотрудники!$D$3:$D$40=\"Мастер\")*(Сотрудники!$G$3:$G$40=\"\"),ROW($E$1:$E$37)),ROW(E11))),\"\")","v":""},{"$f":"IFERROR(INDEX(Сотрудники!$A$3:$A$40,SMALL(IF((Сотрудники!$D$3:$D$40=\"Менеджер\")*(Сотрудники!$G$3:$G$40=\"\"),ROW($E$1:$E$37)),ROW(E11))),\"\")","v":""},null,null,{"$f":"IFERROR(INDEX(Сотрудники!$A$3:$A$40,SMALL(IF(Сотрудники!$H$3:$H$40=TRUE,ROW($E$1:$E$37)),ROW(E12))),\"\")","v":""},{"$f":"IFERROR(IF(VLOOKUP(S12,KPI!I:R,10,FALSE)<1,$K$3+VLOOKUP(S12,KPI!I:L,4,FALSE),IF(VLOOKUP(S12,KPI!I:R,10,FALSE)=1,Расчеты!$L$3+VLOOKUP(S12,KPI!I:L,4,FALSE),IF(VLOOKUP(S12,KPI!I:R,10,FALSE)>1,Расчеты!$M$3*'pivot table'!$AQ$4+VLOOKUP(S12,KPI!I:L,4,FALSE),\"\"))),\"\")","v":""}]
[null,null,null,null,null,null,null,null,null,null,null,null,null,null,{"$f":"IFERROR(INDEX(Сотрудники!$A$3:$A$40,SMALL(IF((Сотрудники!$D$3:$D$40=\"Мастер\")*(Сотрудники!$G$3:$G$40=\"\"),ROW($E$1:$E$37)),ROW(E12))),\"\")","v":""},{"$f":"IFERROR(INDEX(Сотрудники!$A$3:$A$40,SMALL(IF((Сотрудники!$D$3:$D$40=\"Менеджер\")*(Сотрудники!$G$3:$G$40=\"\"),ROW($E$1:$E$37)),ROW(E12))),\"\")","v":""},null,null,{"$f":"IFERROR(INDEX(Сотрудники!$A$3:$A$40,SMALL(IF(Сотрудники!$H$3:$H$40=TRUE,ROW($E$1:$E$37)),ROW(E13))),\"\")","v":""},{"$f":"IFERROR(IF(VLOOKUP(S13,KPI!I:R,10,FALSE)<1,$K$3+VLOOKUP(S13,KPI!I:L,4,FALSE),IF(VLOOKUP(S13,KPI!I:R,10,FALSE)=1,Расчеты!$L$3+VLOOKUP(S13,KPI!I:L,4,FALSE),IF(VLOOKUP(S13,KPI!I:R,10,FALSE)>1,Расчеты!$M$3*'pivot table'!$AQ$4+VLOOKUP(S13,KPI!I:L,4,FALSE),\"\"))),\"\")","v":""}]
[null,null,null,null,null,null,null,null,null,null,null,null,null,null,{"$f":"IFERROR(INDEX(Сотрудники!$A$3:$A$40,SMALL(IF((Сотрудники!$D$3:$D$40=\"Мастер\")*(Сотрудники!$G$3:$G$40=\"\"),ROW($E$1:$E$37)),ROW(E13))),\"\")","v":""},{"$f":"IFERROR(INDEX(Сотрудники!$A$3:$A$40,SMALL(IF((Сотрудники!$D$3:$D$40=\"Менеджер\")*(Сотрудники!$G$3:$G$40=\"\"),ROW($E$1:$E$37)),ROW(E13))),\"\")","v":""},null,null,{"$f":"IFERROR(INDEX(Сотрудники!$A$3:$A$40,SMALL(IF(Сотрудники!$H$3:$H$40=TRUE,ROW($E$1:$E$37)),ROW(E14))),\"\")","v":""},{"$f":"IFERROR(IF(VLOOKUP(S14,KPI!I:R,10,FALSE)<1,$K$3+VLOOKUP(S14,KPI!I:L,4,FALSE),IF(VLOOKUP(S14,KPI!I:R,10,FALSE)=1,Расчеты!$L$3+VLOOKUP(S14,KPI!I:L,4,FALSE),IF(VLOOKUP(S14,KPI!I:R,10,FALSE)>1,Расчеты!$M$3*'pivot table'!$AQ$4+VLOOKUP(S14,KPI!I:L,4,FALSE),\"\"))),\"\")","v":""}]
[null,null,null,null,null,null,null,null,null,null,null,null,null,null,{"$f":"IFERROR(INDEX(Сотрудники!$A$3:$A$40,SMALL(IF((Сотрудники!$D$3:$D$40=\"Мастер\")*(Сотрудники!$G$3:$G$40=\"\"),ROW($E$1:$E$37)),ROW(E14))),\"\")","v":""},{"$f":"IFERROR(INDEX(Сотрудники!$A$3:$A$40,SMALL(IF((Сотрудники!$D$3:$D$40=\"Менеджер\")*(Сотрудники!$G$3:$G$40=\"\"),ROW($E$1:$E$37)),ROW(E14))),\"\")","v":""},null,null,{"$f":"IFERROR(INDEX(Сотрудники!$A$3:$A$40,SMALL(IF(Сотрудники!$H$3:$H$40=TRUE,ROW($E$1:$E$37)),ROW(E15))),\"\")","v":""},{"$f":"IFERROR(IF(VLOOKUP(S15,KPI!I:R,10,FALSE)<1,$K$3+VLOOKUP(S15,KPI!I:L,4,FALSE),IF(VLOOKUP(S15,KPI!I:R,10,FALSE)=1,Расчеты!$L$3+VLOOKUP(S15,KPI!I:L,4,FALSE),IF(VLOOKUP(S15,KPI!I:R,10,FALSE)>1,Расчеты!$M$3*'pivot table'!$AQ$4+VLOOKUP(S15,KPI!I:L,4,FALSE),\"\"))),\"\")","v":""}]
[null,null,null,null,null,null,null,null,null,null,null,null,null,null,{"$f":"IFERROR(INDEX(Сотрудники!$A$3:$A$40,SMALL(IF((Сотрудники!$D$3:$D$40=\"Мастер\")*(Сотрудники!$G$3:$G$40=\"\"),ROW($E$1:$E$37)),ROW(E15))),\"\")","v":""},{"$f":"IFERROR(INDEX(Сотрудники!$A$3:$A$40,SMALL(IF((Сотрудники!$D$3:$D$40=\"Менеджер\")*(Сотрудники!$G$3:$G$40=\"\"),ROW($E$1:$E$37)),ROW(E15))),\"\")","v":""},null,null,{"$f":"IFERROR(INDEX(Сотрудники!$A$3:$A$40,SMALL(IF(Сотрудники!$H$3:$H$40=TRUE,ROW($E$1:$E$37)),ROW(E16))),\"\")","v":""},{"$f":"IFERROR(IF(VLOOKUP(S16,KPI!I:R,10,FALSE)<1,$K$3+VLOOKUP(S16,KPI!I:L,4,FALSE),IF(VLOOKUP(S16,KPI!I:R,10,FALSE)=1,Расчеты!$L$3+VLOOKUP(S16,KPI!I:L,4,FALSE),IF(VLOOKUP(S16,KPI!I:R,10,FALSE)>1,Расчеты!$M$3*'pivot table'!$AQ$4+VLOOKUP(S16,KPI!I:L,4,FALSE),\"\"))),\"\")","v":""}]
[null,null,null,null,null,null,null,null,null,null,null,null,null,null,{"$f":"IFERROR(INDEX(Сотрудники!$A$3:$A$40,SMALL(IF((Сотрудники!$D$3:$D$40=\"Мастер\")*(Сотрудники!$G$3:$G$40=\"\"),ROW($E$1:$E$37)),ROW(E16))),\"\")","v":""},{"$f":"IFERROR(INDEX(Сотрудники!$A$3:$A$40,SMALL(IF((Сотрудники!$D$3:$D$40=\"Менеджер\")*(Сотрудники!$G$3:$G$40=\"\"),ROW($E$1:$E$37)),ROW(E16))),\"\")","v":""},null,null,{"$f":"IFERROR(INDEX(Сотрудники!$A$3:$A$40,SMALL(IF(Сотрудники!$H$3:$H$40=TRUE,ROW($E$1:$E$37)),ROW(E17))),\"\")","v":""},{"$f":"IFERROR(IF(VLOOKUP(S17,KPI!I:R,10,FALSE)<1,$K$3+VLOOKUP(S17,KPI!I:L,4,FALSE),IF(VLOOKUP(S17,KPI!I:R,10,FALSE)=1,Расчеты!$L$3+VLOOKUP(S17,KPI!I:L,4,FALSE),IF(VLOOKUP(S17,KPI!I:R,10,FALSE)>1,Расчеты!$M$3*'pivot table'!$AQ$4+VLOOKUP(S17,KPI!I:L,4,FALSE),\"\"))),\"\")","v":""}]
[null,null,null,null,null,null,null,null,null,null,null,null,null,null,{"$f":"IFERROR(INDEX(Сотрудники!$A$3:$A$40,SMALL(IF((Сотрудники!$D$3:$D$40=\"Мастер\")*(Сотрудники!$G$3:$G$40=\"\"),ROW($E$1:$E$37)),ROW(E17))),\"\")","v":""},{"$f":"IFERROR(INDEX(Сотрудники!$A$3:$A$40,SMALL(IF((Сотрудники!$D$3:$D$40=\"Менеджер\")*(Сотрудники!$G$3:$G$40=\"\"),ROW($E$1:$E$37)),ROW(E17))),\"\")","v":""},null,null,{"$f":"IFERROR(INDEX(Сотрудники!$A$3:$A$40,SMALL(IF(Сотрудники!$H$3:$H$40=TRUE,ROW($E$1:$E$37)),ROW(E18))),\"\")","v":""},{"$f":"IFERROR(IF(VLOOKUP(S18,KPI!I:R,10,FALSE)<1,$K$3+VLOOKUP(S18,KPI!I:L,4,FALSE),IF(VLOOKUP(S18,KPI!I:R,10,FALSE)=1,Расчеты!$L$3+VLOOKUP(S18,KPI!I:L,4,FALSE),IF(VLOOKUP(S18,KPI!I:R,10,FALSE)>1,Расчеты!$M$3*'pivot table'!$AQ$4+VLOOKUP(S18,KPI!I:L,4,FALSE),\"\"))),\"\")","v":""}]
[null,null,null,null,null,null,null,null,null,null,null,null,null,null,{"$f":"IFERROR(INDEX(Сотрудники!$A$3:$A$40,SMALL(IF((Сотрудники!$D$3:$D$40=\"Мастер\")*(Сотрудники!$G$3:$G$40=\"\"),ROW($E$1:$E$37)),ROW(E18))),\"\")","v":""},{"$f":"IFERROR(INDEX(Сотрудники!$A$3:$A$40,SMALL(IF((Сотрудники!$D$3:$D$40=\"Менеджер\")*(Сотрудники!$G$3:$G$40=\"\"),ROW($E$1:$E$37)),ROW(E18))),\"\")","v":""},null,null,{"$f":"IFERROR(INDEX(Сотрудники!$A$3:$A$40,SMALL(IF(Сотрудники!$H$3:$H$40=TRUE,ROW($E$1:$E$37)),ROW(E19))),\"\")","v":""},{"$f":"IFERROR(IF(VLOOKUP(S19,KPI!I:R,10,FALSE)<1,$K$3+VLOOKUP(S19,KPI!I:L,4,FALSE),IF(VLOOKUP(S19,KPI!I:R,10,FALSE)=1,Расчеты!$L$3+VLOOKUP(S19,KPI!I:L,4,FALSE),IF(VLOOKUP(S19,KPI!I:R,10,FALSE)>1,Расчеты!$M$3*'pivot table'!$AQ$4+VLOOKUP(S19,KPI!I:L,4,FALSE),\"\"))),\"\")","v":""}]
[null,null,null,null,null,null,null,null,null,null,null,null,null,null,{"$f":"IFERROR(INDEX(Сотрудники!$A$3:$A$40,SMALL(IF((Сотрудники!$D$3:$D$40=\"Мастер\")*(Сотрудники!$G$3:$G$40=\"\"),ROW($E$1:$E$37)),ROW(E19))),\"\")","v":""},{"$f":"IFERROR(INDEX(Сотрудники!$A$3:$A$40,SMALL(IF((Сотрудники!$D$3:$D$40=\"Менеджер\")*(Сотрудники!$G$3:$G$40=\"\"),ROW($E$1:$E$37)),ROW(E19))),\"\")","v":""},null,null,{"$f":"IFERROR(INDEX(Сотрудники!$A$3:$A$40,SMALL(IF(Сотрудники!$H$3:$H$40=TRUE,ROW($E$1:$E$37)),ROW(E20))),\"\")","v":""},{"$f":"IFERROR(IF(VLOOKUP(S20,KPI!I:R,10,FALSE)<1,$K$3+VLOOKUP(S20,KPI!I:L,4,FALSE),IF(VLOOKUP(S20,KPI!I:R,10,FALSE)=1,Расчеты!$L$3+VLOOKUP(S20,KPI!I:L,4,FALSE),IF(VLOOKUP(S20,KPI!I:R,10,FALSE)>1,Расчеты!$M$3*'pivot table'!$AQ$4+VLOOKUP(S20,KPI!I:L,4,FALSE),\"\"))),\"\")","v":""}]
[null,null,null,null,null,null,null,null,null,null,null,null,null,null,{"$f":"IFERROR(INDEX(Сотрудники!$A$3:$A$40,SMALL(IF((Сотрудники!$D$3:$D$40=\"Мастер\")*(Сотрудники!$G$3:$G$40=\"\"),ROW($E$1:$E$37)),ROW(E20))),\"\")","v":""},{"$f":"IFERROR(INDEX(Сотрудники!$A$3:$A$40,SMALL(IF((Сотрудники!$D$3:$D$40=\"Менеджер\")*(Сотрудники!$G$3:$G$40=\"\"),ROW($E$1:$E$37)),ROW(E20))),\"\")","v":""},null,null,{"$f":"IFERROR(INDEX(Сотрудники!$A$3:$A$40,SMALL(IF(Сотрудники!$H$3:$H$40=TRUE,ROW($E$1:$E$37)),ROW(E21))),\"\")","v":""},{"$f":"IFERROR(IF(VLOOKUP(S21,KPI!I:R,10,FALSE)<1,$K$3+VLOOKUP(S21,KPI!I:L,4,FALSE),IF(VLOOKUP(S21,KPI!I:R,10,FALSE)=1,Расчеты!$L$3+VLOOKUP(S21,KPI!I:L,4,FALSE),IF(VLOOKUP(S21,KPI!I:R,10,FALSE)>1,Расчеты!$M$3*'pivot table'!$AQ$4+VLOOKUP(S21,KPI!I:L,4,FALSE),\"\"))),\"\")","v":""}]
[null,null,null,null,null,null,null,null,null,null,null,null,null,null,{"$f":"IFERROR(INDEX(Сотрудники!$A$3:$A$40,SMALL(IF((Сотрудники!$D$3:$D$40=\"Мастер\")*(Сотрудники!$G$3:$G$40=\"\"),ROW($E$1:$E$37)),ROW(E21))),\"\")","v":""},{"$f":"IFERROR(INDEX(Сотрудники!$A$3:$A$40,SMALL(IF((Сотрудники!$D$3:$D$40=\"Менеджер\")*(Сотрудники!$G$3:$G$40=\"\"),ROW($E$1:$E$37)),ROW(E21))),\"\")","v":""},null,null,{"$f":"IFERROR(INDEX(Сотрудники!$A$3:$A$40,SMALL(IF(Сотрудники!$H$3:$H$40=TRUE,ROW($E$1:$E$37)),ROW(E22))),\"\")","v":""},{"$f":"IFERROR(IF(VLOOKUP(S22,KPI!I:R,10,FALSE)<1,$K$3+VLOOKUP(S22,KPI!I:L,4,FALSE),IF(VLOOKUP(S22,KPI!I:R,10,FALSE)=1,Расчеты!$L$3+VLOOKUP(S22,KPI!I:L,4,FALSE),IF(VLOOKUP(S22,KPI!I:R,10,FALSE)>1,Расчеты!$M$3*'pivot table'!$AQ$4+VLOOKUP(S22,KPI!I:L,4,FALSE),\"\"))),\"\")","v":""}]
[null,null,null,null,null,null,null,null,null,null,null,null,null,null,{"$f":"IFERROR(INDEX(Сотрудники!$A$3:$A$40,SMALL(IF((Сотрудники!$D$3:$D$40=\"Мастер\")*(Сотрудники!$G$3:$G$40=\"\"),ROW($E$1:$E$37)),ROW(E22))),\"\")","v":""},{"$f":"IFERROR(INDEX(Сотрудники!$A$3:$A$40,SMALL(IF((Сотрудники!$D$3:$D$40=\"Менеджер\")*(Сотрудники!$G$3:$G$40=\"\"),ROW($E$1:$E$37)),ROW(E22))),\"\")","v":""},null,null,{"$f":"IFERROR(INDEX(Сотрудники!$A$3:$A$40,SMALL(IF(Сотрудники!$H$3:$H$40=TRUE,ROW($E$1:$E$37)),ROW(E23))),\"\")","v":""},{"$f":"IFERROR(IF(VLOOKUP(S23,KPI!I:R,10,FALSE)<1,$K$3+VLOOKUP(S23,KPI!I:L,4,FALSE),IF(VLOOKUP(S23,KPI!I:R,10,FALSE)=1,Расчеты!$L$3+VLOOKUP(S23,KPI!I:L,4,FALSE),IF(VLOOKUP(S23,KPI!I:R,10,FALSE)>1,Расчеты!$M$3*'pivot table'!$AQ$4+VLOOKUP(S23,KPI!I:L,4,FALSE),\"\"))),\"\")","v":""}]
[null,null,null,null,null,null,null,null,null,null,null,null,null,null,{"$f":"IFERROR(INDEX(Сотрудники!$A$3:$A$40,SMALL(IF((Сотрудники!$D$3:$D$40=\"Мастер\")*(Сотрудники!$G$3:$G$40=\"\"),ROW($E$1:$E$37)),ROW(E23))),\"\")","v":""},{"$f":"IFERROR(INDEX(Сотрудники!$A$3:$A$40,SMALL(IF((Сотрудники!$D$3:$D$40=\"Менеджер\")*(Сотрудники!$G$3:$G$40=\"\"),ROW($E$1:$E$37)),ROW(E23))),\"\")","v":""},null,null,{"$f":"IFERROR(INDEX(Сотрудники!$A$3:$A$40,SMALL(IF(Сотрудники!$H$3:$H$40=TRUE,ROW($E$1:$E$37)),ROW(E24))),\"\")","v":""},{"$f":"IFERROR(IF(VLOOKUP(S24,KPI!I:R,10,FALSE)<1,$K$3+VLOOKUP(S24,KPI!I:L,4,FALSE),IF(VLOOKUP(S24,KPI!I:R,10,FALSE)=1,Расчеты!$L$3+VLOOKUP(S24,KPI!I:L,4,FALSE),IF(VLOOKUP(S24,KPI!I:R,10,FALSE)>1,Расчеты!$M$3*'pivot table'!$AQ$4+VLOOKUP(S24,KPI!I:L,4,FALSE),\"\"))),\"\")","v":""}]
[null,null,null,null,null,null,null,null,null,null,null,null,null,null,{"$f":"IFERROR(INDEX(Сотрудники!$A$3:$A$40,SMALL(IF((Сотрудники!$D$3:$D$40=\"Мастер\")*(Сотрудники!$G$3:$G$40=\"\"),ROW($E$1:$E$37)),ROW(E24))),\"\")","v":""},{"$f":"IFERROR(INDEX(Сотрудники!$A$3:$A$40,SMALL(IF((Сотрудники!$D$3:$D$40=\"Менеджер\")*(Сотрудники!$G$3:$G$40=\"\"),ROW($E$1:$E$37)),ROW(E24))),\"\")","v":""},null,null,{"$f":"IFERROR(INDEX(Сотрудники!$A$3:$A$40,SMALL(IF(Сотрудники!$H$3:$H$40=TRUE,ROW($E$1:$E$37)),ROW(E25))),\"\")","v":""},{"$f":"IFERROR(IF(VLOOKUP(S25,KPI!I:R,10,FALSE)<1,$K$3+VLOOKUP(S25,KPI!I:L,4,FALSE),IF(VLOOKUP(S25,KPI!I:R,10,FALSE)=1,Расчеты!$L$3+VLOOKUP(S25,KPI!I:L,4,FALSE),IF(VLOOKUP(S25,KPI!I:R,10,FALSE)>1,Расчеты!$M$3*'pivot table'!$AQ$4+VLOOKUP(S25,KPI!I:L,4,FALSE),\"\"))),\"\")","v":""}]
[null,null,null,null,null,null,null,null,null,null,null,null,null,null,{"$f":"IFERROR(INDEX(Сотрудники!$A$3:$A$40,SMALL(IF((Сотрудники!$D$3:$D$40=\"Мастер\")*(Сотрудники!$G$3:$G$40=\"\"),ROW($E$1:$E$37)),ROW(E25))),\"\")","v":""},{"$f":"IFERROR(INDEX(Сотрудники!$A$3:$A$40,SMALL(IF((Сотрудники!$D$3:$D$40=\"Менеджер\")*(Сотрудники!$G$3:$G$40=\"\"),ROW($E$1:$E$37)),ROW(E25))),\"\")","v":""},null,null,{"$f":"IFERROR(INDEX(Сотрудники!$A$3:$A$40,SMALL(IF(Сотрудники!$H$3:$H$40=TRUE,ROW($E$1:$E$37)),ROW(E26))),\"\")","v":""},{"$f":"IFERROR(IF(VLOOKUP(S26,KPI!I:R,10,FALSE)<1,$K$3+VLOOKUP(S26,KPI!I:L,4,FALSE),IF(VLOOKUP(S26,KPI!I:R,10,FALSE)=1,Расчеты!$L$3+VLOOKUP(S26,KPI!I:L,4,FALSE),IF(VLOOKUP(S26,KPI!I:R,10,FALSE)>1,Расчеты!$M$3*'pivot table'!$AQ$4+VLOOKUP(S26,KPI!I:L,4,FALSE),\"\"))),\"\")","v":""}]